{"text_format":"3","workbook":"xlsx","n_sheets":5,"sheets":["Original","2012WardPop","2006WardPop","2012-2006Pop","WorkingCopy"],"not_rendered":{"defined_names":2},"read":"whole","date_system":"1900"}

{"sheet":"Original","index":0,"n_rows":1565,"n_cols":7,"rows_kept":1565}
["Offence","Actual","Year","Ward"]
["Theft $5000 and Under",571,2011,"Orleans"]
["Theft $5000 and Under",444,2012,"Orleans"]
["Mischief",230,2012,"Orleans"]
["Mischief",229,2011,"Orleans"]
["Fraud",118,2012,"Orleans"]
["Fraud",96,2011,"Orleans"]
["Assault (Incl. Sexual Assaults)",112,2012,"Orleans"]
["Failure to Stop or Remain",65,2012,"Orleans"]
["Break and Enter",57,2012,"Orleans"]
["Impaired Operation of Vehicle",44,2012,"Orleans"]
["Assault (Incl. Sexual Assaults)",84,2011,"Orleans"]
["Break and Enter",79,2011,"Orleans"]
["Failure to Stop or Remain",75,2011,"Orleans"]
["Theft - Motor Vehicle",54,2011,"Orleans"]
["Cannabis",48,2011,"Orleans"]
["Theft - Motor Vehicle",42,2012,"Orleans"]
["Other Offences",36,2011,"Orleans",null,null," "]
["Robbery",29,2011,"Orleans"]
["Cannabis",33,2012,"Orleans"]
["Robbery",28,2012,"Orleans"]
["Impaired Operation of Vehicle",27,2011,"Orleans"]
["Other Offences",26,2012,"Orleans"]
["Other Criminal Code Offences",19,2012,"Orleans"]
["Bail Violations",20,2011,"Orleans"]
["Bail Violations",16,2012,"Orleans"]
["Uttering Threats or Intimidation",14,2011,"Orleans"]
["Uttering Threats or Intimidation",15,2012,"Orleans"]
["Theft Over $5000",12,2012,"Orleans"]
["Arson",7,2012,"Orleans"]
["Possession of Stolen Goods",14,2011,"Orleans"]
["Other Criminal Code Offences",14,2011,"Orleans"]
["Theft Over $5000",10,2011,"Orleans"]
["Arson",8,2011,"Orleans"]
["Offensive Weapons",7,2011,"Orleans"]
["Possession of Stolen Goods",6,2012,"Orleans"]
["Dangerous Operation of Motor Vehicle",6,2012,"Orleans"]
["Threats via the Internet",6,2011,"Orleans"]
["Offensive Weapons",4,2012,"Orleans"]
["Other Sexual Offences",4,2011,"Orleans"]
["Threats via the Internet",4,2012,"Orleans"]
["Driving Motor Vehicle While Prohibited",4,2012,"Orleans"]
["Breach Probation",4,2011,"Orleans"]
["Driving Motor Vehicle While Prohibited",3,2011,"Orleans"]
["Other Sexual Offences",2,2012,"Orleans"]
["Other Controlled Drugs and Substances",2,2011,"Orleans"]
["Abduction",2,2012,"Orleans"]
["Homicide (Incidents)",1,2011,"Orleans"]
["Counterfeiting Currency",2,2012,"Orleans"]
["Breach Probation",2,2012,"Orleans"]
["Abduction",1,2011,"Orleans"]
["Other Controlled Drugs and Substances",2,2012,"Orleans"]
["Prostitution",1,2012,"Orleans"]
["Dangerous Operation of Motor Vehicle",1,2011,"Orleans"]
["Ecstasy (Methylenedioxyamphetamine )",1,2011,"Orleans"]
["Attempted Murder",0,2011,"Orleans"]
["Counterfeiting Currency",0,2011,"Orleans"]
["Prostitution",0,2011,"Orleans"]
["Other Criminal Code Offences",0,2011,"Orleans"]
["Crystal Meth (Methamphetamine)",0,2011,"Orleans"]
["Heroin",0,2011,"Orleans"]
["Cocaine",0,2011,"Orleans"]
["Cocaine",1,2012,"Orleans"]
["Theft $5000 and Under",339,2011,"Innes"]
["Homicide (Incidents)",0,2012,"Orleans"]
["Attempted Murder",0,2012,"Orleans"]
["Other Criminal Code Offences",0,2012,"Orleans"]
["Ecstasy (Methylenedioxyamphetamine )",0,2012,"Orleans"]
["Crystal Meth (Methamphetamine)",0,2012,"Orleans"]
["Heroin",0,2012,"Orleans"]
["Theft $5000 and Under",339,2012,"Innes"]
["Mischief",184,2012,"Innes"]
["Mischief",180,2011,"Innes"]
["Other Criminal Code Offences",115,2011,"Innes"]
["Other Criminal Code Offences",106,2012,"Innes"]
["Assault (Incl. Sexual Assaults)",98,2012,"Innes"]
["Fraud",81,2012,"Innes"]
["Break and Enter",71,2012,"Innes"]
["Failure to Stop or Remain",52,2012,"Innes"]
["Theft - Motor Vehicle",38,2012,"Innes"]
["Fraud",98,2011,"Innes"]
["Assault (Incl. Sexual Assaults)",95,2011,"Innes"]
["Cannabis",32,2012,"Innes"]
["Other Offences",27,2012,"Innes"]
["Break and Enter",76,2011,"Innes"]
["Failure to Stop or Remain",51,2011,"Innes"]
["Impaired Operation of Vehicle",21,2012,"Innes"]
["Uttering Threats or Intimidation",18,2012,"Innes"]
["Bail Violations",18,2012,"Innes"]
["Robbery",17,2012,"Innes"]
["Cannabis",37,2011,"Innes"]
["Impaired Operation of Vehicle",28,2011,"Innes"]
["Other Offences",27,2011,"Innes"]
["Theft - Motor Vehicle",24,2011,"Innes"]
["Arson",7,2012,"Innes"]
["Theft Over $5000",6,2012,"Innes"]
["Bail Violations",16,2011,"Innes"]
["Dangerous Operation of Motor Vehicle",5,2012,"Innes"]
["Robbery",13,2011,"Innes"]
["Cocaine",4,2012,"Innes"]
["Uttering Threats or Intimidation",10,2011,"Innes"]
["Offensive Weapons",3,2012,"Innes"]
["Arson",8,2011,"Innes"]
["Counterfeiting Currency",3,2012,"Innes"]
["Theft Over $5000",6,2011,"Innes"]
["Driving Motor Vehicle While Prohibited",3,2012,"Innes"]
["Counterfeiting Currency",6,2011,"Innes"]
["Threats via the Internet",5,2011,"Innes"]
["Other Controlled Drugs and Substances",3,2012,"Innes"]
["Abduction",2,2012,"Innes"]
["Possession of Stolen Goods",2,2012,"Innes"]
["Offensive Weapons",4,2011,"Innes"]
["Cocaine",3,2011,"Innes"]
["Threats via the Internet",2,2012,"Innes"]
["Driving Motor Vehicle While Prohibited",2,2011,"Innes"]
["Other Sexual Offences",1,2011,"Innes"]
["Abduction",1,2011,"Innes"]
["Breach Probation",1,2011,"Innes"]
["Homicide (Incidents)",1,2012,"Innes"]
["Dangerous Operation of Motor Vehicle",1,2011,"Innes"]
["Homicide (Incidents)",0,2011,"Innes"]
["Attempted Murder",0,2011,"Innes"]
["Possession of Stolen Goods",0,2011,"Innes"]
["Other Sexual Offences",1,2012,"Innes"]
["Prostitution",0,2011,"Innes"]
["Ecstasy (Methylenedioxyamphetamine )",1,2012,"Innes"]
["Attempted Murder",0,2012,"Innes"]
["Other Criminal Code Offences",0,2011,"Innes"]
["Breach Probation",0,2012,"Innes"]
["Prostitution",0,2012,"Innes"]
["Other Criminal Code Offences",0,2012,"Innes"]
["Crystal Meth (Methamphetamine)",0,2012,"Innes"]
["Heroin",0,2012,"Innes"]
["Theft $5000 and Under",376,2012,"Barrhaven"]
["Mischief",206,2012,"Barrhaven"]
["Ecstasy (Methylenedioxyamphetamine )",0,2011,"Innes"]
["Crystal Meth (Methamphetamine)",0,2011,"Innes"]
["Heroin",0,2011,"Innes"]
["Fraud",97,2012,"Barrhaven"]
["Break and Enter",78,2012,"Barrhaven"]
["Other Controlled Drugs and Substances",0,2011,"Innes"]
["Assault (Incl. Sexual Assaults)",67,2012,"Barrhaven"]
["Theft $5000 and Under",322,2011,"Barrhaven"]
["Mischief",193,2011,"Barrhaven"]
["Break and Enter",74,2011,"Barrhaven"]
["Fraud",71,2011,"Barrhaven"]
["Assault (Incl. Sexual Assaults)",67,2011,"Barrhaven"]
["Failure to Stop or Remain",40,2012,"Barrhaven"]
["Cannabis",34,2012,"Barrhaven"]
["Bail Violations",29,2012,"Barrhaven"]
["Cannabis",36,2011,"Barrhaven"]
["Robbery",24,2012,"Barrhaven"]
["Theft - Motor Vehicle",22,2012,"Barrhaven"]
["Failure to Stop or Remain",34,2011,"Barrhaven"]
["Impaired Operation of Vehicle",20,2012,"Barrhaven"]
["Theft - Motor Vehicle",22,2011,"Barrhaven"]
["Other Offences",18,2012,"Barrhaven"]
["Uttering Threats or Intimidation",12,2012,"Barrhaven"]
["Other Criminal Code Offences",11,2012,"Barrhaven"]
["Robbery",20,2011,"Barrhaven"]
["Other Offences",20,2011,"Barrhaven"]
["Impaired Operation of Vehicle",20,2011,"Barrhaven"]
["Other Criminal Code Offences",17,2011,"Barrhaven"]
["Theft Over $5000",9,2012,"Barrhaven"]
["Uttering Threats or Intimidation",12,2011,"Barrhaven"]
["Bail Violations",12,2011,"Barrhaven"]
["Arson",4,2012,"Barrhaven"]
["Abduction",3,2012,"Barrhaven"]
["Threats via the Internet",7,2011,"Barrhaven"]
["Possession of Stolen Goods",5,2011,"Barrhaven"]
["Arson",5,2011,"Barrhaven"]
["Cocaine",3,2012,"Barrhaven"]
["Offensive Weapons",5,2011,"Barrhaven"]
["Possession of Stolen Goods",2,2012,"Barrhaven"]
["Theft Over $5000",4,2011,"Barrhaven"]
["Breach Probation",2,2012,"Barrhaven"]
["Other Controlled Drugs and Substances",2,2012,"Barrhaven"]
["Other Sexual Offences",2,2011,"Barrhaven"]
["Dangerous Operation of Motor Vehicle",2,2011,"Barrhaven"]
["Homicide (Incidents)",1,2011,"Barrhaven"]
["Abduction",1,2011,"Barrhaven"]
["Homicide (Incidents)",1,2012,"Barrhaven"]
["Offensive Weapons",1,2012,"Barrhaven"]
["Counterfeiting Currency",1,2011,"Barrhaven"]
["Driving Motor Vehicle While Prohibited",1,2011,"Barrhaven"]
["Cocaine",1,2011,"Barrhaven"]
["Attempted Murder",0,2011,"Barrhaven"]
["Counterfeiting Currency",1,2012,"Barrhaven"]
["Breach Probation",0,2011,"Barrhaven"]
["Prostitution",0,2011,"Barrhaven"]
["Dangerous Operation of Motor Vehicle",1,2012,"Barrhaven"]
["Attempted Murder",0,2012,"Barrhaven"]
["Other Sexual Offences",0,2012,"Barrhaven"]
["Other Criminal Code Offences",0,2011,"Barrhaven"]
["Threats via the Internet",0,2012,"Barrhaven"]
["Prostitution",0,2012,"Barrhaven"]
["Ecstasy (Methylenedioxyamphetamine )",0,2011,"Barrhaven"]
["Driving Motor Vehicle While Prohibited",0,2012,"Barrhaven"]
["Other Criminal Code Offences",0,2012,"Barrhaven"]
["Ecstasy (Methylenedioxyamphetamine )",0,2012,"Barrhaven"]
["Crystal Meth (Methamphetamine)",0,2012,"Barrhaven"]
["Crystal Meth (Methamphetamine)",0,2011,"Barrhaven"]
["Heroin",0,2011,"Barrhaven"]
["Heroin",0,2012,"Barrhaven"]
["Theft $5000 and Under",347,2012,"Kanata North"]
["Other Controlled Drugs and Substances",0,2011,"Barrhaven"]
["Mischief",153,2012,"Kanata North"]
["Break and Enter",79,2012,"Kanata North"]
["Fraud",78,2012,"Kanata North"]
["Theft $5000 and Under",293,2011,"Kanata North"]
["Failure to Stop or Remain",68,2012,"Kanata North"]
["Assault (Incl. Sexual Assaults)",54,2012,"Kanata North"]
["Mischief",156,2011,"Kanata North"]
["Assault (Incl. Sexual Assaults)",65,2011,"Kanata North"]
["Cannabis",23,2012,"Kanata North"]
["Theft - Motor Vehicle",20,2012,"Kanata North"]
["Fraud",65,2011,"Kanata North"]
["Impaired Operation of Vehicle",20,2012,"Kanata North"]
["Failure to Stop or Remain",65,2011,"Kanata North"]
["Break and Enter",49,2011,"Kanata North"]
["Cannabis",31,2011,"Kanata North"]
["Impaired Operation of Vehicle",20,2011,"Kanata North"]
["Other Offences",12,2012,"Kanata North"]
["Other Offences",15,2011,"Kanata North"]
["Bail Violations",12,2012,"Kanata North"]
["Uttering Threats or Intimidation",14,2011,"Kanata North"]
["Theft - Motor Vehicle",13,2011,"Kanata North"]
["Other Criminal Code Offences",13,2011,"Kanata North"]
["Robbery",11,2011,"Kanata North"]
["Uttering Threats or Intimidation",11,2012,"Kanata North"]
["Other Criminal Code Offences",11,2012,"Kanata North"]
["Theft Over $5000",4,2012,"Kanata North"]
["Counterfeiting Currency",4,2012,"Kanata North"]
["Threats via the Internet",4,2012,"Kanata North"]
["Robbery",3,2012,"Kanata North"]
["Dangerous Operation of Motor Vehicle",3,2012,"Kanata North"]
["Bail Violations",8,2011,"Kanata North"]
["Arson",5,2011,"Kanata North"]
["Theft Over $5000",4,2011,"Kanata North"]
["Offensive Weapons",4,2011,"Kanata North"]
["Possession of Stolen Goods",3,2011,"Kanata North"]
["Driving Motor Vehicle While Prohibited",3,2011,"Kanata North"]
["Cocaine",3,2012,"Kanata North"]
["Other Sexual Offences",2,2011,"Kanata North"]
["Breach Probation",2,2011,"Kanata North"]
["Other Sexual Offences",1,2012,"Kanata North"]
["Counterfeiting Currency",1,2011,"Kanata North"]
["Dangerous Operation of Motor Vehicle",1,2011,"Kanata North"]
["Ecstasy (Methylenedioxyamphetamine )",1,2011,"Kanata North"]
["Cocaine",1,2011,"Kanata North"]
["Homicide (Incidents)",0,2011,"Kanata North"]
["Attempted Murder",0,2011,"Kanata North"]
["Possession of Stolen Goods",1,2012,"Kanata North"]
["Abduction",0,2011,"Kanata North"]
["Arson",1,2012,"Kanata North"]
["Breach Probation",1,2012,"Kanata North"]
["Threats via the Internet",0,2011,"Kanata North"]
["Prostitution",0,2011,"Kanata North"]
["Other Controlled Drugs and Substances",1,2012,"Kanata North"]
["Other Criminal Code Offences",0,2011,"Kanata North"]
["Crystal Meth (Methamphetamine)",0,2011,"Kanata North"]
["Homicide (Incidents)",0,2012,"Kanata North"]
["Attempted Murder",0,2012,"Kanata North"]
["Heroin",0,2011,"Kanata North"]
["Other Controlled Drugs and Substances",0,2011,"Kanata North"]
["Mischief",96,2011,"West Carleton-March"]
["Abduction",0,2012,"Kanata North"]
["Offensive Weapons",0,2012,"Kanata North"]
["Prostitution",0,2012,"Kanata North"]
["Driving Motor Vehicle While Prohibited",0,2012,"Kanata North"]
["Other Criminal Code Offences",0,2012,"Kanata North"]
["Ecstasy (Methylenedioxyamphetamine )",0,2012,"Kanata North"]
["Theft $5000 and Under",88,2011,"West Carleton-March"]
["Crystal Meth (Methamphetamine)",0,2012,"Kanata North"]
["Heroin",0,2012,"Kanata North"]
["Theft $5000 and Under",84,2012,"West Carleton-March"]
["Mischief",61,2012,"West Carleton-March"]
["Break and Enter",58,2012,"West Carleton-March"]
["Break and Enter",55,2011,"West Carleton-March"]
["Fraud",37,2011,"West Carleton-March"]
["Theft - Motor Vehicle",33,2012,"West Carleton-March"]
["Fraud",32,2012,"West Carleton-March"]
["Assault (Incl. Sexual Assaults)",31,2012,"West Carleton-March"]
["Cannabis",17,2012,"West Carleton-March"]
["Assault (Incl. Sexual Assaults)",21,2011,"West Carleton-March"]
["Theft - Motor Vehicle",14,2011,"West Carleton-March"]
["Cannabis",13,2011,"West Carleton-March"]
["Other Offences",10,2011,"West Carleton-March"]
["Other Criminal Code Offences",9,2011,"West Carleton-March"]
["Impaired Operation of Vehicle",8,2011,"West Carleton-March"]
["Uttering Threats or Intimidation",4,2011,"West Carleton-March"]
["Impaired Operation of Vehicle",14,2012,"West Carleton-March"]
["Arson",3,2011,"West Carleton-March"]
["Offensive Weapons",3,2011,"West Carleton-March"]
["Failure to Stop or Remain",3,2011,"West Carleton-March"]
["Failure to Stop or Remain",8,2012,"West Carleton-March"]
["Other Offences",7,2012,"West Carleton-March"]
["Possession of Stolen Goods",2,2011,"West Carleton-March"]
["Threats via the Internet",2,2011,"West Carleton-March"]
["Bail Violations",7,2012,"West Carleton-March"]
["Driving Motor Vehicle While Prohibited",2,2011,"West Carleton-March"]
["Robbery",1,2011,"West Carleton-March"]
["Abduction",1,2011,"West Carleton-March"]
["Theft Over $5000",6,2012,"West Carleton-March"]
["Other Criminal Code Offences",6,2012,"West Carleton-March"]
["Offensive Weapons",5,2012,"West Carleton-March"]
["Uttering Threats or Intimidation",4,2012,"West Carleton-March"]
["Theft Over $5000",1,2011,"West Carleton-March"]
["Bail Violations",1,2011,"West Carleton-March"]
["Other Sexual Offences",2,2012,"West Carleton-March"]
["Dangerous Operation of Motor Vehicle",2,2012,"West Carleton-March"]
["Breach Probation",1,2011,"West Carleton-March"]
["Cocaine",1,2011,"West Carleton-March"]
["Homicide (Incidents)",0,2011,"West Carleton-March"]
["Driving Motor Vehicle While Prohibited",2,2012,"West Carleton-March"]
["Homicide (Incidents)",1,2012,"West Carleton-March"]
["Attempted Murder",0,2011,"West Carleton-March"]
["Other Sexual Offences",0,2011,"West Carleton-March"]
["Counterfeiting Currency",0,2011,"West Carleton-March"]
["Possession of Stolen Goods",1,2012,"West Carleton-March"]
["Prostitution",0,2011,"West Carleton-March"]
["Dangerous Operation of Motor Vehicle",0,2011,"West Carleton-March"]
["Arson",1,2012,"West Carleton-March"]
["Breach Probation",1,2012,"West Carleton-March"]
["Threats via the Internet",1,2012,"West Carleton-March"]
["Cocaine",1,2012,"West Carleton-March"]
["Other Criminal Code Offences",0,2011,"West Carleton-March"]
["Homicide (Incidents)",1,2012,"Stittsville-Kanata West"]
["Attempted Murder",0,2012,"West Carleton-March"]
["Ecstasy (Methylenedioxyamphetamine )",0,2011,"West Carleton-March"]
["Robbery",0,2012,"West Carleton-March"]
["Abduction",0,2012,"West Carleton-March"]
["Crystal Meth (Methamphetamine)",0,2011,"West Carleton-March"]
["Heroin",0,2011,"West Carleton-March"]
["Other Controlled Drugs and Substances",0,2011,"West Carleton-March"]
["Counterfeiting Currency",0,2012,"West Carleton-March"]
["Prostitution",0,2012,"West Carleton-March"]
["Homicide (Incidents)",0,2011,"Stittsville-Kanata West"]
["Theft $5000 and Under",164,2011,"Stittsville-Kanata West"]
["Other Criminal Code Offences",0,2012,"West Carleton-March"]
["Ecstasy (Methylenedioxyamphetamine )",0,2012,"West Carleton-March"]
["Crystal Meth (Methamphetamine)",0,2012,"West Carleton-March"]
["Heroin",0,2012,"West Carleton-March"]
["Other Controlled Drugs and Substances",0,2012,"West Carleton-March"]
["Theft $5000 and Under",212,2012,"Stittsville-Kanata West"]
["Mischief",125,2012,"Stittsville-Kanata West"]
["Fraud",47,2012,"Stittsville-Kanata West"]
["Mischief",161,2011,"Stittsville-Kanata West"]
["Break and Enter",45,2012,"Stittsville-Kanata West"]
["Assault (Incl. Sexual Assaults)",37,2012,"Stittsville-Kanata West"]
["Cannabis",40,2011,"Stittsville-Kanata West"]
["Failure to Stop or Remain",37,2011,"Stittsville-Kanata West"]
["Fraud",36,2011,"Stittsville-Kanata West"]
["Assault (Incl. Sexual Assaults)",34,2011,"Stittsville-Kanata West"]
["Break and Enter",30,2011,"Stittsville-Kanata West"]
["Theft - Motor Vehicle",17,2011,"Stittsville-Kanata West"]
["Failure to Stop or Remain",37,2012,"Stittsville-Kanata West"]
["Cannabis",24,2012,"Stittsville-Kanata West"]
["Other Offences",15,2011,"Stittsville-Kanata West"]
["Bail Violations",15,2011,"Stittsville-Kanata West"]
["Robbery",10,2011,"Stittsville-Kanata West"]
["Theft - Motor Vehicle",21,2012,"Stittsville-Kanata West"]
["Impaired Operation of Vehicle",9,2011,"Stittsville-Kanata West"]
["Arson",7,2011,"Stittsville-Kanata West"]
["Other Criminal Code Offences",6,2011,"Stittsville-Kanata West"]
["Other Criminal Code Offences",16,2012,"Stittsville-Kanata West"]
["Other Offences",12,2012,"Stittsville-Kanata West"]
["Bail Violations",12,2012,"Stittsville-Kanata West"]
["Impaired Operation of Vehicle",10,2012,"Stittsville-Kanata West"]
["Uttering Threats or Intimidation",5,2012,"Stittsville-Kanata West"]
["Arson",5,2012,"Stittsville-Kanata West"]
["Theft Over $5000",4,2011,"Stittsville-Kanata West"]
["Dangerous Operation of Motor Vehicle",5,2012,"Stittsville-Kanata West"]
["Possession of Stolen Goods",4,2012,"Stittsville-Kanata West"]
["Abduction",2,2011,"Stittsville-Kanata West"]
["Offensive Weapons",2,2011,"Stittsville-Kanata West"]
["Other Sexual Offences",1,2011,"Stittsville-Kanata West"]
["Possession of Stolen Goods",1,2011,"Stittsville-Kanata West"]
["Counterfeiting Currency",1,2011,"Stittsville-Kanata West"]
["Threats via the Internet",1,2011,"Stittsville-Kanata West"]
["Dangerous Operation of Motor Vehicle",1,2011,"Stittsville-Kanata West"]
["Offensive Weapons",4,2012,"Stittsville-Kanata West"]
["Threats via the Internet",4,2012,"Stittsville-Kanata West"]
["Robbery",3,2012,"Stittsville-Kanata West"]
["Abduction",1,2012,"Stittsville-Kanata West"]
["Cocaine",1,2011,"Stittsville-Kanata West"]
["Other Controlled Drugs and Substances",1,2011,"Stittsville-Kanata West"]
["Attempted Murder",0,2011,"Stittsville-Kanata West"]
["Uttering Threats or Intimidation",0,2011,"Stittsville-Kanata West"]
["Theft Over $5000",1,2012,"Stittsville-Kanata West"]
["Counterfeiting Currency",1,2012,"Stittsville-Kanata West"]
["Attempted Murder",0,2012,"Stittsville-Kanata West"]
["Other Sexual Offences",0,2012,"Stittsville-Kanata West"]
["Breach Probation",0,2012,"Stittsville-Kanata West"]
["Breach Probation",0,2011,"Stittsville-Kanata West"]
["Prostitution",0,2011,"Stittsville-Kanata West"]
["Driving Motor Vehicle While Prohibited",0,2011,"Stittsville-Kanata West"]
["Other Criminal Code Offences",0,2011,"Stittsville-Kanata West"]
["Prostitution",0,2012,"Stittsville-Kanata West"]
["Driving Motor Vehicle While Prohibited",0,2012,"Stittsville-Kanata West"]
["Other Criminal Code Offences",0,2012,"Stittsville-Kanata West"]
["Ecstasy (Methylenedioxyamphetamine )",0,2012,"Stittsville-Kanata West"]
["Crystal Meth (Methamphetamine)",0,2012,"Stittsville-Kanata West"]
["Heroin",0,2012,"Stittsville-Kanata West"]
["Ecstasy (Methylenedioxyamphetamine )",0,2011,"Stittsville-Kanata West"]
["Crystal Meth (Methamphetamine)",0,2011,"Stittsville-Kanata West"]
["Heroin",0,2011,"Stittsville-Kanata West"]
["Theft $5000 and Under",832,2011,"Bay"]
["Mischief",195,2011,"Bay"]
["Cocaine",0,2012,"Stittsville-Kanata West"]
["Other Controlled Drugs and Substances",0,2012,"Stittsville-Kanata West"]
["Theft $5000 and Under",965,2012,"Bay"]
["Assault (Incl. Sexual Assaults)",157,2011,"Bay"]
["Fraud",143,2011,"Bay"]
["Break and Enter",138,2011,"Bay"]
["Failure to Stop or Remain",115,2011,"Bay"]
["Theft - Motor Vehicle",67,2011,"Bay"]
["Robbery",53,2011,"Bay"]
["Mischief",231,2012,"Bay"]
["Fraud",181,2012,"Bay"]
["Assault (Incl. Sexual Assaults)",140,2012,"Bay"]
["Failure to Stop or Remain",117,2012,"Bay"]
["Break and Enter",111,2012,"Bay"]
["Cannabis",50,2011,"Bay"]
["Cannabis",54,2012,"Bay"]
["Theft - Motor Vehicle",43,2012,"Bay"]
["Other Criminal Code Offences",41,2012,"Bay"]
["Robbery",37,2012,"Bay"]
["Other Criminal Code Offences",44,2011,"Bay"]
["Other Offences",40,2011,"Bay"]
["Bail Violations",30,2011,"Bay"]
["Other Offences",37,2012,"Bay"]
["Bail Violations",35,2012,"Bay"]
["Impaired Operation of Vehicle",30,2012,"Bay"]
["Uttering Threats or Intimidation",21,2012,"Bay"]
["Theft Over $5000",18,2012,"Bay"]
["Arson",14,2012,"Bay"]
["Counterfeiting Currency",14,2012,"Bay"]
["Impaired Operation of Vehicle",25,2011,"Bay"]
["Uttering Threats or Intimidation",20,2011,"Bay"]
["Possession of Stolen Goods",17,2011,"Bay"]
["Cocaine",14,2012,"Bay"]
["Possession of Stolen Goods",9,2012,"Bay"]
["Breach Probation",9,2012,"Bay"]
["Offensive Weapons",8,2012,"Bay"]
["Threats via the Internet",8,2012,"Bay"]
["Driving Motor Vehicle While Prohibited",6,2012,"Bay"]
["Offensive Weapons",14,2011,"Bay"]
["Breach Probation",11,2011,"Bay"]
["Theft Over $5000",9,2011,"Bay"]
["Cocaine",9,2011,"Bay"]
["Dangerous Operation of Motor Vehicle",8,2011,"Bay"]
["Counterfeiting Currency",6,2011,"Bay"]
["Abduction",5,2012,"Bay"]
["Dangerous Operation of Motor Vehicle",5,2012,"Bay"]
["Other Criminal Code Offences",2,2012,"Bay"]
["Homicide (Incidents)",1,2012,"Bay"]
["Driving Motor Vehicle While Prohibited",4,2011,"Bay"]
["Other Sexual Offences",3,2011,"Bay"]
["Abduction",3,2011,"Bay"]
["Other Sexual Offences",1,2012,"Bay"]
["Other Controlled Drugs and Substances",1,2012,"Bay"]
["Threats via the Internet",2,2011,"Bay"]
["Other Controlled Drugs and Substances",2,2011,"Bay"]
["Attempted Murder",0,2012,"Bay"]
["Prostitution",0,2012,"Bay"]
["Ecstasy (Methylenedioxyamphetamine )",0,2012,"Bay"]
["Crystal Meth (Methamphetamine)",0,2012,"Bay"]
["Heroin",0,2012,"Bay"]
["Arson",1,2011,"Bay"]
["Homicide (Incidents)",0,2011,"Bay"]
["Attempted Murder",0,2011,"Bay"]
["Prostitution",0,2011,"Bay"]
["Theft $5000 and Under",757,2012,"College"]
["Mischief",306,2012,"College"]
["Break and Enter",176,2012,"College"]
["Other Criminal Code Offences",0,2011,"Bay"]
["Ecstasy (Methylenedioxyamphetamine )",0,2011,"Bay"]
["Crystal Meth (Methamphetamine)",0,2011,"Bay"]
["Heroin",0,2011,"Bay"]
["Fraud",166,2012,"College"]
["Assault (Incl. Sexual Assaults)",149,2012,"College"]
["Failure to Stop or Remain",128,2012,"College"]
["Theft $5000 and Under",802,2011,"College"]
["Mischief",350,2011,"College"]
["Assault (Incl. Sexual Assaults)",187,2011,"College"]
["Break and Enter",172,2011,"College"]
["Cannabis",53,2012,"College"]
["Theft - Motor Vehicle",51,2012,"College"]
["Impaired Operation of Vehicle",44,2012,"College"]
["Other Criminal Code Offences",40,2012,"College"]
["Other Offences",36,2012,"College"]
["Uttering Threats or Intimidation",31,2012,"College"]
["Fraud",165,2011,"College"]
["Failure to Stop or Remain",132,2011,"College"]
["Cannabis",81,2011,"College"]
["Theft - Motor Vehicle",63,2011,"College"]
["Impaired Operation of Vehicle",51,2011,"College"]
["Robbery",48,2011,"College"]
["Other Criminal Code Offences",40,2011,"College"]
["Other Offences",36,2011,"College"]
["Bail Violations",28,2012,"College"]
["Robbery",27,2012,"College"]
["Arson",17,2012,"College"]
["Bail Violations",34,2011,"College"]
["Offensive Weapons",14,2012,"College"]
["Theft Over $5000",13,2012,"College"]
["Possession of Stolen Goods",9,2012,"College"]
["Uttering Threats or Intimidation",23,2011,"College"]
["Breach Probation",14,2011,"College"]
["Offensive Weapons",13,2011,"College"]
["Arson",12,2011,"College"]
["Breach Probation",9,2012,"College"]
["Threats via the Internet",9,2012,"College"]
["Cocaine",9,2012,"College"]
["Abduction",8,2012,"College"]
["Possession of Stolen Goods",11,2011,"College"]
["Driving Motor Vehicle While Prohibited",9,2011,"College"]
["Theft Over $5000",8,2011,"College"]
["Other Controlled Drugs and Substances",3,2012,"College"]
["Counterfeiting Currency",2,2012,"College"]
["Driving Motor Vehicle While Prohibited",2,2012,"College"]
["Other Sexual Offences",1,2012,"College"]
["Dangerous Operation of Motor Vehicle",1,2012,"College"]
["Heroin",1,2012,"College"]
["Homicide (Incidents)",0,2012,"College"]
["Attempted Murder",0,2012,"College"]
["Threats via the Internet",7,2011,"College"]
["Cocaine",7,2011,"College"]
["Dangerous Operation of Motor Vehicle",6,2011,"College"]
["Counterfeiting Currency",5,2011,"College"]
["Other Controlled Drugs and Substances",4,2011,"College"]
["Other Sexual Offences",3,2011,"College"]
["Abduction",2,2011,"College"]
["Other Criminal Code Offences",1,2011,"College"]
["Homicide (Incidents)",0,2011,"College"]
["Attempted Murder",0,2011,"College"]
["Prostitution",0,2011,"College"]
["Prostitution",0,2012,"College"]
["Other Criminal Code Offences",0,2012,"College"]
["Ecstasy (Methylenedioxyamphetamine )",0,2012,"College"]
["Crystal Meth (Methamphetamine)",0,2012,"College"]
["Theft $5000 and Under",599,2012,"Knoxdale-Merivale"]
["Mischief",195,2012,"Knoxdale-Merivale"]
["Ecstasy (Methylenedioxyamphetamine )",0,2011,"College"]
["Crystal Meth (Methamphetamine)",0,2011,"College"]
["Heroin",0,2011,"College"]
["Theft $5000 and Under",642,2011,"Knoxdale-Merivale"]
["Fraud",129,2012,"Knoxdale-Merivale"]
["Failure to Stop or Remain",101,2012,"Knoxdale-Merivale"]
["Break and Enter",100,2012,"Knoxdale-Merivale"]
["Assault (Incl. Sexual Assaults)",75,2012,"Knoxdale-Merivale"]
["Theft - Motor Vehicle",64,2012,"Knoxdale-Merivale"]
["Mischief",299,2011,"Knoxdale-Merivale"]
["Fraud",136,2011,"Knoxdale-Merivale"]
["Failure to Stop or Remain",120,2011,"Knoxdale-Merivale"]
["Other Offences",36,2012,"Knoxdale-Merivale"]
["Impaired Operation of Vehicle",34,2012,"Knoxdale-Merivale"]
["Bail Violations",31,2012,"Knoxdale-Merivale"]
["Cannabis",31,2012,"Knoxdale-Merivale"]
["Other Criminal Code Offences",25,2012,"Knoxdale-Merivale"]
["Robbery",23,2012,"Knoxdale-Merivale"]
["Theft Over $5000",17,2012,"Knoxdale-Merivale"]
["Uttering Threats or Intimidation",13,2012,"Knoxdale-Merivale"]
["Possession of Stolen Goods",10,2012,"Knoxdale-Merivale"]
["Assault (Incl. Sexual Assaults)",105,2011,"Knoxdale-Merivale"]
["Break and Enter",102,2011,"Knoxdale-Merivale"]
["Theft - Motor Vehicle",56,2011,"Knoxdale-Merivale"]
["Cannabis",41,2011,"Knoxdale-Merivale"]
["Impaired Operation of Vehicle",39,2011,"Knoxdale-Merivale"]
["Other Offences",34,2011,"Knoxdale-Merivale"]
["Other Criminal Code Offences",31,2011,"Knoxdale-Merivale"]
["Bail Violations",30,2011,"Knoxdale-Merivale"]
["Cocaine",7,2012,"Knoxdale-Merivale"]
["Offensive Weapons",6,2012,"Knoxdale-Merivale"]
["Dangerous Operation of Motor Vehicle",5,2012,"Knoxdale-Merivale"]
["Counterfeiting Currency",3,2012,"Knoxdale-Merivale"]
["Breach Probation",3,2012,"Knoxdale-Merivale"]
["Threats via the Internet",3,2012,"Knoxdale-Merivale"]
["Robbery",22,2011,"Knoxdale-Merivale"]
["Theft Over $5000",12,2011,"Knoxdale-Merivale"]
["Possession of Stolen Goods",12,2011,"Knoxdale-Merivale"]
["Uttering Threats or Intimidation",11,2011,"Knoxdale-Merivale"]
["Driving Motor Vehicle While Prohibited",3,2012,"Knoxdale-Merivale"]
["Other Sexual Offences",2,2012,"Knoxdale-Merivale"]
["Abduction",2,2012,"Knoxdale-Merivale"]
["Arson",2,2012,"Knoxdale-Merivale"]
["Other Controlled Drugs and Substances",2,2012,"Knoxdale-Merivale"]
["Homicide (Incidents)",1,2012,"Knoxdale-Merivale"]
["Attempted Murder",0,2012,"Knoxdale-Merivale"]
["Offensive Weapons",8,2011,"Knoxdale-Merivale"]
["Dangerous Operation of Motor Vehicle",7,2011,"Knoxdale-Merivale"]
["Breach Probation",6,2011,"Knoxdale-Merivale"]
["Abduction",4,2011,"Knoxdale-Merivale"]
["Arson",3,2011,"Knoxdale-Merivale"]
["Threats via the Internet",3,2011,"Knoxdale-Merivale"]
["Driving Motor Vehicle While Prohibited",2,2011,"Knoxdale-Merivale"]
["Other Criminal Code Offences",2,2011,"Knoxdale-Merivale"]
["Cocaine",2,2011,"Knoxdale-Merivale"]
["Homicide (Incidents)",1,2011,"Knoxdale-Merivale"]
["Attempted Murder",1,2011,"Knoxdale-Merivale"]
["Prostitution",1,2011,"Knoxdale-Merivale"]
["Prostitution",0,2012,"Knoxdale-Merivale"]
["Other Criminal Code Offences",0,2012,"Knoxdale-Merivale"]
["Ecstasy (Methylenedioxyamphetamine )",0,2012,"Knoxdale-Merivale"]
["Other Sexual Offences",0,2011,"Knoxdale-Merivale"]
["Counterfeiting Currency",0,2011,"Knoxdale-Merivale"]
["Ecstasy (Methylenedioxyamphetamine )",0,2011,"Knoxdale-Merivale"]
["Crystal Meth (Methamphetamine)",0,2011,"Knoxdale-Merivale"]
["Heroin",0,2011,"Knoxdale-Merivale"]
["Other Controlled Drugs and Substances",0,2011,"Knoxdale-Merivale"]
["Theft $5000 and Under",558,2011,"Gloucester-Southgage"]
["Mischief",275,2011,"Gloucester-Southgage"]
["Assault (Incl. Sexual Assaults)",157,2011,"Gloucester-Southgage"]
["Fraud",153,2011,"Gloucester-Southgage"]
["Break and Enter",123,2011,"Gloucester-Southgage"]
["Failure to Stop or Remain",103,2011,"Gloucester-Southgage"]
["Theft - Motor Vehicle",85,2011,"Gloucester-Southgage"]
["Robbery",60,2011,"Gloucester-Southgage"]
["Crystal Meth (Methamphetamine)",0,2012,"Knoxdale-Merivale"]
["Heroin",0,2012,"Knoxdale-Merivale"]
["Theft $5000 and Under",594,2012,"Gloucester-Southgage"]
["Mischief",249,2012,"Gloucester-Southgage"]
["Fraud",189,2012,"Gloucester-Southgage"]
["Assault (Incl. Sexual Assaults)",148,2012,"Gloucester-Southgage"]
["Failure to Stop or Remain",110,2012,"Gloucester-Southgage"]
["Theft - Motor Vehicle",99,2012,"Gloucester-Southgage"]
["Break and Enter",96,2012,"Gloucester-Southgage"]
["Bail Violations",61,2012,"Gloucester-Southgage"]
["Other Criminal Code Offences",47,2012,"Gloucester-Southgage"]
["Robbery",45,2012,"Gloucester-Southgage"]
["Other Offences",44,2012,"Gloucester-Southgage"]
["Bail Violations",60,2011,"Gloucester-Southgage"]
["Cannabis",50,2011,"Gloucester-Southgage"]
["Other Offences",46,2011,"Gloucester-Southgage"]
["Other Criminal Code Offences",45,2011,"Gloucester-Southgage"]
["Impaired Operation of Vehicle",38,2011,"Gloucester-Southgage"]
["Uttering Threats or Intimidation",25,2011,"Gloucester-Southgage"]
["Offensive Weapons",17,2011,"Gloucester-Southgage"]
["Theft Over $5000",14,2011,"Gloucester-Southgage"]
["Cannabis",44,2012,"Gloucester-Southgage"]
["Impaired Operation of Vehicle",31,2012,"Gloucester-Southgage"]
["Offensive Weapons",30,2012,"Gloucester-Southgage"]
["Uttering Threats or Intimidation",25,2012,"Gloucester-Southgage"]
["Breach Probation",12,2012,"Gloucester-Southgage"]
["Possession of Stolen Goods",10,2012,"Gloucester-Southgage"]
["Possession of Stolen Goods",13,2011,"Gloucester-Southgage"]
["Breach Probation",12,2011,"Gloucester-Southgage"]
["Arson",8,2011,"Gloucester-Southgage"]
["Dangerous Operation of Motor Vehicle",8,2011,"Gloucester-Southgage"]
["Cocaine",7,2011,"Gloucester-Southgage"]
["Threats via the Internet",6,2011,"Gloucester-Southgage"]
["Abduction",5,2011,"Gloucester-Southgage"]
["Other Sexual Offences",4,2011,"Gloucester-Southgage"]
["Other Controlled Drugs and Substances",4,2011,"Gloucester-Southgage"]
["Counterfeiting Currency",2,2011,"Gloucester-Southgage"]
["Driving Motor Vehicle While Prohibited",9,2012,"Gloucester-Southgage"]
["Cocaine",9,2012,"Gloucester-Southgage"]
["Arson",8,2012,"Gloucester-Southgage"]
["Abduction",7,2012,"Gloucester-Southgage"]
["Dangerous Operation of Motor Vehicle",7,2012,"Gloucester-Southgage"]
["Theft Over $5000",6,2012,"Gloucester-Southgage"]
["Threats via the Internet",6,2012,"Gloucester-Southgage"]
["Other Sexual Offences",3,2012,"Gloucester-Southgage"]
["Counterfeiting Currency",1,2012,"Gloucester-Southgage"]
["Other Controlled Drugs and Substances",1,2012,"Gloucester-Southgage"]
["Driving Motor Vehicle While Prohibited",2,2011,"Gloucester-Southgage"]
["Other Criminal Code Offences",2,2011,"Gloucester-Southgage"]
["Homicide (Incidents)",0,2011,"Gloucester-Southgage"]
["Attempted Murder",0,2011,"Gloucester-Southgage"]
["Prostitution",0,2011,"Gloucester-Southgage"]
["Ecstasy (Methylenedioxyamphetamine )",0,2011,"Gloucester-Southgage"]
["Crystal Meth (Methamphetamine)",0,2011,"Gloucester-Southgage"]
["Heroin",0,2011,"Gloucester-Southgage"]
["Theft $5000 and Under",588,2011,"Beacon Hill-Cyrville"]
["Mischief",239,2011,"Beacon Hill-Cyrville"]
["Homicide (Incidents)",0,2012,"Gloucester-Southgage"]
["Attempted Murder",0,2012,"Gloucester-Southgage"]
["Prostitution",0,2012,"Gloucester-Southgage"]
["Other Criminal Code Offences",0,2012,"Gloucester-Southgage"]
["Ecstasy (Methylenedioxyamphetamine )",0,2012,"Gloucester-Southgage"]
["Crystal Meth (Methamphetamine)",0,2012,"Gloucester-Southgage"]
["Heroin",0,2012,"Gloucester-Southgage"]
["Fraud",127,2011,"Beacon Hill-Cyrville"]
["Assault (Incl. Sexual Assaults)",120,2011,"Beacon Hill-Cyrville"]
["Break and Enter",104,2011,"Beacon Hill-Cyrville"]
["Failure to Stop or Remain",88,2011,"Beacon Hill-Cyrville"]
["Theft - Motor Vehicle",84,2011,"Beacon Hill-Cyrville"]
["Other Offences",42,2011,"Beacon Hill-Cyrville"]
["Cannabis",32,2011,"Beacon Hill-Cyrville"]
["Other Criminal Code Offences",28,2011,"Beacon Hill-Cyrville"]
["Impaired Operation of Vehicle",24,2011,"Beacon Hill-Cyrville"]
["Theft $5000 and Under",659,2012,"Beacon Hill-Cyrville"]
["Mischief",230,2012,"Beacon Hill-Cyrville"]
["Assault (Incl. Sexual Assaults)",139,2012,"Beacon Hill-Cyrville"]
["Fraud",130,2012,"Beacon Hill-Cyrville"]
["Failure to Stop or Remain",101,2012,"Beacon Hill-Cyrville"]
["Theft - Motor Vehicle",96,2012,"Beacon Hill-Cyrville"]
["Break and Enter",94,2012,"Beacon Hill-Cyrville"]
["Robbery",39,2012,"Beacon Hill-Cyrville"]
["Bail Violations",21,2011,"Beacon Hill-Cyrville"]
["Robbery",18,2011,"Beacon Hill-Cyrville"]
["Uttering Threats or Intimidation",15,2011,"Beacon Hill-Cyrville"]
["Theft Over $5000",15,2011,"Beacon Hill-Cyrville"]
["Possession of Stolen Goods",15,2011,"Beacon Hill-Cyrville"]
["Cocaine",8,2011,"Beacon Hill-Cyrville"]
["Other Sexual Offences",7,2011,"Beacon Hill-Cyrville"]
["Arson",6,2011,"Beacon Hill-Cyrville"]
["Breach Probation",6,2011,"Beacon Hill-Cyrville"]
["Bail Violations",38,2012,"Beacon Hill-Cyrville"]
["Cannabis",36,2012,"Beacon Hill-Cyrville"]
["Impaired Operation of Vehicle",32,2012,"Beacon Hill-Cyrville"]
["Other Criminal Code Offences",30,2012,"Beacon Hill-Cyrville"]
["Uttering Threats or Intimidation",21,2012,"Beacon Hill-Cyrville"]
["Other Offences",20,2012,"Beacon Hill-Cyrville"]
["Theft Over $5000",14,2012,"Beacon Hill-Cyrville"]
["Possession of Stolen Goods",11,2012,"Beacon Hill-Cyrville"]
["Arson",7,2012,"Beacon Hill-Cyrville"]
["Threats via the Internet",7,2012,"Beacon Hill-Cyrville"]
["Offensive Weapons",6,2012,"Beacon Hill-Cyrville"]
["Abduction",5,2012,"Beacon Hill-Cyrville"]
["Counterfeiting Currency",5,2012,"Beacon Hill-Cyrville"]
["Dangerous Operation of Motor Vehicle",5,2012,"Beacon Hill-Cyrville"]
["Breach Probation",4,2012,"Beacon Hill-Cyrville"]
["Driving Motor Vehicle While Prohibited",4,2012,"Beacon Hill-Cyrville"]
["Other Sexual Offences",3,2012,"Beacon Hill-Cyrville"]
["Cocaine",2,2012,"Beacon Hill-Cyrville"]
["Other Criminal Code Offences",1,2012,"Beacon Hill-Cyrville"]
["Threats via the Internet",4,2011,"Beacon Hill-Cyrville"]
["Driving Motor Vehicle While Prohibited",4,2011,"Beacon Hill-Cyrville"]
["Abduction",3,2011,"Beacon Hill-Cyrville"]
["Offensive Weapons",3,2011,"Beacon Hill-Cyrville"]
["Counterfeiting Currency",3,2011,"Beacon Hill-Cyrville"]
["Dangerous Operation of Motor Vehicle",3,2011,"Beacon Hill-Cyrville"]
["Homicide (Incidents)",1,2011,"Beacon Hill-Cyrville"]
["Other Controlled Drugs and Substances",1,2011,"Beacon Hill-Cyrville"]
["Attempted Murder",0,2011,"Beacon Hill-Cyrville"]
["Prostitution",0,2011,"Beacon Hill-Cyrville"]
["Other Criminal Code Offences",0,2011,"Beacon Hill-Cyrville"]
["Ecstasy (Methylenedioxyamphetamine )",0,2011,"Beacon Hill-Cyrville"]
["Crystal Meth (Methamphetamine)",0,2011,"Beacon Hill-Cyrville"]
["Heroin",0,2011,"Beacon Hill-Cyrville"]
["Theft $5000 and Under",{"v":2488,"d":"2,488"},2011,"Rideau-Vanier"]
["Mischief",722,2011,"Rideau-Vanier"]
["Assault (Incl. Sexual Assaults)",658,2011,"Rideau-Vanier"]
["Break and Enter",356,2011,"Rideau-Vanier"]
["Fraud",281,2011,"Rideau-Vanier"]
["Crystal Meth (Methamphetamine)",1,2012,"Beacon Hill-Cyrville"]
["Homicide (Incidents)",0,2012,"Beacon Hill-Cyrville"]
["Attempted Murder",0,2012,"Beacon Hill-Cyrville"]
["Prostitution",0,2012,"Beacon Hill-Cyrville"]
["Ecstasy (Methylenedioxyamphetamine )",0,2012,"Beacon Hill-Cyrville"]
["Heroin",0,2012,"Beacon Hill-Cyrville"]
["Other Controlled Drugs and Substances",0,2012,"Beacon Hill-Cyrville"]
["Theft $5000 and Under",{"v":2328,"d":"2,328"},2012,"Rideau-Vanier"]
["Assault (Incl. Sexual Assaults)",682,2012,"Rideau-Vanier"]
["Mischief",648,2012,"Rideau-Vanier"]
["Fraud",330,2012,"Rideau-Vanier"]
["Bail Violations",309,2012,"Rideau-Vanier"]
["Break and Enter",266,2012,"Rideau-Vanier"]
["Other Criminal Code Offences",269,2011,"Rideau-Vanier"]
["Bail Violations",268,2011,"Rideau-Vanier"]
["Cocaine",202,2011,"Rideau-Vanier"]
["Cannabis",200,2011,"Rideau-Vanier"]
["Robbery",137,2011,"Rideau-Vanier"]
["Failure to Stop or Remain",118,2011,"Rideau-Vanier"]
["Breach Probation",80,2011,"Rideau-Vanier"]
["Theft - Motor Vehicle",79,2011,"Rideau-Vanier"]
["Impaired Operation of Vehicle",76,2011,"Rideau-Vanier"]
["Other Offences",72,2011,"Rideau-Vanier"]
["Possession of Stolen Goods",56,2011,"Rideau-Vanier"]
["Other Controlled Drugs and Substances",56,2011,"Rideau-Vanier"]
["Uttering Threats or Intimidation",52,2011,"Rideau-Vanier"]
["Offensive Weapons",42,2011,"Rideau-Vanier"]
["Theft Over $5000",35,2011,"Rideau-Vanier"]
["Abduction",14,2011,"Rideau-Vanier"]
["Prostitution",13,2011,"Rideau-Vanier"]
["Cannabis",240,2012,"Rideau-Vanier"]
["Cocaine",233,2012,"Rideau-Vanier"]
["Other Criminal Code Offences",212,2012,"Rideau-Vanier"]
["Robbery",144,2012,"Rideau-Vanier"]
["Failure to Stop or Remain",121,2012,"Rideau-Vanier"]
["Breach Probation",99,2012,"Rideau-Vanier"]
["Theft - Motor Vehicle",91,2012,"Rideau-Vanier"]
["Impaired Operation of Vehicle",79,2012,"Rideau-Vanier"]
["Other Offences",69,2012,"Rideau-Vanier"]
["Other Controlled Drugs and Substances",58,2012,"Rideau-Vanier"]
["Uttering Threats or Intimidation",57,2012,"Rideau-Vanier"]
["Prostitution",40,2012,"Rideau-Vanier"]
["Theft Over $5000",38,2012,"Rideau-Vanier"]
["Possession of Stolen Goods",36,2012,"Rideau-Vanier"]
["Offensive Weapons",32,2012,"Rideau-Vanier"]
["Dangerous Operation of Motor Vehicle",20,2012,"Rideau-Vanier"]
["Dangerous Operation of Motor Vehicle",10,2011,"Rideau-Vanier"]
["Other Sexual Offences",6,2011,"Rideau-Vanier"]
["Arson",6,2011,"Rideau-Vanier"]
["Driving Motor Vehicle While Prohibited",6,2011,"Rideau-Vanier"]
["Homicide (Incidents)",4,2011,"Rideau-Vanier"]
["Threats via the Internet",4,2011,"Rideau-Vanier"]
["Ecstasy (Methylenedioxyamphetamine )",3,2011,"Rideau-Vanier"]
["Attempted Murder",2,2011,"Rideau-Vanier"]
["Counterfeiting Currency",2,2011,"Rideau-Vanier"]
["Other Criminal Code Offences",2,2011,"Rideau-Vanier"]
["Heroin",1,2011,"Rideau-Vanier"]
["Crystal Meth (Methamphetamine)",0,2011,"Rideau-Vanier"]
["Theft $5000 and Under",845,2011,"Rideau-Rockcliffe"]
["Mischief",289,2011,"Rideau-Rockcliffe"]
["Assault (Incl. Sexual Assaults)",179,2011,"Rideau-Rockcliffe"]
["Break and Enter",165,2011,"Rideau-Rockcliffe"]
["Fraud",128,2011,"Rideau-Rockcliffe"]
["Failure to Stop or Remain",114,2011,"Rideau-Rockcliffe"]
["Theft - Motor Vehicle",76,2011,"Rideau-Rockcliffe"]
["Other Offences",53,2011,"Rideau-Rockcliffe"]
["Other Criminal Code Offences",47,2011,"Rideau-Rockcliffe"]
["Cannabis",42,2011,"Rideau-Rockcliffe"]
["Bail Violations",34,2011,"Rideau-Rockcliffe"]
["Impaired Operation of Vehicle",33,2011,"Rideau-Rockcliffe"]
["Uttering Threats or Intimidation",30,2011,"Rideau-Rockcliffe"]
["Abduction",13,2012,"Rideau-Vanier"]
["Other Sexual Offences",10,2012,"Rideau-Vanier"]
["Threats via the Internet",9,2012,"Rideau-Vanier"]
["Arson",8,2012,"Rideau-Vanier"]
["Ecstasy (Methylenedioxyamphetamine )",5,2012,"Rideau-Vanier"]
["Counterfeiting Currency",3,2012,"Rideau-Vanier"]
["Heroin",3,2012,"Rideau-Vanier"]
["Driving Motor Vehicle While Prohibited",2,2012,"Rideau-Vanier"]
["Homicide (Incidents)",1,2012,"Rideau-Vanier"]
["Other Criminal Code Offences",1,2012,"Rideau-Vanier"]
["Attempted Murder",0,2012,"Rideau-Vanier"]
["Crystal Meth (Methamphetamine)",0,2012,"Rideau-Vanier"]
["Theft $5000 and Under",853,2012,"Rideau-Rockcliffe"]
["Mischief",248,2012,"Rideau-Rockcliffe"]
["Assault (Incl. Sexual Assaults)",198,2012,"Rideau-Rockcliffe"]
["Fraud",160,2012,"Rideau-Rockcliffe"]
["Break and Enter",151,2012,"Rideau-Rockcliffe"]
["Failure to Stop or Remain",106,2012,"Rideau-Rockcliffe"]
["Robbery",22,2011,"Rideau-Rockcliffe"]
["Threats via the Internet",16,2011,"Rideau-Rockcliffe"]
["Possession of Stolen Goods",15,2011,"Rideau-Rockcliffe"]
["Theft Over $5000",14,2011,"Rideau-Rockcliffe"]
["Cocaine",14,2011,"Rideau-Rockcliffe"]
["Offensive Weapons",7,2011,"Rideau-Rockcliffe"]
["Breach Probation",6,2011,"Rideau-Rockcliffe"]
["Arson",5,2011,"Rideau-Rockcliffe"]
["Counterfeiting Currency",4,2011,"Rideau-Rockcliffe"]
["Driving Motor Vehicle While Prohibited",4,2011,"Rideau-Rockcliffe"]
["Other Controlled Drugs and Substances",4,2011,"Rideau-Rockcliffe"]
["Other Sexual Offences",3,2011,"Rideau-Rockcliffe"]
["Abduction",3,2011,"Rideau-Rockcliffe"]
["Homicide (Incidents)",1,2011,"Rideau-Rockcliffe"]
["Attempted Murder",1,2011,"Rideau-Rockcliffe"]
["Heroin",1,2011,"Rideau-Rockcliffe"]
["Prostitution",0,2011,"Rideau-Rockcliffe"]
["Dangerous Operation of Motor Vehicle",0,2011,"Rideau-Rockcliffe"]
["Other Criminal Code Offences",0,2011,"Rideau-Rockcliffe"]
["Ecstasy (Methylenedioxyamphetamine )",0,2011,"Rideau-Rockcliffe"]
["Theft - Motor Vehicle",93,2012,"Rideau-Rockcliffe"]
["Bail Violations",48,2012,"Rideau-Rockcliffe"]
["Other Criminal Code Offences",46,2012,"Rideau-Rockcliffe"]
["Cannabis",43,2012,"Rideau-Rockcliffe"]
["Other Offences",32,2012,"Rideau-Rockcliffe"]
["Robbery",27,2012,"Rideau-Rockcliffe"]
["Impaired Operation of Vehicle",26,2012,"Rideau-Rockcliffe"]
["Uttering Threats or Intimidation",25,2012,"Rideau-Rockcliffe"]
["Cocaine",19,2012,"Rideau-Rockcliffe"]
["Theft Over $5000",15,2012,"Rideau-Rockcliffe"]
["Arson",11,2012,"Rideau-Rockcliffe"]
["Possession of Stolen Goods",9,2012,"Rideau-Rockcliffe"]
["Offensive Weapons",9,2012,"Rideau-Rockcliffe"]
["Breach Probation",8,2012,"Rideau-Rockcliffe"]
["Dangerous Operation of Motor Vehicle",7,2012,"Rideau-Rockcliffe"]
["Driving Motor Vehicle While Prohibited",7,2012,"Rideau-Rockcliffe"]
["Abduction",6,2012,"Rideau-Rockcliffe"]
["Threats via the Internet",5,2012,"Rideau-Rockcliffe"]
["Other Controlled Drugs and Substances",5,2012,"Rideau-Rockcliffe"]
["Counterfeiting Currency",4,2012,"Rideau-Rockcliffe"]
["Other Sexual Offences",3,2012,"Rideau-Rockcliffe"]
["Homicide (Incidents)",1,2012,"Rideau-Rockcliffe"]
["Other Criminal Code Offences",1,2012,"Rideau-Rockcliffe"]
["Attempted Murder",0,2012,"Rideau-Rockcliffe"]
["Prostitution",0,2012,"Rideau-Rockcliffe"]
["Ecstasy (Methylenedioxyamphetamine )",0,2012,"Rideau-Rockcliffe"]
["Crystal Meth (Methamphetamine)",0,2012,"Rideau-Rockcliffe"]
["Heroin",0,2012,"Rideau-Rockcliffe"]
["Theft $5000 and Under",{"v":1441,"d":"1,441"},2012,"Somerset"]
["Other Criminal Code Offences",{"v":1156,"d":"1,156"},2012,"Somerset"]
["Bail Violations",751,2012,"Somerset"]
["Mischief",405,2012,"Somerset"]
["Assault (Incl. Sexual Assaults)",357,2012,"Somerset"]
["Crystal Meth (Methamphetamine)",0,2011,"Rideau-Rockcliffe"]
["Theft $5000 and Under",{"v":1425,"d":"1,425"},2011,"Somerset"]
["Other Criminal Code Offences",{"v":1121,"d":"1,121"},2011,"Somerset"]
["Bail Violations",842,2011,"Somerset"]
["Mischief",474,2011,"Somerset"]
["Assault (Incl. Sexual Assaults)",304,2011,"Somerset"]
["Fraud",238,2011,"Somerset"]
["Break and Enter",215,2011,"Somerset"]
["Failure to Stop or Remain",106,2011,"Somerset"]
["Theft - Motor Vehicle",70,2011,"Somerset"]
["Robbery",68,2011,"Somerset"]
["Other Offences",68,2011,"Somerset"]
["Cannabis",50,2011,"Somerset"]
["Cocaine",41,2011,"Somerset"]
["Uttering Threats or Intimidation",38,2011,"Somerset"]
["Impaired Operation of Vehicle",27,2011,"Somerset"]
["Theft Over $5000",19,2011,"Somerset"]
["Breach Probation",19,2011,"Somerset"]
["Possession of Stolen Goods",17,2011,"Somerset"]
["Arson",15,2011,"Somerset"]
["Threats via the Internet",15,2011,"Somerset"]
["Offensive Weapons",14,2011,"Somerset"]
["Abduction",11,2011,"Somerset"]
["Other Controlled Drugs and Substances",11,2011,"Somerset"]
["Counterfeiting Currency",9,2011,"Somerset"]
["Other Sexual Offences",7,2011,"Somerset"]
["Dangerous Operation of Motor Vehicle",6,2011,"Somerset"]
["Driving Motor Vehicle While Prohibited",4,2011,"Somerset"]
["Prostitution",2,2011,"Somerset"]
["Fraud",231,2012,"Somerset"]
["Break and Enter",176,2012,"Somerset"]
["Failure to Stop or Remain",97,2012,"Somerset"]
["Other Offences",64,2012,"Somerset"]
["Theft - Motor Vehicle",62,2012,"Somerset"]
["Cannabis",62,2012,"Somerset"]
["Robbery",55,2012,"Somerset"]
["Uttering Threats or Intimidation",44,2012,"Somerset"]
["Breach Probation",44,2012,"Somerset"]
["Impaired Operation of Vehicle",35,2012,"Somerset"]
["Cocaine",33,2012,"Somerset"]
["Theft Over $5000",20,2012,"Somerset"]
["Offensive Weapons",18,2012,"Somerset"]
["Other Controlled Drugs and Substances",14,2012,"Somerset"]
["Threats via the Internet",10,2012,"Somerset"]
["Possession of Stolen Goods",9,2012,"Somerset"]
["Arson",7,2012,"Somerset"]
["Other Sexual Offences",6,2012,"Somerset"]
["Abduction",6,2012,"Somerset"]
["Prostitution",5,2012,"Somerset"]
["Dangerous Operation of Motor Vehicle",5,2012,"Somerset"]
["Counterfeiting Currency",3,2012,"Somerset"]
["Ecstasy (Methylenedioxyamphetamine )",2,2012,"Somerset"]
["Driving Motor Vehicle While Prohibited",1,2012,"Somerset"]
["Other Criminal Code Offences",1,2012,"Somerset"]
["Crystal Meth (Methamphetamine)",1,2012,"Somerset"]
["Ecstasy (Methylenedioxyamphetamine )",2,2011,"Somerset"]
["Heroin",1,2011,"Somerset"]
["Homicide (Incidents)",0,2011,"Somerset"]
["Attempted Murder",0,2011,"Somerset"]
["Other Criminal Code Offences",0,2011,"Somerset"]
["Crystal Meth (Methamphetamine)",0,2011,"Somerset"]
["Theft $5000 and Under",835,2011,"Kitchissippi"]
["Mischief",229,2011,"Kitchissippi"]
["Break and Enter",152,2011,"Kitchissippi"]
["Fraud",117,2011,"Kitchissippi"]
["Assault (Incl. Sexual Assaults)",107,2011,"Kitchissippi"]
["Failure to Stop or Remain",74,2011,"Kitchissippi"]
["Theft - Motor Vehicle",54,2011,"Kitchissippi"]
["Other Criminal Code Offences",41,2011,"Kitchissippi"]
["Robbery",27,2011,"Kitchissippi"]
["Other Offences",24,2011,"Kitchissippi"]
["Bail Violations",19,2011,"Kitchissippi"]
["Cannabis",18,2011,"Kitchissippi"]
["Uttering Threats or Intimidation",17,2011,"Kitchissippi"]
["Impaired Operation of Vehicle",16,2011,"Kitchissippi"]
["Possession of Stolen Goods",12,2011,"Kitchissippi"]
["Threats via the Internet",10,2011,"Kitchissippi"]
["Theft Over $5000",8,2011,"Kitchissippi"]
["Arson",6,2011,"Kitchissippi"]
["Offensive Weapons",5,2011,"Kitchissippi"]
["Driving Motor Vehicle While Prohibited",5,2011,"Kitchissippi"]
["Cocaine",5,2011,"Kitchissippi"]
["Breach Probation",4,2011,"Kitchissippi"]
["Other Sexual Offences",3,2011,"Kitchissippi"]
["Other Controlled Drugs and Substances",2,2011,"Kitchissippi"]
["Abduction",1,2011,"Kitchissippi"]
["Counterfeiting Currency",1,2011,"Kitchissippi"]
["Dangerous Operation of Motor Vehicle",1,2011,"Kitchissippi"]
["Homicide (Incidents)",0,2011,"Kitchissippi"]
["Attempted Murder",0,2011,"Kitchissippi"]
["Prostitution",0,2011,"Kitchissippi"]
["Other Criminal Code Offences",0,2011,"Kitchissippi"]
["Ecstasy (Methylenedioxyamphetamine )",0,2011,"Kitchissippi"]
["Crystal Meth (Methamphetamine)",0,2011,"Kitchissippi"]
["Heroin",1,2012,"Somerset"]
["Homicide (Incidents)",0,2012,"Somerset"]
["Attempted Murder",0,2012,"Somerset"]
["Theft $5000 and Under",814,2012,"Kitchissippi"]
["Mischief",255,2012,"Kitchissippi"]
["Break and Enter",248,2012,"Kitchissippi"]
["Assault (Incl. Sexual Assaults)",151,2012,"Kitchissippi"]
["Fraud",128,2012,"Kitchissippi"]
["Failure to Stop or Remain",89,2012,"Kitchissippi"]
["Theft - Motor Vehicle",67,2012,"Kitchissippi"]
["Other Criminal Code Offences",37,2012,"Kitchissippi"]
["Robbery",34,2012,"Kitchissippi"]
["Other Offences",32,2012,"Kitchissippi"]
["Uttering Threats or Intimidation",21,2012,"Kitchissippi"]
["Cannabis",18,2012,"Kitchissippi"]
["Impaired Operation of Vehicle",17,2012,"Kitchissippi"]
["Bail Violations",16,2012,"Kitchissippi"]
["Theft Over $5000",11,2012,"Kitchissippi"]
["Offensive Weapons",7,2012,"Kitchissippi"]
["Cocaine",7,2012,"Kitchissippi"]
["Possession of Stolen Goods",5,2012,"Kitchissippi"]
["Arson",5,2012,"Kitchissippi"]
["Breach Probation",5,2012,"Kitchissippi"]
["Dangerous Operation of Motor Vehicle",5,2012,"Kitchissippi"]
["Other Controlled Drugs and Substances",5,2012,"Kitchissippi"]
["Threats via the Internet",4,2012,"Kitchissippi"]
["Counterfeiting Currency",3,2012,"Kitchissippi"]
["Other Sexual Offences",2,2012,"Kitchissippi"]
["Abduction",2,2012,"Kitchissippi"]
["Attempted Murder",1,2012,"Kitchissippi"]
["Prostitution",1,2012,"Kitchissippi"]
["Homicide (Incidents)",0,2012,"Kitchissippi"]
["Driving Motor Vehicle While Prohibited",0,2012,"Kitchissippi"]
["Heroin",0,2011,"Kitchissippi"]
["Theft $5000 and Under",585,2011,"River"]
["Mischief",334,2011,"River"]
["Assault (Incl. Sexual Assaults)",182,2011,"River"]
["Break and Enter",174,2011,"River"]
["Fraud",131,2011,"River"]
["Failure to Stop or Remain",76,2011,"River"]
["Robbery",49,2011,"River"]
["Theft - Motor Vehicle",49,2011,"River"]
["Other Criminal Code Offences",44,2011,"River"]
["Impaired Operation of Vehicle",42,2011,"River"]
["Other Offences",38,2011,"River"]
["Cannabis",35,2011,"River"]
["Uttering Threats or Intimidation",26,2011,"River"]
["Bail Violations",24,2011,"River"]
["Cocaine",15,2011,"River"]
["Dangerous Operation of Motor Vehicle",11,2011,"River"]
["Arson",10,2011,"River"]
["Possession of Stolen Goods",9,2011,"River"]
["Abduction",7,2011,"River"]
["Other Controlled Drugs and Substances",7,2011,"River"]
["Theft Over $5000",6,2011,"River"]
["Breach Probation",6,2011,"River"]
["Threats via the Internet",5,2011,"River"]
["Driving Motor Vehicle While Prohibited",5,2011,"River"]
["Other Sexual Offences",3,2011,"River"]
["Offensive Weapons",3,2011,"River"]
["Prostitution",3,2011,"River"]
["Counterfeiting Currency",1,2011,"River"]
["Other Criminal Code Offences",1,2011,"River"]
["Heroin",1,2011,"River"]
["Homicide (Incidents)",0,2011,"River"]
["Attempted Murder",0,2011,"River"]
["Ecstasy (Methylenedioxyamphetamine )",0,2011,"River"]
["Crystal Meth (Methamphetamine)",0,2011,"River"]
["Theft $5000 and Under",817,2011,"Capital"]
["Mischief",196,2011,"Capital"]
["Fraud",131,2011,"Capital"]
["Break and Enter",120,2011,"Capital"]
["Assault (Incl. Sexual Assaults)",112,2011,"Capital"]
["Failure to Stop or Remain",79,2011,"Capital"]
["Other Criminal Code Offences",52,2011,"Capital"]
["Other Criminal Code Offences",0,2012,"Kitchissippi"]
["Ecstasy (Methylenedioxyamphetamine )",0,2012,"Kitchissippi"]
["Crystal Meth (Methamphetamine)",0,2012,"Kitchissippi"]
["Heroin",0,2012,"Kitchissippi"]
["Theft $5000 and Under",635,2012,"River"]
["Mischief",256,2012,"River"]
["Assault (Incl. Sexual Assaults)",177,2012,"River"]
["Break and Enter",150,2012,"River"]
["Fraud",138,2012,"River"]
["Failure to Stop or Remain",79,2012,"River"]
["Theft - Motor Vehicle",74,2012,"River"]
["Impaired Operation of Vehicle",48,2012,"River"]
["Cannabis",48,2012,"River"]
["Robbery",44,2012,"River"]
["Other Offences",44,2012,"River"]
["Other Criminal Code Offences",40,2012,"River"]
["Bail Violations",33,2012,"River"]
["Uttering Threats or Intimidation",18,2012,"River"]
["Cocaine",18,2012,"River"]
["Theft Over $5000",16,2012,"River"]
["Offensive Weapons",16,2012,"River"]
["Breach Probation",15,2012,"River"]
["Arson",12,2012,"River"]
["Abduction",9,2012,"River"]
["Other Sexual Offences",6,2012,"River"]
["Prostitution",6,2012,"River"]
["Other Controlled Drugs and Substances",6,2012,"River"]
["Driving Motor Vehicle While Prohibited",5,2012,"River"]
["Possession of Stolen Goods",4,2012,"River"]
["Threats via the Internet",3,2012,"River"]
["Dangerous Operation of Motor Vehicle",3,2012,"River"]
["Attempted Murder",2,2012,"River"]
["Homicide (Incidents)",1,2012,"River"]
["Counterfeiting Currency",0,2012,"River"]
["Other Criminal Code Offences",0,2012,"River"]
["Ecstasy (Methylenedioxyamphetamine )",0,2012,"River"]
["Crystal Meth (Methamphetamine)",0,2012,"River"]
["Heroin",0,2012,"River"]
["Theft $5000 and Under",954,2012,"Capital"]
["Mischief",220,2012,"Capital"]
["Break and Enter",152,2012,"Capital"]
["Fraud",123,2012,"Capital"]
["Assault (Incl. Sexual Assaults)",114,2012,"Capital"]
["Cannabis",38,2011,"Capital"]
["Impaired Operation of Vehicle",35,2011,"Capital"]
["Bail Violations",32,2011,"Capital"]
["Other Offences",25,2011,"Capital"]
["Theft - Motor Vehicle",25,2011,"Capital"]
["Robbery",24,2011,"Capital"]
["Possession of Stolen Goods",17,2011,"Capital"]
["Uttering Threats or Intimidation",12,2011,"Capital"]
["Theft Over $5000",8,2011,"Capital"]
["Offensive Weapons",7,2011,"Capital"]
["Arson",4,2011,"Capital"]
["Counterfeiting Currency",3,2011,"Capital"]
["Breach Probation",3,2011,"Capital"]
["Threats via the Internet",3,2011,"Capital"]
["Dangerous Operation of Motor Vehicle",3,2011,"Capital"]
["Cocaine",3,2011,"Capital"]
["Other Sexual Offences",2,2011,"Capital"]
["Driving Motor Vehicle While Prohibited",2,2011,"Capital"]
["Other Controlled Drugs and Substances",2,2011,"Capital"]
["Attempted Murder",1,2011,"Capital"]
["Abduction",1,2011,"Capital"]
["Homicide (Incidents)",0,2011,"Capital"]
["Prostitution",0,2011,"Capital"]
["Other Criminal Code Offences",0,2011,"Capital"]
["Ecstasy (Methylenedioxyamphetamine )",0,2011,"Capital"]
["Crystal Meth (Methamphetamine)",0,2011,"Capital"]
["Heroin",0,2011,"Capital"]
["Theft $5000 and Under",776,2011,"Alta Vista"]
["Mischief",264,2011,"Alta Vista"]
["Assault (Incl. Sexual Assaults)",201,2011,"Alta Vista"]
["Break and Enter",142,2011,"Alta Vista"]
["Fraud",142,2011,"Alta Vista"]
["Theft - Motor Vehicle",111,2011,"Alta Vista"]
["Failure to Stop or Remain",101,2011,"Alta Vista"]
["Other Offences",55,2011,"Alta Vista"]
["Robbery",54,2011,"Alta Vista"]
["Bail Violations",52,2011,"Alta Vista"]
["Other Criminal Code Offences",45,2011,"Alta Vista"]
["Cannabis",37,2011,"Alta Vista"]
["Impaired Operation of Vehicle",32,2011,"Alta Vista"]
["Uttering Threats or Intimidation",20,2011,"Alta Vista"]
["Possession of Stolen Goods",20,2011,"Alta Vista"]
["Cocaine",14,2011,"Alta Vista"]
["Theft Over $5000",13,2011,"Alta Vista"]
["Dangerous Operation of Motor Vehicle",11,2011,"Alta Vista"]
["Arson",10,2011,"Alta Vista"]
["Offensive Weapons",8,2011,"Alta Vista"]
["Threats via the Internet",7,2011,"Alta Vista"]
["Other Controlled Drugs and Substances",7,2011,"Alta Vista"]
["Breach Probation",6,2011,"Alta Vista"]
["Driving Motor Vehicle While Prohibited",6,2011,"Alta Vista"]
["Abduction",5,2011,"Alta Vista"]
["Counterfeiting Currency",5,2011,"Alta Vista"]
["Attempted Murder",2,2011,"Alta Vista"]
["Other Criminal Code Offences",2,2011,"Alta Vista"]
["Other Sexual Offences",1,2011,"Alta Vista"]
["Homicide (Incidents)",0,2011,"Alta Vista"]
["Prostitution",0,2011,"Alta Vista"]
["Ecstasy (Methylenedioxyamphetamine )",0,2011,"Alta Vista"]
["Crystal Meth (Methamphetamine)",0,2011,"Alta Vista"]
["Heroin",0,2011,"Alta Vista"]
["Theft $5000 and Under",388,2011,"Cumberland"]
["Mischief",117,2011,"Cumberland"]
["Break and Enter",108,2011,"Cumberland"]
["Assault (Incl. Sexual Assaults)",92,2011,"Cumberland"]
["Fraud",87,2011,"Cumberland"]
["Theft - Motor Vehicle",55,2011,"Cumberland"]
["Failure to Stop or Remain",43,2011,"Cumberland"]
["Other Offences",30,2011,"Cumberland"]
["Cannabis",30,2011,"Cumberland"]
["Impaired Operation of Vehicle",29,2011,"Cumberland"]
["Failure to Stop or Remain",87,2012,"Capital"]
["Other Criminal Code Offences",36,2012,"Capital"]
["Cannabis",35,2012,"Capital"]
["Robbery",34,2012,"Capital"]
["Theft - Motor Vehicle",32,2012,"Capital"]
["Other Offences",26,2012,"Capital"]
["Impaired Operation of Vehicle",25,2012,"Capital"]
["Uttering Threats or Intimidation",23,2012,"Capital"]
["Theft Over $5000",22,2012,"Capital"]
["Bail Violations",21,2012,"Capital"]
["Breach Probation",8,2012,"Capital"]
["Offensive Weapons",6,2012,"Capital"]
["Arson",5,2012,"Capital"]
["Counterfeiting Currency",5,2012,"Capital"]
["Dangerous Operation of Motor Vehicle",5,2012,"Capital"]
["Cocaine",4,2012,"Capital"]
["Other Controlled Drugs and Substances",3,2012,"Capital"]
["Threats via the Internet",2,2012,"Capital"]
["Other Sexual Offences",1,2012,"Capital"]
["Abduction",1,2012,"Capital"]
["Possession of Stolen Goods",1,2012,"Capital"]
["Other Criminal Code Offences",1,2012,"Capital"]
["Homicide (Incidents)",0,2012,"Capital"]
["Attempted Murder",0,2012,"Capital"]
["Prostitution",0,2012,"Capital"]
["Driving Motor Vehicle While Prohibited",0,2012,"Capital"]
["Ecstasy (Methylenedioxyamphetamine )",0,2012,"Capital"]
["Crystal Meth (Methamphetamine)",0,2012,"Capital"]
["Heroin",0,2012,"Capital"]
["Theft $5000 and Under",894,2012,"Alta Vista"]
["Mischief",255,2012,"Alta Vista"]
["Break and Enter",226,2012,"Alta Vista"]
["Assault (Incl. Sexual Assaults)",196,2012,"Alta Vista"]
["Fraud",156,2012,"Alta Vista"]
["Theft - Motor Vehicle",131,2012,"Alta Vista"]
["Failure to Stop or Remain",98,2012,"Alta Vista"]
["Robbery",52,2012,"Alta Vista"]
["Other Criminal Code Offences",52,2012,"Alta Vista"]
["Cannabis",52,2012,"Alta Vista"]
["Other Offences",50,2012,"Alta Vista"]
["Bail Violations",48,2012,"Alta Vista"]
["Impaired Operation of Vehicle",36,2012,"Alta Vista"]
["Uttering Threats or Intimidation",29,2012,"Alta Vista"]
["Theft Over $5000",28,2012,"Alta Vista"]
["Arson",14,2012,"Alta Vista"]
["Breach Probation",13,2012,"Alta Vista"]
["Possession of Stolen Goods",10,2012,"Alta Vista"]
["Offensive Weapons",9,2012,"Alta Vista"]
["Counterfeiting Currency",8,2012,"Alta Vista"]
["Threats via the Internet",8,2012,"Alta Vista"]
["Dangerous Operation of Motor Vehicle",8,2012,"Alta Vista"]
["Cocaine",8,2012,"Alta Vista"]
["Driving Motor Vehicle While Prohibited",5,2012,"Alta Vista"]
["Abduction",3,2012,"Alta Vista"]
["Other Sexual Offences",2,2012,"Alta Vista"]
["Attempted Murder",1,2012,"Alta Vista"]
["Ecstasy (Methylenedioxyamphetamine )",1,2012,"Alta Vista"]
["Homicide (Incidents)",0,2012,"Alta Vista"]
["Prostitution",0,2012,"Alta Vista"]
["Other Criminal Code Offences",0,2012,"Alta Vista"]
["Crystal Meth (Methamphetamine)",0,2012,"Alta Vista"]
["Heroin",0,2012,"Alta Vista"]
["Other Controlled Drugs and Substances",0,2012,"Alta Vista"]
["Theft $5000 and Under",334,2012,"Cumberland"]
["Mischief",198,2012,"Cumberland"]
["Fraud",95,2012,"Cumberland"]
["Break and Enter",88,2012,"Cumberland"]
["Assault (Incl. Sexual Assaults)",62,2012,"Cumberland"]
["Theft - Motor Vehicle",42,2012,"Cumberland"]
["Failure to Stop or Remain",40,2012,"Cumberland"]
["Bail Violations",24,2011,"Cumberland"]
["Other Criminal Code Offences",17,2011,"Cumberland"]
["Uttering Threats or Intimidation",15,2011,"Cumberland"]
["Theft Over $5000",11,2011,"Cumberland"]
["Robbery",10,2011,"Cumberland"]
["Possession of Stolen Goods",8,2011,"Cumberland"]
["Arson",6,2011,"Cumberland"]
["Breach Probation",5,2011,"Cumberland"]
["Threats via the Internet",3,2011,"Cumberland"]
["Dangerous Operation of Motor Vehicle",3,2011,"Cumberland"]
["Driving Motor Vehicle While Prohibited",2,2011,"Cumberland"]
["Cocaine",2,2011,"Cumberland"]
["Other Sexual Offences",1,2011,"Cumberland"]
["Abduction",1,2011,"Cumberland"]
["Offensive Weapons",1,2011,"Cumberland"]
["Homicide (Incidents)",0,2011,"Cumberland"]
["Attempted Murder",0,2011,"Cumberland"]
["Counterfeiting Currency",0,2011,"Cumberland"]
["Prostitution",0,2011,"Cumberland"]
["Other Criminal Code Offences",0,2011,"Cumberland"]
["Ecstasy (Methylenedioxyamphetamine )",0,2011,"Cumberland"]
["Crystal Meth (Methamphetamine)",0,2011,"Cumberland"]
["Heroin",0,2011,"Cumberland"]
["Other Controlled Drugs and Substances",0,2011,"Cumberland"]
["Theft $5000 and Under",159,2011,"Osgoode"]
["Mischief",107,2011,"Osgoode"]
["Break and Enter",73,2011,"Osgoode"]
["Assault (Incl. Sexual Assaults)",38,2011,"Osgoode"]
["Theft - Motor Vehicle",34,2011,"Osgoode"]
["Cannabis",26,2011,"Osgoode"]
["Fraud",24,2011,"Osgoode"]
["Impaired Operation of Vehicle",22,2011,"Osgoode"]
["Failure to Stop or Remain",16,2011,"Osgoode"]
["Other Criminal Code Offences",12,2011,"Osgoode"]
["Other Offences",9,2011,"Osgoode"]
["Uttering Threats or Intimidation",8,2011,"Osgoode"]
["Theft Over $5000",8,2011,"Osgoode"]
["Arson",5,2011,"Osgoode"]
["Offensive Weapons",5,2011,"Osgoode"]
["Possession of Stolen Goods",4,2011,"Osgoode"]
["Bail Violations",4,2011,"Osgoode"]
["Dangerous Operation of Motor Vehicle",4,2011,"Osgoode"]
["Homicide (Incidents)",1,2011,"Osgoode"]
["Other Sexual Offences",1,2011,"Osgoode"]
["Abduction",1,2011,"Osgoode"]
["Threats via the Internet",1,2011,"Osgoode"]
["Driving Motor Vehicle While Prohibited",1,2011,"Osgoode"]
["Ecstasy (Methylenedioxyamphetamine )",1,2011,"Osgoode"]
["Attempted Murder",0,2011,"Osgoode"]
["Robbery",0,2011,"Osgoode"]
["Counterfeiting Currency",0,2011,"Osgoode"]
["Breach Probation",0,2011,"Osgoode"]
["Prostitution",0,2011,"Osgoode"]
["Other Criminal Code Offences",0,2011,"Osgoode"]
["Crystal Meth (Methamphetamine)",0,2011,"Osgoode"]
["Heroin",0,2011,"Osgoode"]
["Cocaine",0,2011,"Osgoode"]
["Other Controlled Drugs and Substances",0,2011,"Osgoode"]
["Theft $5000 and Under",198,2011,"Rideau-Goulbourn"]
["Mischief",103,2011,"Rideau-Goulbourn"]
["Break and Enter",71,2011,"Rideau-Goulbourn"]
["Assault (Incl. Sexual Assaults)",42,2011,"Rideau-Goulbourn"]
["Cannabis",35,2011,"Rideau-Goulbourn"]
["Fraud",29,2011,"Rideau-Goulbourn"]
["Theft - Motor Vehicle",21,2011,"Rideau-Goulbourn"]
["Impaired Operation of Vehicle",20,2011,"Rideau-Goulbourn"]
["Failure to Stop or Remain",19,2011,"Rideau-Goulbourn"]
["Other Criminal Code Offences",18,2011,"Rideau-Goulbourn"]
["Bail Violations",8,2011,"Rideau-Goulbourn"]
["Uttering Threats or Intimidation",6,2011,"Rideau-Goulbourn"]
["Arson",6,2011,"Rideau-Goulbourn"]
["Other Offences",5,2011,"Rideau-Goulbourn"]
["Threats via the Internet",5,2011,"Rideau-Goulbourn"]
["Robbery",3,2011,"Rideau-Goulbourn"]
["Theft Over $5000",3,2011,"Rideau-Goulbourn"]
["Possession of Stolen Goods",3,2011,"Rideau-Goulbourn"]
["Cocaine",2,2011,"Rideau-Goulbourn"]
["Offensive Weapons",1,2011,"Rideau-Goulbourn"]
["Breach Probation",1,2011,"Rideau-Goulbourn"]
["Dangerous Operation of Motor Vehicle",1,2011,"Rideau-Goulbourn"]
["Driving Motor Vehicle While Prohibited",1,2011,"Rideau-Goulbourn"]
["Homicide (Incidents)",0,2011,"Rideau-Goulbourn"]
["Attempted Murder",0,2011,"Rideau-Goulbourn"]
["Other Sexual Offences",0,2011,"Rideau-Goulbourn"]
["Abduction",0,2011,"Rideau-Goulbourn"]
["Counterfeiting Currency",0,2011,"Rideau-Goulbourn"]
["Prostitution",0,2011,"Rideau-Goulbourn"]
["Other Criminal Code Offences",0,2011,"Rideau-Goulbourn"]
["Ecstasy (Methylenedioxyamphetamine )",0,2011,"Rideau-Goulbourn"]
["Crystal Meth (Methamphetamine)",0,2011,"Rideau-Goulbourn"]
["Heroin",0,2011,"Rideau-Goulbourn"]
["Other Controlled Drugs and Substances",0,2011,"Rideau-Goulbourn"]
["Theft $5000 and Under",290,2011,"Gloucester-South Nepean"]
["Mischief",99,2011,"Gloucester-South Nepean"]
["Fraud",72,2011,"Gloucester-South Nepean"]
["Failure to Stop or Remain",45,2011,"Gloucester-South Nepean"]
["Assault (Incl. Sexual Assaults)",38,2011,"Gloucester-South Nepean"]
["Break and Enter",38,2011,"Gloucester-South Nepean"]
["Other Offences",20,2011,"Gloucester-South Nepean"]
["Cannabis",15,2011,"Gloucester-South Nepean"]
["Theft - Motor Vehicle",14,2011,"Gloucester-South Nepean"]
["Theft Over $5000",11,2011,"Gloucester-South Nepean"]
["Robbery",8,2011,"Gloucester-South Nepean"]
["Impaired Operation of Vehicle",8,2011,"Gloucester-South Nepean"]
["Other Criminal Code Offences",7,2011,"Gloucester-South Nepean"]
["Uttering Threats or Intimidation",6,2011,"Gloucester-South Nepean"]
["Bail Violations",6,2011,"Gloucester-South Nepean"]
["Arson",4,2011,"Gloucester-South Nepean"]
["Possession of Stolen Goods",3,2011,"Gloucester-South Nepean"]
["Dangerous Operation of Motor Vehicle",3,2011,"Gloucester-South Nepean"]
["Other Sexual Offences",2,2011,"Gloucester-South Nepean"]
["Offensive Weapons",2,2011,"Gloucester-South Nepean"]
["Threats via the Internet",2,2011,"Gloucester-South Nepean"]
["Driving Motor Vehicle While Prohibited",2,2011,"Gloucester-South Nepean"]
["Homicide (Incidents)",1,2011,"Gloucester-South Nepean"]
["Ecstasy (Methylenedioxyamphetamine )",1,2011,"Gloucester-South Nepean"]
["Cocaine",1,2011,"Gloucester-South Nepean"]
["Other Controlled Drugs and Substances",1,2011,"Gloucester-South Nepean"]
["Attempted Murder",0,2011,"Gloucester-South Nepean"]
["Abduction",0,2011,"Gloucester-South Nepean"]
["Counterfeiting Currency",0,2011,"Gloucester-South Nepean"]
["Breach Probation",0,2011,"Gloucester-South Nepean"]
["Prostitution",0,2011,"Gloucester-South Nepean"]
["Other Criminal Code Offences",0,2011,"Gloucester-South Nepean"]
["Crystal Meth (Methamphetamine)",0,2011,"Gloucester-South Nepean"]
["Heroin",0,2011,"Gloucester-South Nepean"]
["Theft $5000 and Under",411,2011,"Kanata South"]
["Mischief",216,2011,"Kanata South"]
["Break and Enter",85,2011,"Kanata South"]
["Assault (Incl. Sexual Assaults)",76,2011,"Kanata South"]
["Fraud",72,2011,"Kanata South"]
["Failure to Stop or Remain",55,2011,"Kanata South"]
["Cannabis",42,2011,"Kanata South"]
["Theft - Motor Vehicle",35,2011,"Kanata South"]
["Other Offences",31,2011,"Kanata South"]
["Other Criminal Code Offences",26,2011,"Kanata South"]
["Impaired Operation of Vehicle",26,2011,"Kanata South"]
["Robbery",24,2011,"Kanata South"]
["Bail Violations",20,2011,"Kanata South"]
["Uttering Threats or Intimidation",12,2011,"Kanata South"]
["Threats via the Internet",9,2011,"Kanata South"]
["Possession of Stolen Goods",7,2011,"Kanata South"]
["Other Sexual Offences",4,2011,"Kanata South"]
["Arson",4,2011,"Kanata South"]
["Offensive Weapons",3,2011,"Kanata South"]
["Breach Probation",3,2011,"Kanata South"]
["Driving Motor Vehicle While Prohibited",3,2011,"Kanata South"]
["Cocaine",3,2011,"Kanata South"]
["Abduction",2,2011,"Kanata South"]
["Theft Over $5000",2,2011,"Kanata South"]
["Dangerous Operation of Motor Vehicle",2,2011,"Kanata South"]
["Other Controlled Drugs and Substances",2,2011,"Kanata South"]
["Attempted Murder",1,2011,"Kanata South"]
["Counterfeiting Currency",1,2011,"Kanata South"]
["Heroin",1,2011,"Kanata South"]
["Homicide (Incidents)",0,2011,"Kanata South"]
["Prostitution",0,2011,"Kanata South"]
["Other Criminal Code Offences",0,2011,"Kanata South"]
["Ecstasy (Methylenedioxyamphetamine )",0,2011,"Kanata South"]
["Crystal Meth (Methamphetamine)",0,2011,"Kanata South"]
["Impaired Operation of Vehicle",24,2012,"Cumberland"]
["Cannabis",21,2012,"Cumberland"]
["Bail Violations",16,2012,"Cumberland"]
["Robbery",14,2012,"Cumberland"]
["Uttering Threats or Intimidation",14,2012,"Cumberland"]
["Other Offences",14,2012,"Cumberland"]
["Other Criminal Code Offences",14,2012,"Cumberland"]
["Theft Over $5000",12,2012,"Cumberland"]
["Arson",9,2012,"Cumberland"]
["Offensive Weapons",4,2012,"Cumberland"]
["Cocaine",4,2012,"Cumberland"]
["Possession of Stolen Goods",3,2012,"Cumberland"]
["Threats via the Internet",3,2012,"Cumberland"]
["Dangerous Operation of Motor Vehicle",3,2012,"Cumberland"]
["Ecstasy (Methylenedioxyamphetamine )",2,2012,"Cumberland"]
["Other Sexual Offences",1,2012,"Cumberland"]
["Abduction",1,2012,"Cumberland"]
["Breach Probation",1,2012,"Cumberland"]
["Homicide (Incidents)",0,2012,"Cumberland"]
["Attempted Murder",0,2012,"Cumberland"]
["Counterfeiting Currency",0,2012,"Cumberland"]
["Prostitution",0,2012,"Cumberland"]
["Driving Motor Vehicle While Prohibited",0,2012,"Cumberland"]
["Other Criminal Code Offences",0,2012,"Cumberland"]
["Crystal Meth (Methamphetamine)",0,2012,"Cumberland"]
["Heroin",0,2012,"Cumberland"]
["Other Controlled Drugs and Substances",0,2012,"Cumberland"]
["Theft $5000 and Under",153,2012,"Osgoode"]
["Break and Enter",103,2012,"Osgoode"]
["Mischief",65,2012,"Osgoode"]
["Fraud",51,2012,"Osgoode"]
["Theft - Motor Vehicle",46,2012,"Osgoode"]
["Assault (Incl. Sexual Assaults)",31,2012,"Osgoode"]
["Impaired Operation of Vehicle",22,2012,"Osgoode"]
["Cannabis",22,2012,"Osgoode"]
["Other Offences",11,2012,"Osgoode"]
["Theft Over $5000",10,2012,"Osgoode"]
["Failure to Stop or Remain",10,2012,"Osgoode"]
["Bail Violations",9,2012,"Osgoode"]
["Uttering Threats or Intimidation",5,2012,"Osgoode"]
["Other Criminal Code Offences",5,2012,"Osgoode"]
["Arson",3,2012,"Osgoode"]
["Driving Motor Vehicle While Prohibited",3,2012,"Osgoode"]
["Offensive Weapons",2,2012,"Osgoode"]
["Threats via the Internet",2,2012,"Osgoode"]
["Dangerous Operation of Motor Vehicle",2,2012,"Osgoode"]
["Robbery",1,2012,"Osgoode"]
["Possession of Stolen Goods",1,2012,"Osgoode"]
["Breach Probation",1,2012,"Osgoode"]
["Cocaine",1,2012,"Osgoode"]
["Homicide (Incidents)",0,2012,"Osgoode"]
["Attempted Murder",0,2012,"Osgoode"]
["Other Sexual Offences",0,2012,"Osgoode"]
["Abduction",0,2012,"Osgoode"]
["Counterfeiting Currency",0,2012,"Osgoode"]
["Prostitution",0,2012,"Osgoode"]
["Other Criminal Code Offences",0,2012,"Osgoode"]
["Ecstasy (Methylenedioxyamphetamine )",0,2012,"Osgoode"]
["Crystal Meth (Methamphetamine)",0,2012,"Osgoode"]
["Heroin",0,2012,"Osgoode"]
["Other Controlled Drugs and Substances",0,2012,"Osgoode"]
["Theft $5000 and Under",213,2012,"Rideau-Goulbourn"]
["Mischief",88,2012,"Rideau-Goulbourn"]
["Break and Enter",78,2012,"Rideau-Goulbourn"]
["Fraud",34,2012,"Rideau-Goulbourn"]
["Assault (Incl. Sexual Assaults)",28,2012,"Rideau-Goulbourn"]
["Theft - Motor Vehicle",28,2012,"Rideau-Goulbourn"]
["Failure to Stop or Remain",25,2012,"Rideau-Goulbourn"]
["Impaired Operation of Vehicle",19,2012,"Rideau-Goulbourn"]
["Cannabis",19,2012,"Rideau-Goulbourn"]
["Other Criminal Code Offences",9,2012,"Rideau-Goulbourn"]
["Other Offences",7,2012,"Rideau-Goulbourn"]
["Arson",7,2012,"Rideau-Goulbourn"]
["Bail Violations",6,2012,"Rideau-Goulbourn"]
["Uttering Threats or Intimidation",5,2012,"Rideau-Goulbourn"]
["Possession of Stolen Goods",4,2012,"Rideau-Goulbourn"]
["Offensive Weapons",4,2012,"Rideau-Goulbourn"]
["Theft Over $5000",3,2012,"Rideau-Goulbourn"]
["Other Sexual Offences",2,2012,"Rideau-Goulbourn"]
["Dangerous Operation of Motor Vehicle",2,2012,"Rideau-Goulbourn"]
["Driving Motor Vehicle While Prohibited",2,2012,"Rideau-Goulbourn"]
["Robbery",1,2012,"Rideau-Goulbourn"]
["Counterfeiting Currency",1,2012,"Rideau-Goulbourn"]
["Breach Probation",1,2012,"Rideau-Goulbourn"]
["Homicide (Incidents)",0,2012,"Rideau-Goulbourn"]
["Attempted Murder",0,2012,"Rideau-Goulbourn"]
["Abduction",0,2012,"Rideau-Goulbourn"]
["Threats via the Internet",0,2012,"Rideau-Goulbourn"]
["Prostitution",0,2012,"Rideau-Goulbourn"]
["Other Criminal Code Offences",0,2012,"Rideau-Goulbourn"]
["Ecstasy (Methylenedioxyamphetamine )",0,2012,"Rideau-Goulbourn"]
["Crystal Meth (Methamphetamine)",0,2012,"Rideau-Goulbourn"]
["Heroin",0,2012,"Rideau-Goulbourn"]
["Cocaine",0,2012,"Rideau-Goulbourn"]
["Other Controlled Drugs and Substances",0,2012,"Rideau-Goulbourn"]
["Theft $5000 and Under",253,2012,"Gloucester-South Nepean"]
["Mischief",123,2012,"Gloucester-South Nepean"]
["Break and Enter",78,2012,"Gloucester-South Nepean"]
["Fraud",65,2012,"Gloucester-South Nepean"]
["Failure to Stop or Remain",49,2012,"Gloucester-South Nepean"]
["Assault (Incl. Sexual Assaults)",38,2012,"Gloucester-South Nepean"]
["Theft - Motor Vehicle",19,2012,"Gloucester-South Nepean"]
["Cannabis",17,2012,"Gloucester-South Nepean"]
["Impaired Operation of Vehicle",14,2012,"Gloucester-South Nepean"]
["Other Offences",13,2012,"Gloucester-South Nepean"]
["Other Criminal Code Offences",13,2012,"Gloucester-South Nepean"]
["Uttering Threats or Intimidation",5,2012,"Gloucester-South Nepean"]
["Theft Over $5000",5,2012,"Gloucester-South Nepean"]
["Bail Violations",5,2012,"Gloucester-South Nepean"]
["Robbery",4,2012,"Gloucester-South Nepean"]
["Arson",4,2012,"Gloucester-South Nepean"]
["Offensive Weapons",4,2012,"Gloucester-South Nepean"]
["Breach Probation",3,2012,"Gloucester-South Nepean"]
["Possession of Stolen Goods",2,2012,"Gloucester-South Nepean"]
["Counterfeiting Currency",2,2012,"Gloucester-South Nepean"]
["Cocaine",2,2012,"Gloucester-South Nepean"]
["Attempted Murder",1,2012,"Gloucester-South Nepean"]
["Other Sexual Offences",1,2012,"Gloucester-South Nepean"]
["Threats via the Internet",1,2012,"Gloucester-South Nepean"]
["Dangerous Operation of Motor Vehicle",1,2012,"Gloucester-South Nepean"]
["Homicide (Incidents)",0,2012,"Gloucester-South Nepean"]
["Abduction",0,2012,"Gloucester-South Nepean"]
["Prostitution",0,2012,"Gloucester-South Nepean"]
["Driving Motor Vehicle While Prohibited",0,2012,"Gloucester-South Nepean"]
["Other Criminal Code Offences",0,2012,"Gloucester-South Nepean"]
["Ecstasy (Methylenedioxyamphetamine )",0,2012,"Gloucester-South Nepean"]
["Crystal Meth (Methamphetamine)",0,2012,"Gloucester-South Nepean"]
["Heroin",0,2012,"Gloucester-South Nepean"]
["Other Controlled Drugs and Substances",0,2012,"Gloucester-South Nepean"]
["Theft $5000 and Under",431,2012,"Kanata South"]
["Mischief",238,2012,"Kanata South"]
["Fraud",117,2012,"Kanata South"]
["Break and Enter",69,2012,"Kanata South"]
["Assault (Incl. Sexual Assaults)",64,2012,"Kanata South"]
["Failure to Stop or Remain",50,2012,"Kanata South"]
["Cannabis",40,2012,"Kanata South"]
["Theft - Motor Vehicle",39,2012,"Kanata South"]
["Impaired Operation of Vehicle",30,2012,"Kanata South"]
["Uttering Threats or Intimidation",25,2012,"Kanata South"]
["Other Offences",21,2012,"Kanata South"]
["Bail Violations",18,2012,"Kanata South"]
["Robbery",16,2012,"Kanata South"]
["Other Criminal Code Offences",12,2012,"Kanata South"]
["Arson",9,2012,"Kanata South"]
["Possession of Stolen Goods",8,2012,"Kanata South"]
["Threats via the Internet",5,2012,"Kanata South"]
["Offensive Weapons",4,2012,"Kanata South"]
["Other Sexual Offences",2,2012,"Kanata South"]
["Abduction",2,2012,"Kanata South"]
["Theft Over $5000",2,2012,"Kanata South"]
["Driving Motor Vehicle While Prohibited",2,2012,"Kanata South"]
["Counterfeiting Currency",1,2012,"Kanata South"]
["Breach Probation",1,2012,"Kanata South"]
["Dangerous Operation of Motor Vehicle",1,2012,"Kanata South"]
["Cocaine",1,2012,"Kanata South"]
["Homicide (Incidents)",0,2012,"Kanata South"]
["Attempted Murder",0,2012,"Kanata South"]
["Prostitution",0,2012,"Kanata South"]
["Other Criminal Code Offences",0,2012,"Kanata South"]
["Ecstasy (Methylenedioxyamphetamine )",0,2012,"Kanata South"]
["Crystal Meth (Methamphetamine)",0,2012,"Kanata South"]
["Heroin",0,2012,"Kanata South"]
["Other Controlled Drugs and Substances",0,2012,"Kanata South"]

{"sheet":"2012WardPop","index":1,"n_rows":27,"n_cols":3,"rows_kept":27}
["Population and households (occupied dwellings) estimates by ward, year end 2012"]
["http://ottawa.ca/en/city-hall/get-know-your-city/statistics/population-and-households-occupied-dwellings-estimates-ward"]
["Ward","Population","Households"]
["1. Orléans",{"v":49200,"d":"49,200"},{"v":18400,"d":"18,400"}]
["2. Innes",{"v":40100,"d":"40,100"},{"v":14700,"d":"14,700"}]
["3. Barrhaven",{"v":52050,"d":"52,050"},{"v":18600,"d":"18,600"}]
["4. Kanata North",{"v":34200,"d":"34,200"},{"v":12950,"d":"12,950"}]
["5. West Carleton-March",{"v":25350,"d":"25,350"},{"v":8900,"d":"8,900"}]
["6. Stittsville",{"v":28300,"d":"28,300"},{"v":9550,"d":"9,550"}]
["7. Bay",{"v":45700,"d":"45,700"},{"v":20950,"d":"20,950"}]
["8. College",{"v":53300,"d":"53,300"},{"v":21850,"d":"21,850"}]
["9. Knoxdale-Merivale",{"v":39850,"d":"39,850"},{"v":15650,"d":"15,650"}]
["10. Gloucester-Southgate",{"v":47650,"d":"47,650"},{"v":18950,"d":"18,950"}]
["11. Beacon Hill-Cyrville",{"v":34150,"d":"34,150"},{"v":13950,"d":"13,950"}]
["12. Rideau-Vanier",{"v":47950,"d":"47,950"},{"v":26600,"d":"26,600"}]
["13. Rideau-Rockcliffe",{"v":38950,"d":"38,950"},{"v":18650,"d":"18,650"}]
["14. Somerset",{"v":38400,"d":"38,400"},{"v":23150,"d":"23,150"}]
["15. Kitchissippi",{"v":41250,"d":"41,250"},{"v":19250,"d":"19,250"}]
["16. River",{"v":48900,"d":"48,900"},{"v":21000,"d":"21,000"}]
["17. Capital",{"v":37250,"d":"37,250"},{"v":16950,"d":"16,950"}]
["18. Alta Vista",{"v":45300,"d":"45,300"},{"v":19950,"d":"19,950"}]
["19. Cumberland",{"v":44400,"d":"44,400"},{"v":16300,"d":"16,300"}]
["20. Osgoode",{"v":27000,"d":"27,000"},{"v":9450,"d":"9,450"}]
["21. Rideau-Goulbourn",{"v":27000,"d":"27,000"},{"v":9400,"d":"9,400"}]
["22. Gloucester-South Nepean",{"v":43250,"d":"43,250"},{"v":15750,"d":"15,750"}]
["23. Kanata South",{"v":45550,"d":"45,550"},{"v":16850,"d":"16,850"}]
["     City of Ottawa",{"v":935050,"d":"935,050"},{"v":387750,"d":"387,750"}]

{"sheet":"2006WardPop","index":2,"n_rows":26,"n_cols":3,"rows_kept":26}
["http://ottawa.ca/en/city-hall/get-know-your-city/wards"]
["Wards","Population","Households"]
[{"$f":"'2012WardPop'!A4","v":"1. Orléans"},{"v":46000,"d":"46,000"}]
[{"$f":"'2012WardPop'!A5","v":"2. Innes"},{"v":37820,"d":"37,820"}]
[{"$f":"'2012WardPop'!A6","v":"3. Barrhaven"},{"v":36815,"d":"36,815"}]
[{"$f":"'2012WardPop'!A7","v":"4. Kanata North"},{"v":26510,"d":"26,510"}]
[{"$f":"'2012WardPop'!A8","v":"5. West Carleton-March"},{"v":21455,"d":"21,455"}]
[{"$f":"'2012WardPop'!A9","v":"6. Stittsville"},{"v":19410,"d":"19,410"}]
[{"$f":"'2012WardPop'!A10","v":"7. Bay"},{"v":43995,"d":"43,995"}]
[{"$f":"'2012WardPop'!A11","v":"8. College"},{"v":50350,"d":"50,350"}]
[{"$f":"'2012WardPop'!A12","v":"9. Knoxdale-Merivale"},{"v":38070,"d":"38,070"}]
[{"$f":"'2012WardPop'!A13","v":"10. Gloucester-Southgate"},{"v":44380,"d":"44,380"}]
[{"$f":"'2012WardPop'!A14","v":"11. Beacon Hill-Cyrville"},{"v":32235,"d":"32,235"}]
[{"$f":"'2012WardPop'!A15","v":"12. Rideau-Vanier"},{"v":39360,"d":"39,360"}]
[{"$f":"'2012WardPop'!A16","v":"13. Rideau-Rockcliffe"},{"v":37280,"d":"37,280"}]
[{"$f":"'2012WardPop'!A17","v":"14. Somerset"},{"v":33515,"d":"33,515"}]
[{"$f":"'2012WardPop'!A18","v":"15. Kitchissippi"},{"v":36105,"d":"36,105"}]
[{"$f":"'2012WardPop'!A19","v":"16. River"},{"v":44885,"d":"44,885"}]
[{"$f":"'2012WardPop'!A20","v":"17. Capital"},{"v":33755,"d":"33,755"}]
[{"$f":"'2012WardPop'!A21","v":"18. Alta Vista"},{"v":43185,"d":"43,185"}]
[{"$f":"'2012WardPop'!A22","v":"19. Cumberland"},{"v":33405,"d":"33,405"}]
[{"$f":"'2012WardPop'!A23","v":"20. Osgoode"},{"v":22695,"d":"22,695"}]
[{"$f":"'2012WardPop'!A24","v":"21. Rideau-Goulbourn"},{"v":23535,"d":"23,535"}]
[{"$f":"'2012WardPop'!A25","v":"22. Gloucester-South Nepean"},{"v":26895,"d":"26,895"}]
[{"$f":"'2012WardPop'!A26","v":"23. Kanata South"},{"v":40480,"d":"40,480"}]
[{"$f":"'2012WardPop'!A27","v":"     City of Ottawa"}]

{"sheet":"2012-2006Pop","index":3,"n_rows":26,"n_cols":5,"rows_kept":26}
["Wards",null,2011,2012,"PercentChange"]
[1,"Orléans",{"$f":"'2006WardPop'!B3","v":{"v":46000,"d":"46,000"}},{"$f":"'2012WardPop'!B4","v":{"v":49200,"d":"49,200"}},{"$f":"(D2-C2)/C2","v":{"v":0.06956521739130435,"d":"7.0%"}}]
[2,"Innes",{"$f":"'2006WardPop'!B4","v":{"v":37820,"d":"37,820"}},{"$f":"'2012WardPop'!B5","v":{"v":40100,"d":"40,100"}},{"$f":"(D3-C3)/C3","v":{"v":0.060285563194077206,"d":"6.0%"}}]
[3,"Barrhaven",{"$f":"'2006WardPop'!B5","v":{"v":36815,"d":"36,815"}},{"$f":"'2012WardPop'!B6","v":{"v":52050,"d":"52,050"}},{"v":0.4138258861876952,"d":"41.4%"}]
[4,"Kanata North",{"$f":"'2006WardPop'!B6","v":{"v":26510,"d":"26,510"}},{"$f":"'2012WardPop'!B7","v":{"v":34200,"d":"34,200"}},{"v":0.2900792153904187,"d":"29.0%"}]
[5,"West Carleton-March",{"$f":"'2006WardPop'!B7","v":{"v":21455,"d":"21,455"}},{"$f":"'2012WardPop'!B8","v":{"v":25350,"d":"25,350"}},{"v":0.18154276392449312,"d":"18.2%"}]
[6,"Stittsville",{"$f":"'2006WardPop'!B8","v":{"v":19410,"d":"19,410"}},{"$f":"'2012WardPop'!B9","v":{"v":28300,"d":"28,300"}},{"v":0.45801133436373004,"d":"45.8%"}]
[7,"Bay",{"$f":"'2006WardPop'!B9","v":{"v":43995,"d":"43,995"}},{"$f":"'2012WardPop'!B10","v":{"v":45700,"d":"45,700"}},{"v":0.038754403909535176,"d":"3.9%"}]
[8,"College",{"$f":"'2006WardPop'!B10","v":{"v":50350,"d":"50,350"}},{"$f":"'2012WardPop'!B11","v":{"v":53300,"d":"53,300"}},{"v":0.05858987090367428,"d":"5.9%"}]
[9,"Knoxdale-Merivale",{"$f":"'2006WardPop'!B11","v":{"v":38070,"d":"38,070"}},{"$f":"'2012WardPop'!B12","v":{"v":39850,"d":"39,850"}},{"v":0.04675597583399002,"d":"4.7%"}]
[10,"Gloucester-Southgate",{"$f":"'2006WardPop'!B12","v":{"v":44380,"d":"44,380"}},{"$f":"'2012WardPop'!B13","v":{"v":47650,"d":"47,650"}},{"v":0.0736818386660658,"d":"7.4%"}]
[11,"Beacon Hill-Cyrville",{"$f":"'2006WardPop'!B13","v":{"v":32235,"d":"32,235"}},{"$f":"'2012WardPop'!B14","v":{"v":34150,"d":"34,150"}},{"v":0.059407476345587094,"d":"5.9%"}]
[12,"Rideau-Vanier",{"$f":"'2006WardPop'!B14","v":{"v":39360,"d":"39,360"}},{"$f":"'2012WardPop'!B15","v":{"v":47950,"d":"47,950"}},{"v":0.21824186991869918,"d":"21.8%"}]
[13,"Rideau-Rockcliffe",{"$f":"'2006WardPop'!B15","v":{"v":37280,"d":"37,280"}},{"$f":"'2012WardPop'!B16","v":{"v":38950,"d":"38,950"}},{"v":0.0447961373390558,"d":"4.5%"}]
[14,"Somerset",{"$f":"'2006WardPop'!B16","v":{"v":33515,"d":"33,515"}},{"$f":"'2012WardPop'!B17","v":{"v":38400,"d":"38,400"}},{"v":0.14575563180665374,"d":"14.6%"}]
[15,"Kitchissippi",{"$f":"'2006WardPop'!B17","v":{"v":36105,"d":"36,105"}},{"$f":"'2012WardPop'!B18","v":{"v":41250,"d":"41,250"}},{"v":0.14250103863730784,"d":"14.3%"}]
[16,"River",{"$f":"'2006WardPop'!B18","v":{"v":44885,"d":"44,885"}},{"$f":"'2012WardPop'!B19","v":{"v":48900,"d":"48,900"}},{"v":0.0894508187590509,"d":"8.9%"}]
[17,"Capital",{"$f":"'2006WardPop'!B19","v":{"v":33755,"d":"33,755"}},{"$f":"'2012WardPop'!B20","v":{"v":37250,"d":"37,250"}},{"v":0.10354021626425715,"d":"10.4%"}]
[18,"Alta Vista",{"$f":"'2006WardPop'!B20","v":{"v":43185,"d":"43,185"}},{"$f":"'2012WardPop'!B21","v":{"v":45300,"d":"45,300"}},{"v":0.048975338659256684,"d":"4.9%"}]
[19,"Cumberland",{"$f":"'2006WardPop'!B21","v":{"v":33405,"d":"33,405"}},{"$f":"'2012WardPop'!B22","v":{"v":44400,"d":"44,400"}},{"v":0.329142343960485,"d":"32.9%"}]
[20,"Osgoode",{"$f":"'2006WardPop'!B22","v":{"v":22695,"d":"22,695"}},{"$f":"'2012WardPop'!B23","v":{"v":27000,"d":"27,000"}},{"v":0.18968935888962327,"d":"19.0%"}]
[21,"Rideau-Goulbourn",{"$f":"'2006WardPop'!B23","v":{"v":23535,"d":"23,535"}},{"$f":"'2012WardPop'!B24","v":{"v":27000,"d":"27,000"}},{"v":0.14722753346080306,"d":"14.7%"}]
[22,"Gloucester-South Nepean",{"$f":"'2006WardPop'!B24","v":{"v":26895,"d":"26,895"}},{"$f":"'2012WardPop'!B25","v":{"v":43250,"d":"43,250"}},{"v":0.6081055958356572,"d":"60.8%"}]
[23,"Kanata South",{"$f":"'2006WardPop'!B25","v":{"v":40480,"d":"40,480"}},{"$f":"'2012WardPop'!B26","v":{"v":45550,"d":"45,550"}},{"v":0.12524703557312253,"d":"12.5%"}]
[]
["Total",null,{"$f":"SUM(C1:C25)","v":{"v":814146,"d":"814,146"}},{"$f":"SUM(D1:D25)","v":{"v":937062,"d":"937,062"}},{"v":0.15097537788062584,"d":"15.1%"}]

{"sheet":"WorkingCopy","index":4,"n_rows":1565,"n_cols":8,"rows_kept":1565}
["Offence","Actual","Year","Ward","Ward number","Population_2011","Percapita","Population_2-12"]
["Theft $5000 and Under",571,2011,"Orleans",1,{"$f":"'2012-2006Pop'!$C$2","v":{"v":46000,"d":"46,000"}},{"$f":"(B2/F2)*10000","v":{"v":124.13043478260869,"d":"124"}}]
["Theft $5000 and Under",444,2012,"Orleans",1,{"$f":"'2012-2006Pop'!$C$2","v":{"v":46000,"d":"46,000"}},{"v":96.52173913043478,"d":"97"}]
["Mischief",230,2012,"Orleans",1,{"$f":"'2012-2006Pop'!$D$2","v":{"v":49200,"d":"49,200"}},{"v":46.7479674796748,"d":"47"}]
["Mischief",229,2011,"Orleans",1,{"$f":"'2012-2006Pop'!$C$2","v":{"v":46000,"d":"46,000"}},{"v":49.78260869565217,"d":"50"}]
["Fraud",118,2012,"Orleans",1,{"$f":"'2012-2006Pop'!$D$2","v":{"v":49200,"d":"49,200"}},{"v":23.983739837398375,"d":"24"}]
["Fraud",96,2011,"Orleans",1,{"$f":"'2012-2006Pop'!$C$2","v":{"v":46000,"d":"46,000"}},{"v":20.8695652173913,"d":"21"}]
["Assault (Incl. Sexual Assaults)",112,2012,"Orleans",1,{"$f":"'2012-2006Pop'!$D$2","v":{"v":49200,"d":"49,200"}},{"$f":"(B8/F8)*10000","v":{"v":22.764227642276424,"d":"23"}}]
["Failure to Stop or Remain",65,2012,"Orleans",1,{"$f":"'2012-2006Pop'!$D$2","v":{"v":49200,"d":"49,200"}},{"v":13.211382113821138,"d":"13"}]
["Break and Enter",57,2012,"Orleans",1,{"$f":"'2012-2006Pop'!$D$2","v":{"v":49200,"d":"49,200"}},{"v":11.585365853658535,"d":"12"}]
["Impaired Operation of Vehicle",44,2012,"Orleans",1,{"$f":"'2012-2006Pop'!$D$2","v":{"v":49200,"d":"49,200"}},{"v":8.94308943089431,"d":"9"}]
["Assault (Incl. Sexual Assaults)",84,2011,"Orleans",1,{"$f":"'2012-2006Pop'!$C$2","v":{"v":46000,"d":"46,000"}},{"$f":"(B12/F12)*10000","v":{"v":18.26086956521739,"d":"18"}}]
["Break and Enter",79,2011,"Orleans",1,{"$f":"'2012-2006Pop'!$C$2","v":{"v":46000,"d":"46,000"}},{"v":17.17391304347826,"d":"17"}]
["Failure to Stop or Remain",75,2011,"Orleans",1,{"$f":"'2012-2006Pop'!$C$2","v":{"v":46000,"d":"46,000"}},{"v":16.304347826086957,"d":"16"}]
["Theft - Motor Vehicle",54,2011,"Orleans",1,{"$f":"'2012-2006Pop'!$C$2","v":{"v":46000,"d":"46,000"}},{"v":11.73913043478261,"d":"12"}]
["Cannabis",48,2011,"Orleans",1,{"$f":"'2012-2006Pop'!$C$2","v":{"v":46000,"d":"46,000"}},{"v":10.43478260869565,"d":"10"}]
["Theft - Motor Vehicle",42,2012,"Orleans",1,{"$f":"'2012-2006Pop'!$D$2","v":{"v":49200,"d":"49,200"}},{"v":8.536585365853659,"d":"9"}]
["Other Offences",36,2011,"Orleans",1,{"$f":"'2012-2006Pop'!$C$2","v":{"v":46000,"d":"46,000"}},{"v":7.826086956521739,"d":"8"}]
["Robbery",29,2011,"Orleans",1,{"$f":"'2012-2006Pop'!$C$2","v":{"v":46000,"d":"46,000"}},{"v":6.304347826086956,"d":"6"}]
["Cannabis",33,2012,"Orleans",1,{"$f":"'2012-2006Pop'!$D$2","v":{"v":49200,"d":"49,200"}},{"$f":"(B20/F20)*10000","v":{"v":6.707317073170732,"d":"7"}}]
["Robbery",28,2012,"Orleans",1,{"$f":"'2012-2006Pop'!$D$2","v":{"v":49200,"d":"49,200"}},{"v":5.691056910569106,"d":"6"}]
["Impaired Operation of Vehicle",27,2011,"Orleans",1,{"$f":"'2012-2006Pop'!$C$2","v":{"v":46000,"d":"46,000"}},{"$f":"(B22/F22)*10000","v":{"v":5.869565217391305,"d":"6"}}]
["Other Offences",26,2012,"Orleans",1,{"$f":"'2012-2006Pop'!$D$2","v":{"v":49200,"d":"49,200"}},{"$f":"(B23/F23)*10000","v":{"v":5.284552845528455,"d":"5"}}]
["Other Criminal Code Offences",19,2012,"Orleans",1,{"$f":"'2012-2006Pop'!$D$2","v":{"v":49200,"d":"49,200"}},{"v":3.861788617886179,"d":"4"}]
["Bail Violations",20,2011,"Orleans",1,{"$f":"'2012-2006Pop'!$C$2","v":{"v":46000,"d":"46,000"}},{"$f":"(B25/F25)*10000","v":{"v":4.3478260869565215,"d":"4"}}]
["Bail Violations",16,2012,"Orleans",1,{"$f":"'2012-2006Pop'!$D$2","v":{"v":49200,"d":"49,200"}},{"$f":"(B26/F26)*10000","v":{"v":3.252032520325203,"d":"3"}}]
["Uttering Threats or Intimidation",14,2011,"Orleans",1,{"$f":"'2012-2006Pop'!$C$2","v":{"v":46000,"d":"46,000"}},{"$f":"(B27/F27)*10000","v":{"v":3.043478260869565,"d":"3"}}]
["Uttering Threats or Intimidation",15,2012,"Orleans",1,{"$f":"'2012-2006Pop'!$D$2","v":{"v":49200,"d":"49,200"}},{"$f":"(B28/F28)*10000","v":{"v":3.048780487804878,"d":"3"}}]
["Theft Over $5000",12,2012,"Orleans",1,{"$f":"'2012-2006Pop'!$D$2","v":{"v":49200,"d":"49,200"}},{"v":2.4390243902439024,"d":"2"}]
["Arson",7,2012,"Orleans",1,{"$f":"'2012-2006Pop'!$D$2","v":{"v":49200,"d":"49,200"}},{"v":1.4227642276422765,"d":"1"}]
["Possession of Stolen Goods",14,2011,"Orleans",1,{"$f":"'2012-2006Pop'!$C$2","v":{"v":46000,"d":"46,000"}},{"$f":"(B31/F31)*10000","v":{"v":3.043478260869565,"d":"3"}}]
["Other Criminal Code Offences",14,2011,"Orleans",1,{"$f":"'2012-2006Pop'!$C$2","v":{"v":46000,"d":"46,000"}},{"$f":"(B32/F32)*10000","v":{"v":3.043478260869565,"d":"3"}}]
["Theft Over $5000",10,2011,"Orleans",1,{"$f":"'2012-2006Pop'!$C$2","v":{"v":46000,"d":"46,000"}},{"$f":"(B33/F33)*10000","v":{"v":2.1739130434782608,"d":"2"}}]
["Arson",8,2011,"Orleans",1,{"$f":"'2012-2006Pop'!$C$2","v":{"v":46000,"d":"46,000"}},{"$f":"(B34/F34)*10000","v":{"v":1.7391304347826089,"d":"2"}}]
["Offensive Weapons",7,2011,"Orleans",1,{"$f":"'2012-2006Pop'!$C$2","v":{"v":46000,"d":"46,000"}},{"$f":"(B35/F35)*10000","v":{"v":1.5217391304347825,"d":"2"}}]
["Possession of Stolen Goods",6,2012,"Orleans",1,{"$f":"'2012-2006Pop'!$D$2","v":{"v":49200,"d":"49,200"}},{"$f":"(B36/F36)*10000","v":{"v":1.2195121951219512,"d":"1"}}]
["Dangerous Operation of Motor Vehicle",6,2012,"Orleans",1,{"$f":"'2012-2006Pop'!$D$2","v":{"v":49200,"d":"49,200"}},{"v":1.2195121951219512,"d":"1"}]
["Threats via the Internet",6,2011,"Orleans",1,{"$f":"'2012-2006Pop'!$C$2","v":{"v":46000,"d":"46,000"}},{"$f":"(B38/F38)*10000","v":{"v":1.3043478260869563,"d":"1"}}]
["Offensive Weapons",4,2012,"Orleans",1,{"$f":"'2012-2006Pop'!$D$2","v":{"v":49200,"d":"49,200"}},{"$f":"(B39/F39)*10000","v":{"v":0.8130081300813008,"d":"1"}}]
["Other Sexual Offences",4,2011,"Orleans",1,{"$f":"'2012-2006Pop'!$C$2","v":{"v":46000,"d":"46,000"}},{"$f":"(B40/F40)*10000","v":{"v":0.8695652173913044,"d":"1"}}]
["Threats via the Internet",4,2012,"Orleans",1,{"$f":"'2012-2006Pop'!$D$2","v":{"v":49200,"d":"49,200"}},{"$f":"(B41/F41)*10000","v":{"v":0.8130081300813008,"d":"1"}}]
["Driving Motor Vehicle While Prohibited",4,2012,"Orleans",1,{"$f":"'2012-2006Pop'!$D$2","v":{"v":49200,"d":"49,200"}},{"v":0.8130081300813008,"d":"1"}]
["Breach Probation",4,2011,"Orleans",1,{"$f":"'2012-2006Pop'!$C$2","v":{"v":46000,"d":"46,000"}},{"$f":"(B43/F43)*10000","v":{"v":0.8695652173913044,"d":"1"}}]
["Driving Motor Vehicle While Prohibited",3,2011,"Orleans",1,{"$f":"'2012-2006Pop'!$C$2","v":{"v":46000,"d":"46,000"}},{"v":0.6521739130434782,"d":"1"}]
["Other Sexual Offences",2,2012,"Orleans",1,{"$f":"'2012-2006Pop'!$D$2","v":{"v":49200,"d":"49,200"}},{"v":0.4065040650406504,"d":"0"}]
["Other Controlled Drugs and Substances",2,2011,"Orleans",1,{"$f":"'2012-2006Pop'!$C$2","v":{"v":46000,"d":"46,000"}},{"v":0.4347826086956522,"d":"0"}]
["Abduction",2,2012,"Orleans",1,{"$f":"'2012-2006Pop'!$D$2","v":{"v":49200,"d":"49,200"}},{"v":0.4065040650406504,"d":"0"}]
["Homicide (Incidents)",1,2011,"Orleans",1,{"$f":"'2012-2006Pop'!$C$2","v":{"v":46000,"d":"46,000"}},{"v":0.2173913043478261,"d":"0"}]
["Counterfeiting Currency",2,2012,"Orleans",1,{"$f":"'2012-2006Pop'!$D$2","v":{"v":49200,"d":"49,200"}},{"$f":"(B49/F49)*10000","v":{"v":0.4065040650406504,"d":"0"}}]
["Breach Probation",2,2012,"Orleans",1,{"$f":"'2012-2006Pop'!$D$2","v":{"v":49200,"d":"49,200"}},{"v":0.4065040650406504,"d":"0"}]
["Abduction",1,2011,"Orleans",1,{"$f":"'2012-2006Pop'!$C$2","v":{"v":46000,"d":"46,000"}},{"$f":"(B51/F51)*10000","v":{"v":0.2173913043478261,"d":"0"}}]
["Other Controlled Drugs and Substances",2,2012,"Orleans",1,{"$f":"'2012-2006Pop'!$D$2","v":{"v":49200,"d":"49,200"}},{"$f":"(B52/F52)*10000","v":{"v":0.4065040650406504,"d":"0"}}]
["Prostitution",1,2012,"Orleans",1,{"$f":"'2012-2006Pop'!$D$2","v":{"v":49200,"d":"49,200"}},{"v":0.2032520325203252,"d":"0"}]
["Dangerous Operation of Motor Vehicle",1,2011,"Orleans",1,{"$f":"'2012-2006Pop'!$C$2","v":{"v":46000,"d":"46,000"}},{"$f":"(B54/F54)*10000","v":{"v":0.2173913043478261,"d":"0"}}]
["Ecstasy (Methylenedioxyamphetamine )",1,2011,"Orleans",1,{"$f":"'2012-2006Pop'!$C$2","v":{"v":46000,"d":"46,000"}},{"v":0.2173913043478261,"d":"0"}]
["Attempted Murder",0,2011,"Orleans",1,{"$f":"'2012-2006Pop'!$C$2","v":{"v":46000,"d":"46,000"}},0]
["Counterfeiting Currency",0,2011,"Orleans",1,{"$f":"'2012-2006Pop'!$C$2","v":{"v":46000,"d":"46,000"}},0]
["Prostitution",0,2011,"Orleans",1,{"$f":"'2012-2006Pop'!$C$2","v":{"v":46000,"d":"46,000"}},0]
["Other Criminal Code Offences",0,2011,"Orleans",1,{"$f":"'2012-2006Pop'!$C$2","v":{"v":46000,"d":"46,000"}},0]
["Crystal Meth (Methamphetamine)",0,2011,"Orleans",1,{"$f":"'2012-2006Pop'!$C$2","v":{"v":46000,"d":"46,000"}},0]
["Heroin",0,2011,"Orleans",1,{"$f":"'2012-2006Pop'!$C$2","v":{"v":46000,"d":"46,000"}},0]
["Cocaine",0,2011,"Orleans",1,{"$f":"'2012-2006Pop'!$C$2","v":{"v":46000,"d":"46,000"}},0]
["Cocaine",1,2012,"Orleans",1,{"$f":"'2012-2006Pop'!$D$2","v":{"v":49200,"d":"49,200"}},{"$f":"(B63/F63)*10000","v":{"v":0.2032520325203252,"d":"0"}}]
["Theft $5000 and Under",339,2011,"Innes",2,{"$f":"'2012-2006Pop'!$C$3","v":{"v":37820,"d":"37,820"}},{"$f":"(B64/F64)*10000","v":{"v":89.6351136964569,"d":"90"}}]
["Homicide (Incidents)",0,2012,"Orleans",1,{"$f":"'2012-2006Pop'!$D$2","v":{"v":49200,"d":"49,200"}},{"$f":"(B65/F65)*10000","v":0}]
["Attempted Murder",0,2012,"Orleans",1,{"$f":"'2012-2006Pop'!$D$2","v":{"v":49200,"d":"49,200"}},0]
["Other Criminal Code Offences",0,2012,"Orleans",1,{"$f":"'2012-2006Pop'!$D$2","v":{"v":49200,"d":"49,200"}},0]
["Ecstasy (Methylenedioxyamphetamine )",0,2012,"Orleans",1,{"$f":"'2012-2006Pop'!$D$2","v":{"v":49200,"d":"49,200"}},0]
["Crystal Meth (Methamphetamine)",0,2012,"Orleans",1,{"$f":"'2012-2006Pop'!$D$2","v":{"v":49200,"d":"49,200"}},0]
["Heroin",0,2012,"Orleans",1,{"$f":"'2012-2006Pop'!$D$2","v":{"v":49200,"d":"49,200"}},0]
["Theft $5000 and Under",339,2012,"Innes",2,{"$f":"'2012-2006Pop'!$D$3","v":{"v":40100,"d":"40,100"}},{"$f":"(B71/F71)*10000","v":{"v":84.53865336658353,"d":"85"}}]
["Mischief",184,2012,"Innes",2,{"$f":"'2012-2006Pop'!$D$3","v":{"v":40100,"d":"40,100"}},{"$f":"(B72/F72)*10000","v":{"v":45.885286783042396,"d":"46"}}]
["Mischief",180,2011,"Innes",2,{"$f":"'2012-2006Pop'!$C$3","v":{"v":37820,"d":"37,820"}},{"$f":"(B73/F73)*10000","v":{"v":47.59386567953464,"d":"48"}}]
["Other Criminal Code Offences",115,2011,"Innes",2,{"$f":"'2012-2006Pop'!$C$3","v":{"v":37820,"d":"37,820"}},{"v":30.40719196192491,"d":"30"}]
["Other Criminal Code Offences",106,2012,"Innes",2,{"$f":"'2012-2006Pop'!$D$3","v":{"v":40100,"d":"40,100"}},{"$f":"(B75/F75)*10000","v":{"v":26.433915211970074,"d":"26"}}]
["Assault (Incl. Sexual Assaults)",98,2012,"Innes",2,{"$f":"'2012-2006Pop'!$D$3","v":{"v":40100,"d":"40,100"}},{"v":24.438902743142144,"d":"24"}]
["Fraud",81,2012,"Innes",2,{"$f":"'2012-2006Pop'!$D$3","v":{"v":40100,"d":"40,100"}},{"v":20.199501246882793,"d":"20"}]
["Break and Enter",71,2012,"Innes",2,{"$f":"'2012-2006Pop'!$D$3","v":{"v":40100,"d":"40,100"}},{"v":17.705735660847882,"d":"18"}]
["Failure to Stop or Remain",52,2012,"Innes",2,{"$f":"'2012-2006Pop'!$D$3","v":{"v":40100,"d":"40,100"}},{"v":12.967581047381547,"d":"13"}]
["Theft - Motor Vehicle",38,2012,"Innes",2,{"$f":"'2012-2006Pop'!$D$3","v":{"v":40100,"d":"40,100"}},{"v":9.476309226932669,"d":"9"}]
["Fraud",98,2011,"Innes",2,{"$f":"'2012-2006Pop'!$C$3","v":{"v":37820,"d":"37,820"}},{"v":25.912215758857748,"d":"26"}]
["Assault (Incl. Sexual Assaults)",95,2011,"Innes",2,{"$f":"'2012-2006Pop'!$C$3","v":{"v":37820,"d":"37,820"}},{"v":25.118984664198837,"d":"25"}]
["Cannabis",32,2012,"Innes",2,{"$f":"'2012-2006Pop'!$D$3","v":{"v":40100,"d":"40,100"}},{"$f":"(B83/F83)*10000","v":{"v":7.980049875311721,"d":"8"}}]
["Other Offences",27,2012,"Innes",2,{"$f":"'2012-2006Pop'!$D$3","v":{"v":40100,"d":"40,100"}},{"v":6.733167082294265,"d":"7"}]
["Break and Enter",76,2011,"Innes",2,{"$f":"'2012-2006Pop'!$C$3","v":{"v":37820,"d":"37,820"}},{"v":20.09518773135907,"d":"20"}]
["Failure to Stop or Remain",51,2011,"Innes",2,{"$f":"'2012-2006Pop'!$C$3","v":{"v":37820,"d":"37,820"}},{"v":13.48492860920148,"d":"13"}]
["Impaired Operation of Vehicle",21,2012,"Innes",2,{"$f":"'2012-2006Pop'!$D$3","v":{"v":40100,"d":"40,100"}},{"$f":"(B87/F87)*10000","v":{"v":5.236907730673317,"d":"5"}}]
["Uttering Threats or Intimidation",18,2012,"Innes",2,{"$f":"'2012-2006Pop'!$D$3","v":{"v":40100,"d":"40,100"}},{"v":4.488778054862843,"d":"4"}]
["Bail Violations",18,2012,"Innes",2,{"$f":"'2012-2006Pop'!$D$3","v":{"v":40100,"d":"40,100"}},{"v":4.488778054862843,"d":"4"}]
["Robbery",17,2012,"Innes",2,{"$f":"'2012-2006Pop'!$D$3","v":{"v":40100,"d":"40,100"}},{"v":4.239401496259352,"d":"4"}]
["Cannabis",37,2011,"Innes",2,{"$f":"'2012-2006Pop'!$C$3","v":{"v":37820,"d":"37,820"}},{"v":9.783183500793232,"d":"10"}]
["Impaired Operation of Vehicle",28,2011,"Innes",2,{"$f":"'2012-2006Pop'!$C$3","v":{"v":37820,"d":"37,820"}},{"v":7.4034902168164995,"d":"7"}]
["Other Offences",27,2011,"Innes",2,{"$f":"'2012-2006Pop'!$C$3","v":{"v":37820,"d":"37,820"}},{"v":7.1390798519301955,"d":"7"}]
["Theft - Motor Vehicle",24,2011,"Innes",2,{"$f":"'2012-2006Pop'!$C$3","v":{"v":37820,"d":"37,820"}},{"v":6.345848757271285,"d":"6"}]
["Arson",7,2012,"Innes",2,{"$f":"'2012-2006Pop'!$D$3","v":{"v":40100,"d":"40,100"}},{"$f":"(B95/F95)*10000","v":{"v":1.7456359102244388,"d":"2"}}," "]
["Theft Over $5000",6,2012,"Innes",2,{"$f":"'2012-2006Pop'!$D$3","v":{"v":40100,"d":"40,100"}},{"v":1.4962593516209475,"d":"1"}]
["Bail Violations",16,2011,"Innes",2,{"$f":"'2012-2006Pop'!$C$3","v":{"v":37820,"d":"37,820"}},{"$f":"(B97/F97)*10000","v":{"v":4.230565838180857,"d":"4"}}]
["Dangerous Operation of Motor Vehicle",5,2012,"Innes",2,{"$f":"'2012-2006Pop'!$D$3","v":{"v":40100,"d":"40,100"}},{"v":1.2468827930174562,"d":"1"}]
["Robbery",13,2011,"Innes",2,{"$f":"'2012-2006Pop'!$C$3","v":{"v":37820,"d":"37,820"}},{"v":3.437334743521946,"d":"3"}]
["Cocaine",4,2012,"Innes",2,{"$f":"'2012-2006Pop'!$D$3","v":{"v":40100,"d":"40,100"}},{"v":0.9975062344139651,"d":"1"}]
["Uttering Threats or Intimidation",10,2011,"Innes",2,{"$f":"'2012-2006Pop'!$C$3","v":{"v":37820,"d":"37,820"}},{"v":2.6441036488630356,"d":"3"}]
["Offensive Weapons",3,2012,"Innes",2,{"$f":"'2012-2006Pop'!$D$3","v":{"v":40100,"d":"40,100"}},{"v":0.7481296758104737,"d":"1"}]
["Arson",8,2011,"Innes",2,{"$f":"'2012-2006Pop'!$C$3","v":{"v":37820,"d":"37,820"}},{"v":2.1152829190904283,"d":"2"}]
["Counterfeiting Currency",3,2012,"Innes",2,{"$f":"'2012-2006Pop'!$D$3","v":{"v":40100,"d":"40,100"}},{"v":0.7481296758104737,"d":"1"}]
["Theft Over $5000",6,2011,"Innes",2,{"$f":"'2012-2006Pop'!$C$3","v":{"v":37820,"d":"37,820"}},{"v":1.5864621893178212,"d":"2"}]
["Driving Motor Vehicle While Prohibited",3,2012,"Innes",2,{"$f":"'2012-2006Pop'!$D$3","v":{"v":40100,"d":"40,100"}},{"v":0.7481296758104737,"d":"1"}]
["Counterfeiting Currency",6,2011,"Innes",2,{"$f":"'2012-2006Pop'!$C$3","v":{"v":37820,"d":"37,820"}},{"$f":"(B107/F107)*10000","v":{"v":1.5864621893178212,"d":"2"}}]
["Threats via the Internet",5,2011,"Innes",2,{"$f":"'2012-2006Pop'!$C$3","v":{"v":37820,"d":"37,820"}},{"v":1.3220518244315178,"d":"1"}]
["Other Controlled Drugs and Substances",3,2012,"Innes",2,{"$f":"'2012-2006Pop'!$D$3","v":{"v":40100,"d":"40,100"}},{"$f":"(B109/F109)*10000","v":{"v":0.7481296758104737,"d":"1"}}]
["Abduction",2,2012,"Innes",2,{"$f":"'2012-2006Pop'!$D$3","v":{"v":40100,"d":"40,100"}},{"v":0.49875311720698257,"d":"0"}]
["Possession of Stolen Goods",2,2012,"Innes",2,{"$f":"'2012-2006Pop'!$D$3","v":{"v":40100,"d":"40,100"}},{"v":0.49875311720698257,"d":"0"}]
["Offensive Weapons",4,2011,"Innes",2,{"$f":"'2012-2006Pop'!$C$3","v":{"v":37820,"d":"37,820"}},{"v":1.0576414595452142,"d":"1"}]
["Cocaine",3,2011,"Innes",2,{"$f":"'2012-2006Pop'!$C$3","v":{"v":37820,"d":"37,820"}},{"v":0.7932310946589106,"d":"1"}]
["Threats via the Internet",2,2012,"Innes",2,{"$f":"'2012-2006Pop'!$D$3","v":{"v":40100,"d":"40,100"}},{"$f":"(B114/F114)*10000","v":{"v":0.49875311720698257,"d":"0"}}]
["Driving Motor Vehicle While Prohibited",2,2011,"Innes",2,{"$f":"'2012-2006Pop'!$C$3","v":{"v":37820,"d":"37,820"}},{"$f":"(B115/F115)*10000","v":{"v":0.5288207297726071,"d":"1"}}]
["Other Sexual Offences",1,2011,"Innes",2,{"$f":"'2012-2006Pop'!$C$3","v":{"v":37820,"d":"37,820"}},{"v":0.26441036488630354,"d":"0"}]
["Abduction",1,2011,"Innes",2,{"$f":"'2012-2006Pop'!$C$3","v":{"v":37820,"d":"37,820"}},{"v":0.26441036488630354,"d":"0"}]
["Breach Probation",1,2011,"Innes",2,{"$f":"'2012-2006Pop'!$C$3","v":{"v":37820,"d":"37,820"}},{"v":0.26441036488630354,"d":"0"}]
["Homicide (Incidents)",1,2012,"Innes",2,{"$f":"'2012-2006Pop'!$D$3","v":{"v":40100,"d":"40,100"}},{"$f":"(B119/F119)*10000","v":{"v":0.24937655860349128,"d":"0"}}]
["Dangerous Operation of Motor Vehicle",1,2011,"Innes",2,{"$f":"'2012-2006Pop'!$C$3","v":{"v":37820,"d":"37,820"}},{"$f":"(B120/F120)*10000","v":{"v":0.26441036488630354,"d":"0"}}]
["Homicide (Incidents)",0,2011,"Innes",2,{"$f":"'2012-2006Pop'!$C$3","v":{"v":37820,"d":"37,820"}},0]
["Attempted Murder",0,2011,"Innes",2,{"$f":"'2012-2006Pop'!$C$3","v":{"v":37820,"d":"37,820"}},0]
["Possession of Stolen Goods",0,2011,"Innes",2,{"$f":"'2012-2006Pop'!$C$3","v":{"v":37820,"d":"37,820"}},0]
["Other Sexual Offences",1,2012,"Innes",2,{"$f":"'2012-2006Pop'!$D$3","v":{"v":40100,"d":"40,100"}},{"$f":"(B124/F124)*10000","v":{"v":0.24937655860349128,"d":"0"}}]
["Prostitution",0,2011,"Innes",2,{"$f":"'2012-2006Pop'!$C$3","v":{"v":37820,"d":"37,820"}},{"$f":"(B125/F125)*10000","v":0}]
["Ecstasy (Methylenedioxyamphetamine )",1,2012,"Innes",2,{"$f":"'2012-2006Pop'!$D$3","v":{"v":40100,"d":"40,100"}},{"$f":"(B126/F126)*10000","v":{"v":0.24937655860349128,"d":"0"}}]
["Attempted Murder",0,2012,"Innes",2,{"$f":"'2012-2006Pop'!$D$3","v":{"v":40100,"d":"40,100"}},0]
["Other Criminal Code Offences",0,2011,"Innes",2,{"$f":"'2012-2006Pop'!$C$3","v":{"v":37820,"d":"37,820"}},{"$f":"(B128/F128)*10000","v":0}]
["Breach Probation",0,2012,"Innes",2,{"$f":"'2012-2006Pop'!$D$3","v":{"v":40100,"d":"40,100"}},{"$f":"(B129/F129)*10000","v":0}]
["Prostitution",0,2012,"Innes",2,{"$f":"'2012-2006Pop'!$D$3","v":{"v":40100,"d":"40,100"}},0]
["Other Criminal Code Offences",0,2012,"Innes",2,{"$f":"'2012-2006Pop'!$D$3","v":{"v":40100,"d":"40,100"}},0]
["Crystal Meth (Methamphetamine)",0,2012,"Innes",2,{"$f":"'2012-2006Pop'!$D$3","v":{"v":40100,"d":"40,100"}},0]
["Heroin",0,2012,"Innes",2,{"$f":"'2012-2006Pop'!$D$3","v":{"v":40100,"d":"40,100"}},0]
["Theft $5000 and Under",376,2012,"Barrhaven",3,{"$f":"'2012-2006Pop'!$D$4","v":{"v":52050,"d":"52,050"}},{"$f":"(B134/F134)*10000","v":{"v":72.23823246878003,"d":"72"}}]
["Mischief",206,2012,"Barrhaven",3,{"$f":"'2012-2006Pop'!$D$4","v":{"v":52050,"d":"52,050"}},{"$f":"(B135/F135)*10000","v":{"v":39.577329490874156,"d":"40"}}]
["Ecstasy (Methylenedioxyamphetamine )",0,2011,"Innes",2,{"$f":"'2012-2006Pop'!$C$3","v":{"v":37820,"d":"37,820"}},{"$f":"(B136/F136)*10000","v":0}]
["Crystal Meth (Methamphetamine)",0,2011,"Innes",2,{"$f":"'2012-2006Pop'!$C$3","v":{"v":37820,"d":"37,820"}},0]
["Heroin",0,2011,"Innes",2,{"$f":"'2012-2006Pop'!$C$3","v":{"v":37820,"d":"37,820"}},0]
["Fraud",97,2012,"Barrhaven",3,{"$f":"'2012-2006Pop'!$D$4","v":{"v":52050,"d":"52,050"}},{"v":18.635926993275696,"d":"19"}]
["Break and Enter",78,2012,"Barrhaven",3,{"$f":"'2012-2006Pop'!$D$4","v":{"v":52050,"d":"52,050"}},{"v":14.985590778097983,"d":"15"}]
["Other Controlled Drugs and Substances",0,2011,"Innes",2,{"$f":"'2012-2006Pop'!$C$3","v":{"v":37820,"d":"37,820"}},{"$f":"(B141/F141)*10000","v":0}]
["Assault (Incl. Sexual Assaults)",67,2012,"Barrhaven",3,{"$f":"'2012-2006Pop'!$D$4","v":{"v":52050,"d":"52,050"}},{"$f":"(B142/F142)*10000","v":{"v":12.872238232468781,"d":"13"}}]
["Theft $5000 and Under",322,2011,"Barrhaven",3,{"$f":"'2012-2006Pop'!$C$4","v":{"v":36815,"d":"36,815"}},{"$f":"(B143/F143)*10000","v":{"v":87.46434877088144,"d":"87"}}]
["Mischief",193,2011,"Barrhaven",3,{"$f":"'2012-2006Pop'!$C$4","v":{"v":36815,"d":"36,815"}},{"$f":"(B144/F144)*10000","v":{"v":52.42428358006247,"d":"52"}}]
["Break and Enter",74,2011,"Barrhaven",3,{"$f":"'2012-2006Pop'!$C$4","v":{"v":36815,"d":"36,815"}},{"v":20.100502512562816,"d":"20"}]
["Fraud",71,2011,"Barrhaven",3,{"$f":"'2012-2006Pop'!$C$4","v":{"v":36815,"d":"36,815"}},{"v":19.285617275567024,"d":"19"}]
["Assault (Incl. Sexual Assaults)",67,2011,"Barrhaven",3,{"$f":"'2012-2006Pop'!$C$4","v":{"v":36815,"d":"36,815"}},{"v":18.199103626239307,"d":"18"}]
["Failure to Stop or Remain",40,2012,"Barrhaven",3,{"$f":"'2012-2006Pop'!$D$4","v":{"v":52050,"d":"52,050"}},{"$f":"(B148/F148)*10000","v":{"v":7.684918347742555,"d":"8"}}]
["Cannabis",34,2012,"Barrhaven",3,{"$f":"'2012-2006Pop'!$D$4","v":{"v":52050,"d":"52,050"}},{"v":6.532180595581172,"d":"7"}]
["Bail Violations",29,2012,"Barrhaven",3,{"$f":"'2012-2006Pop'!$D$4","v":{"v":52050,"d":"52,050"}},{"v":5.571565802113353,"d":"6"}]
["Cannabis",36,2011,"Barrhaven",3,{"$f":"'2012-2006Pop'!$C$4","v":{"v":36815,"d":"36,815"}},{"$f":"(B151/F151)*10000","v":{"v":9.778622843949476,"d":"10"}}]
["Robbery",24,2012,"Barrhaven",3,{"$f":"'2012-2006Pop'!$D$4","v":{"v":52050,"d":"52,050"}},{"$f":"(B152/F152)*10000","v":{"v":4.610951008645533,"d":"5"}}]
["Theft - Motor Vehicle",22,2012,"Barrhaven",3,{"$f":"'2012-2006Pop'!$D$4","v":{"v":52050,"d":"52,050"}},{"v":4.226705091258405,"d":"4"}]
["Failure to Stop or Remain",34,2011,"Barrhaven",3,{"$f":"'2012-2006Pop'!$C$4","v":{"v":36815,"d":"36,815"}},{"$f":"(B154/F154)*10000","v":{"v":9.235366019285618,"d":"9"}}]
["Impaired Operation of Vehicle",20,2012,"Barrhaven",3,{"$f":"'2012-2006Pop'!$D$4","v":{"v":52050,"d":"52,050"}},{"$f":"(B155/F155)*10000","v":{"v":3.8424591738712777,"d":"4"}}]
["Theft - Motor Vehicle",22,2011,"Barrhaven",3,{"$f":"'2012-2006Pop'!$C$4","v":{"v":36815,"d":"36,815"}},{"$f":"(B156/F156)*10000","v":{"v":5.9758250713024585,"d":"6"}}]
["Other Offences",18,2012,"Barrhaven",3,{"$f":"'2012-2006Pop'!$D$4","v":{"v":52050,"d":"52,050"}},{"$f":"(B157/F157)*10000","v":{"v":3.4582132564841497,"d":"3"}}]
["Uttering Threats or Intimidation",12,2012,"Barrhaven",3,{"$f":"'2012-2006Pop'!$D$4","v":{"v":52050,"d":"52,050"}},{"v":2.3054755043227666,"d":"2"}]
["Other Criminal Code Offences",11,2012,"Barrhaven",3,{"$f":"'2012-2006Pop'!$D$4","v":{"v":52050,"d":"52,050"}},{"v":2.1133525456292026,"d":"2"}]
["Robbery",20,2011,"Barrhaven",3,{"$f":"'2012-2006Pop'!$C$4","v":{"v":36815,"d":"36,815"}},{"v":5.432568246638598,"d":"5"}]
["Other Offences",20,2011,"Barrhaven",3,{"$f":"'2012-2006Pop'!$C$4","v":{"v":36815,"d":"36,815"}},{"v":5.432568246638598,"d":"5"}]
["Impaired Operation of Vehicle",20,2011,"Barrhaven",3,{"$f":"'2012-2006Pop'!$C$4","v":{"v":36815,"d":"36,815"}},{"v":5.432568246638598,"d":"5"}]
["Other Criminal Code Offences",17,2011,"Barrhaven",3,{"$f":"'2012-2006Pop'!$C$4","v":{"v":36815,"d":"36,815"}},{"v":4.617683009642809,"d":"5"}]
["Theft Over $5000",9,2012,"Barrhaven",3,{"$f":"'2012-2006Pop'!$D$4","v":{"v":52050,"d":"52,050"}},{"$f":"(B164/F164)*10000","v":{"v":1.7291066282420748,"d":"2"}}]
["Uttering Threats or Intimidation",12,2011,"Barrhaven",3,{"$f":"'2012-2006Pop'!$C$4","v":{"v":36815,"d":"36,815"}},{"$f":"(B165/F165)*10000","v":{"v":3.259540947983159,"d":"3"}}]
["Bail Violations",12,2011,"Barrhaven",3,{"$f":"'2012-2006Pop'!$C$4","v":{"v":36815,"d":"36,815"}},{"v":3.259540947983159,"d":"3"}]
["Arson",4,2012,"Barrhaven",3,{"$f":"'2012-2006Pop'!$D$4","v":{"v":52050,"d":"52,050"}},{"$f":"(B167/F167)*10000","v":{"v":0.7684918347742555,"d":"1"}}]
["Abduction",3,2012,"Barrhaven",3,{"$f":"'2012-2006Pop'!$D$4","v":{"v":52050,"d":"52,050"}},{"v":0.5763688760806917,"d":"1"}]
["Threats via the Internet",7,2011,"Barrhaven",3,{"$f":"'2012-2006Pop'!$C$4","v":{"v":36815,"d":"36,815"}},{"v":1.9013988863235094,"d":"2"}]
["Possession of Stolen Goods",5,2011,"Barrhaven",3,{"$f":"'2012-2006Pop'!$C$4","v":{"v":36815,"d":"36,815"}},{"v":1.3581420616596496,"d":"1"}]
["Arson",5,2011,"Barrhaven",3,{"$f":"'2012-2006Pop'!$C$4","v":{"v":36815,"d":"36,815"}},{"v":1.3581420616596496,"d":"1"}]
["Cocaine",3,2012,"Barrhaven",3,{"$f":"'2012-2006Pop'!$D$4","v":{"v":52050,"d":"52,050"}},{"$f":"(B172/F172)*10000","v":{"v":0.5763688760806917,"d":"1"}}]
["Offensive Weapons",5,2011,"Barrhaven",3,{"$f":"'2012-2006Pop'!$C$4","v":{"v":36815,"d":"36,815"}},{"$f":"(B173/F173)*10000","v":{"v":1.3581420616596496,"d":"1"}}]
["Possession of Stolen Goods",2,2012,"Barrhaven",3,{"$f":"'2012-2006Pop'!$D$4","v":{"v":52050,"d":"52,050"}},{"$f":"(B174/F174)*10000","v":{"v":0.38424591738712777,"d":"0"}}]
["Theft Over $5000",4,2011,"Barrhaven",3,{"$f":"'2012-2006Pop'!$C$4","v":{"v":36815,"d":"36,815"}},{"$f":"(B175/F175)*10000","v":{"v":1.0865136493277197,"d":"1"}}]
["Breach Probation",2,2012,"Barrhaven",3,{"$f":"'2012-2006Pop'!$D$4","v":{"v":52050,"d":"52,050"}},{"$f":"(B176/F176)*10000","v":{"v":0.38424591738712777,"d":"0"}}]
["Other Controlled Drugs and Substances",2,2012,"Barrhaven",3,{"$f":"'2012-2006Pop'!$D$4","v":{"v":52050,"d":"52,050"}},{"v":0.38424591738712777,"d":"0"}]
["Other Sexual Offences",2,2011,"Barrhaven",3,{"$f":"'2012-2006Pop'!$C$4","v":{"v":36815,"d":"36,815"}},{"v":0.5432568246638598,"d":"1"}]
["Dangerous Operation of Motor Vehicle",2,2011,"Barrhaven",3,{"$f":"'2012-2006Pop'!$C$4","v":{"v":36815,"d":"36,815"}},{"v":0.5432568246638598,"d":"1"}]
["Homicide (Incidents)",1,2011,"Barrhaven",3,{"$f":"'2012-2006Pop'!$C$4","v":{"v":36815,"d":"36,815"}},{"v":0.2716284123319299,"d":"0"}]
["Abduction",1,2011,"Barrhaven",3,{"$f":"'2012-2006Pop'!$C$4","v":{"v":36815,"d":"36,815"}},{"v":0.2716284123319299,"d":"0"}]
["Homicide (Incidents)",1,2012,"Barrhaven",3,{"$f":"'2012-2006Pop'!$D$4","v":{"v":52050,"d":"52,050"}},{"$f":"(B182/F182)*10000","v":{"v":0.19212295869356388,"d":"0"}}]
["Offensive Weapons",1,2012,"Barrhaven",3,{"$f":"'2012-2006Pop'!$D$4","v":{"v":52050,"d":"52,050"}},{"v":0.19212295869356388,"d":"0"}]
["Counterfeiting Currency",1,2011,"Barrhaven",3,{"$f":"'2012-2006Pop'!$C$4","v":{"v":36815,"d":"36,815"}},{"v":0.2716284123319299,"d":"0"}]
["Driving Motor Vehicle While Prohibited",1,2011,"Barrhaven",3,{"$f":"'2012-2006Pop'!$C$4","v":{"v":36815,"d":"36,815"}},{"v":0.2716284123319299,"d":"0"}]
["Cocaine",1,2011,"Barrhaven",3,{"$f":"'2012-2006Pop'!$C$4","v":{"v":36815,"d":"36,815"}},{"v":0.2716284123319299,"d":"0"}]
["Attempted Murder",0,2011,"Barrhaven",3,{"$f":"'2012-2006Pop'!$C$4","v":{"v":36815,"d":"36,815"}},0]
["Counterfeiting Currency",1,2012,"Barrhaven",3,{"$f":"'2012-2006Pop'!$D$4","v":{"v":52050,"d":"52,050"}},{"$f":"(B188/F188)*10000","v":{"v":0.19212295869356388,"d":"0"}}]
["Breach Probation",0,2011,"Barrhaven",3,{"$f":"'2012-2006Pop'!$C$4","v":{"v":36815,"d":"36,815"}},{"$f":"(B189/F189)*10000","v":0}]
["Prostitution",0,2011,"Barrhaven",3,{"$f":"'2012-2006Pop'!$C$4","v":{"v":36815,"d":"36,815"}},0]
["Dangerous Operation of Motor Vehicle",1,2012,"Barrhaven",3,{"$f":"'2012-2006Pop'!$D$4","v":{"v":52050,"d":"52,050"}},{"$f":"(B191/F191)*10000","v":{"v":0.19212295869356388,"d":"0"}}]
["Attempted Murder",0,2012,"Barrhaven",3,{"$f":"'2012-2006Pop'!$D$4","v":{"v":52050,"d":"52,050"}},0]
["Other Sexual Offences",0,2012,"Barrhaven",3,{"$f":"'2012-2006Pop'!$D$4","v":{"v":52050,"d":"52,050"}},0]
["Other Criminal Code Offences",0,2011,"Barrhaven",3,{"$f":"'2012-2006Pop'!$C$4","v":{"v":36815,"d":"36,815"}},{"$f":"(B194/F194)*10000","v":0}]
["Threats via the Internet",0,2012,"Barrhaven",3,{"$f":"'2012-2006Pop'!$D$4","v":{"v":52050,"d":"52,050"}},{"$f":"(B195/F195)*10000","v":0}]
["Prostitution",0,2012,"Barrhaven",3,{"$f":"'2012-2006Pop'!$D$4","v":{"v":52050,"d":"52,050"}},0]
["Ecstasy (Methylenedioxyamphetamine )",0,2011,"Barrhaven",3,{"$f":"'2012-2006Pop'!$C$4","v":{"v":36815,"d":"36,815"}},{"$f":"(B197/F197)*10000","v":0}]
["Driving Motor Vehicle While Prohibited",0,2012,"Barrhaven",3,{"$f":"'2012-2006Pop'!$D$4","v":{"v":52050,"d":"52,050"}},{"$f":"(B198/F198)*10000","v":0}]
["Other Criminal Code Offences",0,2012,"Barrhaven",3,{"$f":"'2012-2006Pop'!$D$4","v":{"v":52050,"d":"52,050"}},0]
["Ecstasy (Methylenedioxyamphetamine )",0,2012,"Barrhaven",3,{"$f":"'2012-2006Pop'!$D$4","v":{"v":52050,"d":"52,050"}},0]
["Crystal Meth (Methamphetamine)",0,2012,"Barrhaven",3,{"$f":"'2012-2006Pop'!$D$4","v":{"v":52050,"d":"52,050"}},0]
["Crystal Meth (Methamphetamine)",0,2011,"Barrhaven",3,{"$f":"'2012-2006Pop'!$C$4","v":{"v":36815,"d":"36,815"}},0]
["Heroin",0,2011,"Barrhaven",3,{"$f":"'2012-2006Pop'!$C$4","v":{"v":36815,"d":"36,815"}},0]
["Heroin",0,2012,"Barrhaven",3,{"$f":"'2012-2006Pop'!$D$4","v":{"v":52050,"d":"52,050"}},{"$f":"(B204/F204)*10000","v":0}]
["Theft $5000 and Under",347,2012,"Kanata North",4,{"$f":"'2012-2006Pop'!$D$5","v":{"v":34200,"d":"34,200"}},{"$f":"(B205/F205)*10000","v":{"v":101.46198830409357,"d":"101"}}]
["Other Controlled Drugs and Substances",0,2011,"Barrhaven",3,{"$f":"'2012-2006Pop'!$C$4","v":{"v":36815,"d":"36,815"}},{"$f":"(B206/F206)*10000","v":0}]
["Mischief",153,2012,"Kanata North",4,{"$f":"'2012-2006Pop'!$D$5","v":{"v":34200,"d":"34,200"}},{"$f":"(B207/F207)*10000","v":{"v":44.73684210526316,"d":"45"}}]
["Break and Enter",79,2012,"Kanata North",4,{"$f":"'2012-2006Pop'!$D$5","v":{"v":34200,"d":"34,200"}},{"v":23.099415204678362,"d":"23"}]
["Fraud",78,2012,"Kanata North",4,{"$f":"'2012-2006Pop'!$D$5","v":{"v":34200,"d":"34,200"}},{"v":22.807017543859647,"d":"23"}]
["Theft $5000 and Under",293,2011,"Kanata North",4,{"$f":"'2012-2006Pop'!$C$5","v":{"v":26510,"d":"26,510"}},{"$f":"(B210/C210)*10000","v":{"v":1456.9865738438587,"d":"1,457"}}]
["Failure to Stop or Remain",68,2012,"Kanata North",4,{"$f":"'2012-2006Pop'!$D$5","v":{"v":34200,"d":"34,200"}},{"$f":"(B211/F211)*10000","v":{"v":19.883040935672515,"d":"20"}}]
["Assault (Incl. Sexual Assaults)",54,2012,"Kanata North",4,{"$f":"'2012-2006Pop'!$D$5","v":{"v":34200,"d":"34,200"}},{"v":15.789473684210526,"d":"16"}]
["Mischief",156,2011,"Kanata North",4,{"$f":"'2012-2006Pop'!$C$5","v":{"v":26510,"d":"26,510"}},{"$f":"(B213/C213)*10000","v":{"v":775.7334659373447,"d":"776"}}]
["Assault (Incl. Sexual Assaults)",65,2011,"Kanata North",4,{"$f":"'2012-2006Pop'!$C$5","v":{"v":26510,"d":"26,510"}},{"v":323.2222774738936,"d":"323"}]
["Cannabis",23,2012,"Kanata North",4,{"$f":"'2012-2006Pop'!$D$5","v":{"v":34200,"d":"34,200"}},{"$f":"(B215/F215)*10000","v":{"v":6.7251461988304095,"d":"7"}}]
["Theft - Motor Vehicle",20,2012,"Kanata North",4,{"$f":"'2012-2006Pop'!$D$5","v":{"v":34200,"d":"34,200"}},{"v":5.847953216374269,"d":"6"}]
["Fraud",65,2011,"Kanata North",4,{"$f":"'2012-2006Pop'!$C$5","v":{"v":26510,"d":"26,510"}},{"$f":"(B217/C217)*10000","v":{"v":323.2222774738936,"d":"323"}}]
["Impaired Operation of Vehicle",20,2012,"Kanata North",4,{"$f":"'2012-2006Pop'!$D$5","v":{"v":34200,"d":"34,200"}},{"$f":"(B218/F218)*10000","v":{"v":5.847953216374269,"d":"6"}}]
["Failure to Stop or Remain",65,2011,"Kanata North",4,{"$f":"'2012-2006Pop'!$C$5","v":{"v":26510,"d":"26,510"}},{"$f":"(B219/C219)*10000","v":{"v":323.2222774738936,"d":"323"}}]
["Break and Enter",49,2011,"Kanata North",4,{"$f":"'2012-2006Pop'!$C$5","v":{"v":26510,"d":"26,510"}},{"v":243.659870711089,"d":"244"}]
["Cannabis",31,2011,"Kanata North",4,{"$f":"'2012-2006Pop'!$C$5","v":{"v":26510,"d":"26,510"}},{"v":154.15216310293388,"d":"154"}]
["Impaired Operation of Vehicle",20,2011,"Kanata North",4,{"$f":"'2012-2006Pop'!$C$5","v":{"v":26510,"d":"26,510"}},{"v":99.45300845350572,"d":"99"}]
["Other Offences",12,2012,"Kanata North",4,{"$f":"'2012-2006Pop'!$D$5","v":{"v":34200,"d":"34,200"}},{"$f":"(B223/F223)*10000","v":{"v":3.508771929824561,"d":"4"}}]
["Other Offences",15,2011,"Kanata North",4,{"$f":"'2012-2006Pop'!$C$5","v":{"v":26510,"d":"26,510"}},{"$f":"(B224/C224)*10000","v":{"v":74.58975634012928,"d":"75"}}]
["Bail Violations",12,2012,"Kanata North",4,{"$f":"'2012-2006Pop'!$D$5","v":{"v":34200,"d":"34,200"}},{"$f":"(B225/F225)*10000","v":{"v":3.508771929824561,"d":"4"}}]
["Uttering Threats or Intimidation",14,2011,"Kanata North",4,{"$f":"'2012-2006Pop'!$C$5","v":{"v":26510,"d":"26,510"}},{"$f":"(B226/C226)*10000","v":{"v":69.617105917454,"d":"70"}}]
["Theft - Motor Vehicle",13,2011,"Kanata North",4,{"$f":"'2012-2006Pop'!$C$5","v":{"v":26510,"d":"26,510"}},{"v":64.64445549477871,"d":"65"}]
["Other Criminal Code Offences",13,2011,"Kanata North",4,{"$f":"'2012-2006Pop'!$C$5","v":{"v":26510,"d":"26,510"}},{"v":64.64445549477871,"d":"65"}]
["Robbery",11,2011,"Kanata North",4,{"$f":"'2012-2006Pop'!$C$5","v":{"v":26510,"d":"26,510"}},{"v":54.699154649428145,"d":"55"}]
["Uttering Threats or Intimidation",11,2012,"Kanata North",4,{"$f":"'2012-2006Pop'!$D$5","v":{"v":34200,"d":"34,200"}},{"$f":"(B230/F230)*10000","v":{"v":3.2163742690058483,"d":"3"}}]
["Other Criminal Code Offences",11,2012,"Kanata North",4,{"$f":"'2012-2006Pop'!$D$5","v":{"v":34200,"d":"34,200"}},{"v":3.2163742690058483,"d":"3"}]
["Theft Over $5000",4,2012,"Kanata North",4,{"$f":"'2012-2006Pop'!$D$5","v":{"v":34200,"d":"34,200"}},{"v":1.169590643274854,"d":"1"}]
["Counterfeiting Currency",4,2012,"Kanata North",4,{"$f":"'2012-2006Pop'!$D$5","v":{"v":34200,"d":"34,200"}},{"v":1.169590643274854,"d":"1"}]
["Threats via the Internet",4,2012,"Kanata North",4,{"$f":"'2012-2006Pop'!$D$5","v":{"v":34200,"d":"34,200"}},{"v":1.169590643274854,"d":"1"}]
["Robbery",3,2012,"Kanata North",4,{"$f":"'2012-2006Pop'!$D$5","v":{"v":34200,"d":"34,200"}},{"v":0.8771929824561403,"d":"1"}]
["Dangerous Operation of Motor Vehicle",3,2012,"Kanata North",4,{"$f":"'2012-2006Pop'!$D$5","v":{"v":34200,"d":"34,200"}},{"v":0.8771929824561403,"d":"1"}]
["Bail Violations",8,2011,"Kanata North",4,{"$f":"'2012-2006Pop'!$C$5","v":{"v":26510,"d":"26,510"}},{"$f":"(B237/C237)*10000","v":{"v":39.781203381402285,"d":"40"}}]
["Arson",5,2011,"Kanata North",4,{"$f":"'2012-2006Pop'!$C$5","v":{"v":26510,"d":"26,510"}},{"v":24.86325211337643,"d":"25"}]
["Theft Over $5000",4,2011,"Kanata North",4,{"$f":"'2012-2006Pop'!$C$5","v":{"v":26510,"d":"26,510"}},{"v":19.890601690701143,"d":"20"}]
["Offensive Weapons",4,2011,"Kanata North",4,{"$f":"'2012-2006Pop'!$C$5","v":{"v":26510,"d":"26,510"}},{"v":19.890601690701143,"d":"20"}]
["Possession of Stolen Goods",3,2011,"Kanata North",4,{"$f":"'2012-2006Pop'!$C$5","v":{"v":26510,"d":"26,510"}},{"v":14.917951268025858,"d":"15"}]
["Driving Motor Vehicle While Prohibited",3,2011,"Kanata North",4,{"$f":"'2012-2006Pop'!$C$5","v":{"v":26510,"d":"26,510"}},{"v":14.917951268025858,"d":"15"}]
["Cocaine",3,2012,"Kanata North",4,{"$f":"'2012-2006Pop'!$D$5","v":{"v":34200,"d":"34,200"}},{"$f":"(B243/F243)*10000","v":{"v":0.8771929824561403,"d":"1"}}]
["Other Sexual Offences",2,2011,"Kanata North",4,{"$f":"'2012-2006Pop'!$C$5","v":{"v":26510,"d":"26,510"}},{"$f":"(B244/C244)*10000","v":{"v":9.945300845350571,"d":"10"}}]
["Breach Probation",2,2011,"Kanata North",4,{"$f":"'2012-2006Pop'!$C$5","v":{"v":26510,"d":"26,510"}},{"v":9.945300845350571,"d":"10"}]
["Other Sexual Offences",1,2012,"Kanata North",4,{"$f":"'2012-2006Pop'!$D$5","v":{"v":34200,"d":"34,200"}},{"$f":"(B246/F246)*10000","v":{"v":0.2923976608187135,"d":"0"}}]
["Counterfeiting Currency",1,2011,"Kanata North",4,{"$f":"'2012-2006Pop'!$C$5","v":{"v":26510,"d":"26,510"}},{"$f":"(B247/C247)*10000","v":{"v":4.972650422675286,"d":"5"}}]
["Dangerous Operation of Motor Vehicle",1,2011,"Kanata North",4,{"$f":"'2012-2006Pop'!$C$5","v":{"v":26510,"d":"26,510"}},{"v":4.972650422675286,"d":"5"}]
["Ecstasy (Methylenedioxyamphetamine )",1,2011,"Kanata North",4,{"$f":"'2012-2006Pop'!$C$5","v":{"v":26510,"d":"26,510"}},{"v":4.972650422675286,"d":"5"}]
["Cocaine",1,2011,"Kanata North",4,{"$f":"'2012-2006Pop'!$C$5","v":{"v":26510,"d":"26,510"}},{"v":4.972650422675286,"d":"5"}]
["Homicide (Incidents)",0,2011,"Kanata North",4,{"$f":"'2012-2006Pop'!$C$5","v":{"v":26510,"d":"26,510"}},0]
["Attempted Murder",0,2011,"Kanata North",4,{"$f":"'2012-2006Pop'!$C$5","v":{"v":26510,"d":"26,510"}},0]
["Possession of Stolen Goods",1,2012,"Kanata North",4,{"$f":"'2012-2006Pop'!$D$5","v":{"v":34200,"d":"34,200"}},{"$f":"(B253/F253)*10000","v":{"v":0.2923976608187135,"d":"0"}}]
["Abduction",0,2011,"Kanata North",4,{"$f":"'2012-2006Pop'!$C$5","v":{"v":26510,"d":"26,510"}},{"$f":"(B254/C254)*10000","v":0}]
["Arson",1,2012,"Kanata North",4,{"$f":"'2012-2006Pop'!$D$5","v":{"v":34200,"d":"34,200"}},{"$f":"(B255/F255)*10000","v":{"v":0.2923976608187135,"d":"0"}}]
["Breach Probation",1,2012,"Kanata North",4,{"$f":"'2012-2006Pop'!$D$5","v":{"v":34200,"d":"34,200"}},{"v":0.2923976608187135,"d":"0"}]
["Threats via the Internet",0,2011,"Kanata North",4,{"$f":"'2012-2006Pop'!$C$5","v":{"v":26510,"d":"26,510"}},{"$f":"(B257/C257)*10000","v":0}]
["Prostitution",0,2011,"Kanata North",4,{"$f":"'2012-2006Pop'!$C$5","v":{"v":26510,"d":"26,510"}},0]
["Other Controlled Drugs and Substances",1,2012,"Kanata North",4,{"$f":"'2012-2006Pop'!$D$5","v":{"v":34200,"d":"34,200"}},{"$f":"(B259/F259)*10000","v":{"v":0.2923976608187135,"d":"0"}}]
["Other Criminal Code Offences",0,2011,"Kanata North",4,{"$f":"'2012-2006Pop'!$C$5","v":{"v":26510,"d":"26,510"}},{"$f":"(B260/C260)*10000","v":0}]
["Crystal Meth (Methamphetamine)",0,2011,"Kanata North",4,{"$f":"'2012-2006Pop'!$C$5","v":{"v":26510,"d":"26,510"}},0]
["Homicide (Incidents)",0,2012,"Kanata North",4,{"$f":"'2012-2006Pop'!$D$5","v":{"v":34200,"d":"34,200"}},{"$f":"(B262/F262)*10000","v":0}]
["Attempted Murder",0,2012,"Kanata North",4,{"$f":"'2012-2006Pop'!$D$5","v":{"v":34200,"d":"34,200"}},0]
["Heroin",0,2011,"Kanata North",4,{"$f":"'2012-2006Pop'!$C$5","v":{"v":26510,"d":"26,510"}},{"$f":"(B264/C264)*10000","v":0}]
["Other Controlled Drugs and Substances",0,2011,"Kanata North",4,{"$f":"'2012-2006Pop'!$C$5","v":{"v":26510,"d":"26,510"}},0]
["Mischief",96,2011,"West Carleton-March",5,{"$f":"'2012-2006Pop'!$C$6","v":{"v":21455,"d":"21,455"}},{"$f":"(B266/F266)*10000","v":{"v":44.74481472850151,"d":"45"}}]
["Abduction",0,2012,"Kanata North",4,{"$f":"'2012-2006Pop'!$D$5","v":{"v":34200,"d":"34,200"}},{"$f":"(B267/F267)*10000","v":0}]
["Offensive Weapons",0,2012,"Kanata North",4,{"$f":"'2012-2006Pop'!$D$5","v":{"v":34200,"d":"34,200"}},0]
["Prostitution",0,2012,"Kanata North",4,{"$f":"'2012-2006Pop'!$D$5","v":{"v":34200,"d":"34,200"}},0]
["Driving Motor Vehicle While Prohibited",0,2012,"Kanata North",4,{"$f":"'2012-2006Pop'!$D$5","v":{"v":34200,"d":"34,200"}},0]
["Other Criminal Code Offences",0,2012,"Kanata North",4,{"$f":"'2012-2006Pop'!$D$5","v":{"v":34200,"d":"34,200"}},0]
["Ecstasy (Methylenedioxyamphetamine )",0,2012,"Kanata North",4,{"$f":"'2012-2006Pop'!$D$5","v":{"v":34200,"d":"34,200"}},0]
["Theft $5000 and Under",88,2011,"West Carleton-March",5,{"$f":"'2012-2006Pop'!$C$6","v":{"v":21455,"d":"21,455"}},{"$f":"(B273/F273)*10000","v":{"v":41.016080167793056,"d":"41"}}]
["Crystal Meth (Methamphetamine)",0,2012,"Kanata North",4,{"$f":"'2012-2006Pop'!$D$5","v":{"v":34200,"d":"34,200"}},{"$f":"(B274/F274)*10000","v":0}]
["Heroin",0,2012,"Kanata North",4,{"$f":"'2012-2006Pop'!$D$5","v":{"v":34200,"d":"34,200"}},0]
["Theft $5000 and Under",84,2012,"West Carleton-March",5,{"$f":"'2012-2006Pop'!$D$6","v":{"v":25350,"d":"25,350"}},{"$f":"(B276/F276)*10000","v":{"v":33.13609467455621,"d":"33"}}]
["Mischief",61,2012,"West Carleton-March",5,{"$f":"'2012-2006Pop'!$D$6","v":{"v":25350,"d":"25,350"}},{"$f":"(B277/F277)*10000","v":{"v":24.06311637080868,"d":"24"}}]
["Break and Enter",58,2012,"West Carleton-March",5,{"$f":"'2012-2006Pop'!$D$6","v":{"v":25350,"d":"25,350"}},{"v":22.879684418145956,"d":"23"}]
["Break and Enter",55,2011,"West Carleton-March",5,{"$f":"'2012-2006Pop'!$C$6","v":{"v":21455,"d":"21,455"}},{"$f":"(B279/F279)*10000","v":{"v":25.635050104870658,"d":"26"}}]
["Fraud",37,2011,"West Carleton-March",5,{"$f":"'2012-2006Pop'!$C$6","v":{"v":21455,"d":"21,455"}},{"v":17.245397343276625,"d":"17"}]
["Theft - Motor Vehicle",33,2012,"West Carleton-March",5,{"$f":"'2012-2006Pop'!$D$6","v":{"v":25350,"d":"25,350"}},{"v":13.017751479289942,"d":"13"}]
["Fraud",32,2012,"West Carleton-March",5,{"$f":"'2012-2006Pop'!$D$6","v":{"v":25350,"d":"25,350"}},{"v":12.623274161735699,"d":"13"}]
["Assault (Incl. Sexual Assaults)",31,2012,"West Carleton-March",5,{"$f":"'2012-2006Pop'!$D$6","v":{"v":25350,"d":"25,350"}},{"v":12.22879684418146,"d":"12"}]
["Cannabis",17,2012,"West Carleton-March",5,{"$f":"'2012-2006Pop'!$D$6","v":{"v":25350,"d":"25,350"}},{"v":6.706114398422091,"d":"7"}]
["Assault (Incl. Sexual Assaults)",21,2011,"West Carleton-March",5,{"$f":"'2012-2006Pop'!$C$6","v":{"v":21455,"d":"21,455"}},{"$f":"(B285/F285)*10000","v":{"v":9.787928221859707,"d":"10"}}]
["Theft - Motor Vehicle",14,2011,"West Carleton-March",5,{"$f":"'2012-2006Pop'!$C$6","v":{"v":21455,"d":"21,455"}},{"v":6.525285481239805,"d":"7"}]
["Cannabis",13,2011,"West Carleton-March",5,{"$f":"'2012-2006Pop'!$C$6","v":{"v":21455,"d":"21,455"}},{"v":6.059193661151246,"d":"6"}]
["Other Offences",10,2011,"West Carleton-March",5,{"$f":"'2012-2006Pop'!$C$6","v":{"v":21455,"d":"21,455"}},{"v":4.6609182008855745,"d":"5"}]
["Other Criminal Code Offences",9,2011,"West Carleton-March",5,{"$f":"'2012-2006Pop'!$C$6","v":{"v":21455,"d":"21,455"}},{"v":4.194826380797017,"d":"4"}]
["Impaired Operation of Vehicle",8,2011,"West Carleton-March",5,{"$f":"'2012-2006Pop'!$C$6","v":{"v":21455,"d":"21,455"}},{"v":3.7287345607084594,"d":"4"}]
["Uttering Threats or Intimidation",4,2011,"West Carleton-March",5,{"$f":"'2012-2006Pop'!$C$6","v":{"v":21455,"d":"21,455"}},{"v":1.8643672803542297,"d":"2"}]
["Impaired Operation of Vehicle",14,2012,"West Carleton-March",5,{"$f":"'2012-2006Pop'!$D$6","v":{"v":25350,"d":"25,350"}},{"$f":"(B292/F292)*10000","v":{"v":5.522682445759369,"d":"6"}}]
["Arson",3,2011,"West Carleton-March",5,{"$f":"'2012-2006Pop'!$C$6","v":{"v":21455,"d":"21,455"}},{"$f":"(B293/F293)*10000","v":{"v":1.3982754602656722,"d":"1"}}]
["Offensive Weapons",3,2011,"West Carleton-March",5,{"$f":"'2012-2006Pop'!$C$6","v":{"v":21455,"d":"21,455"}},{"v":1.3982754602656722,"d":"1"}]
["Failure to Stop or Remain",3,2011,"West Carleton-March",5,{"$f":"'2012-2006Pop'!$C$6","v":{"v":21455,"d":"21,455"}},{"v":1.3982754602656722,"d":"1"}]
["Failure to Stop or Remain",8,2012,"West Carleton-March",5,{"$f":"'2012-2006Pop'!$D$6","v":{"v":25350,"d":"25,350"}},{"v":3.1558185404339247,"d":"3"}]
["Other Offences",7,2012,"West Carleton-March",5,{"$f":"'2012-2006Pop'!$D$6","v":{"v":25350,"d":"25,350"}},{"v":2.7613412228796843,"d":"3"}]
["Possession of Stolen Goods",2,2011,"West Carleton-March",5,{"$f":"'2012-2006Pop'!$C$6","v":{"v":21455,"d":"21,455"}},{"$f":"(B298/F298)*10000","v":{"v":0.9321836401771149,"d":"1"}}]
["Threats via the Internet",2,2011,"West Carleton-March",5,{"$f":"'2012-2006Pop'!$C$6","v":{"v":21455,"d":"21,455"}},{"v":0.9321836401771149,"d":"1"}]
["Bail Violations",7,2012,"West Carleton-March",5,{"$f":"'2012-2006Pop'!$D$6","v":{"v":25350,"d":"25,350"}},{"$f":"(B300/F300)*10000","v":{"v":2.7613412228796843,"d":"3"}}]
["Driving Motor Vehicle While Prohibited",2,2011,"West Carleton-March",5,{"$f":"'2012-2006Pop'!$C$6","v":{"v":21455,"d":"21,455"}},{"$f":"(B301/F301)*10000","v":{"v":0.9321836401771149,"d":"1"}}]
["Robbery",1,2011,"West Carleton-March",5,{"$f":"'2012-2006Pop'!$C$6","v":{"v":21455,"d":"21,455"}},{"v":0.46609182008855743,"d":"0"}]
["Abduction",1,2011,"West Carleton-March",5,{"$f":"'2012-2006Pop'!$C$6","v":{"v":21455,"d":"21,455"}},{"v":0.46609182008855743,"d":"0"}]
["Theft Over $5000",6,2012,"West Carleton-March",5,{"$f":"'2012-2006Pop'!$D$6","v":{"v":25350,"d":"25,350"}},{"v":2.366863905325444,"d":"2"}]
["Other Criminal Code Offences",6,2012,"West Carleton-March",5,{"$f":"'2012-2006Pop'!$D$6","v":{"v":25350,"d":"25,350"}},{"v":2.366863905325444,"d":"2"}]
["Offensive Weapons",5,2012,"West Carleton-March",5,{"$f":"'2012-2006Pop'!$D$6","v":{"v":25350,"d":"25,350"}},{"v":1.972386587771203,"d":"2"}]
["Uttering Threats or Intimidation",4,2012,"West Carleton-March",5,{"$f":"'2012-2006Pop'!$D$6","v":{"v":25350,"d":"25,350"}},{"v":1.5779092702169624,"d":"2"}]
["Theft Over $5000",1,2011,"West Carleton-March",5,{"$f":"'2012-2006Pop'!$C$6","v":{"v":21455,"d":"21,455"}},{"$f":"(B308/F308)*10000","v":{"v":0.46609182008855743,"d":"0"}}]
["Bail Violations",1,2011,"West Carleton-March",5,{"$f":"'2012-2006Pop'!$C$6","v":{"v":21455,"d":"21,455"}},{"v":0.46609182008855743,"d":"0"}]
["Other Sexual Offences",2,2012,"West Carleton-March",5,{"$f":"'2012-2006Pop'!$D$6","v":{"v":25350,"d":"25,350"}},{"v":0.7889546351084812,"d":"1"}]
["Dangerous Operation of Motor Vehicle",2,2012,"West Carleton-March",5,{"$f":"'2012-2006Pop'!$D$6","v":{"v":25350,"d":"25,350"}},{"v":0.7889546351084812,"d":"1"}]
["Breach Probation",1,2011,"West Carleton-March",5,{"$f":"'2012-2006Pop'!$C$6","v":{"v":21455,"d":"21,455"}},{"$f":"(B312/F312)*10000","v":{"v":0.46609182008855743,"d":"0"}}]
["Cocaine",1,2011,"West Carleton-March",5,{"$f":"'2012-2006Pop'!$C$6","v":{"v":21455,"d":"21,455"}},{"v":0.46609182008855743,"d":"0"}]
["Homicide (Incidents)",0,2011,"West Carleton-March",5,{"$f":"'2012-2006Pop'!$C$6","v":{"v":21455,"d":"21,455"}},0]
["Driving Motor Vehicle While Prohibited",2,2012,"West Carleton-March",5,{"$f":"'2012-2006Pop'!$D$6","v":{"v":25350,"d":"25,350"}},{"v":0.7889546351084812,"d":"1"}]
["Homicide (Incidents)",1,2012,"West Carleton-March",5,{"$f":"'2012-2006Pop'!$D$6","v":{"v":25350,"d":"25,350"}},{"v":0.3944773175542406,"d":"0"}]
["Attempted Murder",0,2011,"West Carleton-March",5,{"$f":"'2012-2006Pop'!$C$6","v":{"v":21455,"d":"21,455"}},{"$f":"(B317/F317)*10000","v":0}]
["Other Sexual Offences",0,2011,"West Carleton-March",5,{"$f":"'2012-2006Pop'!$C$6","v":{"v":21455,"d":"21,455"}},0]
["Counterfeiting Currency",0,2011,"West Carleton-March",5,{"$f":"'2012-2006Pop'!$C$6","v":{"v":21455,"d":"21,455"}},0]
["Possession of Stolen Goods",1,2012,"West Carleton-March",5,{"$f":"'2012-2006Pop'!$D$6","v":{"v":25350,"d":"25,350"}},{"$f":"(B320/F320)*10000","v":{"v":0.3944773175542406,"d":"0"}}]
["Prostitution",0,2011,"West Carleton-March",5,{"$f":"'2012-2006Pop'!$C$6","v":{"v":21455,"d":"21,455"}},{"$f":"(B321/F321)*10000","v":0}]
["Dangerous Operation of Motor Vehicle",0,2011,"West Carleton-March",5,{"$f":"'2012-2006Pop'!$C$6","v":{"v":21455,"d":"21,455"}},0]
["Arson",1,2012,"West Carleton-March",5,{"$f":"'2012-2006Pop'!$D$6","v":{"v":25350,"d":"25,350"}},{"v":0.3944773175542406,"d":"0"}]
["Breach Probation",1,2012,"West Carleton-March",5,{"$f":"'2012-2006Pop'!$D$6","v":{"v":25350,"d":"25,350"}},{"v":0.3944773175542406,"d":"0"}]
["Threats via the Internet",1,2012,"West Carleton-March",5,{"$f":"'2012-2006Pop'!$D$6","v":{"v":25350,"d":"25,350"}},{"v":0.3944773175542406,"d":"0"}]
["Cocaine",1,2012,"West Carleton-March",5,{"$f":"'2012-2006Pop'!$D$6","v":{"v":25350,"d":"25,350"}},{"v":0.3944773175542406,"d":"0"}]
["Other Criminal Code Offences",0,2011,"West Carleton-March",5,{"$f":"'2012-2006Pop'!$C$6","v":{"v":21455,"d":"21,455"}},{"$f":"(B327/F327)*10000","v":0}]
["Homicide (Incidents)",1,2012,"Stittsville-Kanata West",5,{"$f":"'2012-2006Pop'!$D$6","v":{"v":25350,"d":"25,350"}},{"$f":"(B328/F328)*10000","v":{"v":0.3944773175542406,"d":"0"}}]
["Attempted Murder",0,2012,"West Carleton-March",5,{"$f":"'2012-2006Pop'!$D$6","v":{"v":25350,"d":"25,350"}},0]
["Ecstasy (Methylenedioxyamphetamine )",0,2011,"West Carleton-March",5,{"$f":"'2012-2006Pop'!$C$6","v":{"v":21455,"d":"21,455"}},{"$f":"(B330/F330)*10000","v":0}]
["Robbery",0,2012,"West Carleton-March",5,{"$f":"'2012-2006Pop'!$D$6","v":{"v":25350,"d":"25,350"}},{"$f":"(B331/F331)*10000","v":0}]
["Abduction",0,2012,"West Carleton-March",5,{"$f":"'2012-2006Pop'!$D$6","v":{"v":25350,"d":"25,350"}},0]
["Crystal Meth (Methamphetamine)",0,2011,"West Carleton-March",5,{"$f":"'2012-2006Pop'!$C$6","v":{"v":21455,"d":"21,455"}},{"$f":"(B333/F333)*10000","v":0}]
["Heroin",0,2011,"West Carleton-March",5,{"$f":"'2012-2006Pop'!$C$6","v":{"v":21455,"d":"21,455"}},0]
["Other Controlled Drugs and Substances",0,2011,"West Carleton-March",5,{"$f":"'2012-2006Pop'!$C$6","v":{"v":21455,"d":"21,455"}},0]
["Counterfeiting Currency",0,2012,"West Carleton-March",5,{"$f":"'2012-2006Pop'!$D$6","v":{"v":25350,"d":"25,350"}},0]
["Prostitution",0,2012,"West Carleton-March",5,{"$f":"'2012-2006Pop'!$D$6","v":{"v":25350,"d":"25,350"}},0]
["Homicide (Incidents)",0,2011,"Stittsville-Kanata West",5,{"$f":"'2012-2006Pop'!$C$6","v":{"v":21455,"d":"21,455"}},{"$f":"(B338/F338)*10000","v":0}]
["Theft $5000 and Under",164,2011,"Stittsville-Kanata West",6,{"$f":"'2012-2006Pop'!$C$7","v":{"v":19410,"d":"19,410"}},{"$f":"(B339/F339)*10000","v":{"v":84.4925296239052,"d":"84"}}]
["Other Criminal Code Offences",0,2012,"West Carleton-March",5,{"$f":"'2012-2006Pop'!$D$6","v":{"v":25350,"d":"25,350"}},{"$f":"(B340/F340)*10000","v":0}]
["Ecstasy (Methylenedioxyamphetamine )",0,2012,"West Carleton-March",5,{"$f":"'2012-2006Pop'!$D$6","v":{"v":25350,"d":"25,350"}},0]
["Crystal Meth (Methamphetamine)",0,2012,"West Carleton-March",5,{"$f":"'2012-2006Pop'!$D$6","v":{"v":25350,"d":"25,350"}},0]
["Heroin",0,2012,"West Carleton-March",5,{"$f":"'2012-2006Pop'!$D$6","v":{"v":25350,"d":"25,350"}},0]
["Other Controlled Drugs and Substances",0,2012,"West Carleton-March",5,{"$f":"'2012-2006Pop'!$D$6","v":{"v":25350,"d":"25,350"}},0]
["Theft $5000 and Under",212,2012,"Stittsville-Kanata West",6,{"$f":"'2012-2006Pop'!$D$7","v":{"v":28300,"d":"28,300"}},{"$f":"(B345/F345)*10000","v":{"v":74.91166077738515,"d":"75"}}]
["Mischief",125,2012,"Stittsville-Kanata West",6,{"$f":"'2012-2006Pop'!$D$7","v":{"v":28300,"d":"28,300"}},{"$f":"(B346/F346)*10000","v":{"v":44.169611307420496,"d":"44"}}]
["Fraud",47,2012,"Stittsville-Kanata West",6,{"$f":"'2012-2006Pop'!$D$7","v":{"v":28300,"d":"28,300"}},{"v":16.607773851590107,"d":"17"}]
["Mischief",161,2011,"Stittsville-Kanata West",6,{"$f":"'2012-2006Pop'!$C$7","v":{"v":19410,"d":"19,410"}},{"$f":"(B348/F348)*10000","v":{"v":82.94693456980939,"d":"83"}}]
["Break and Enter",45,2012,"Stittsville-Kanata West",6,{"$f":"'2012-2006Pop'!$D$7","v":{"v":28300,"d":"28,300"}},{"$f":"(B349/F349)*10000","v":{"v":15.90106007067138,"d":"16"}}]
["Assault (Incl. Sexual Assaults)",37,2012,"Stittsville-Kanata West",6,{"$f":"'2012-2006Pop'!$D$7","v":{"v":28300,"d":"28,300"}},{"v":13.074204946996465,"d":"13"}]
["Cannabis",40,2011,"Stittsville-Kanata West",6,{"$f":"'2012-2006Pop'!$C$7","v":{"v":19410,"d":"19,410"}},{"v":20.607934054611025,"d":"21"}]
["Failure to Stop or Remain",37,2011,"Stittsville-Kanata West",6,{"$f":"'2012-2006Pop'!$C$7","v":{"v":19410,"d":"19,410"}},{"v":19.0623390005152,"d":"19"}]
["Fraud",36,2011,"Stittsville-Kanata West",6,{"$f":"'2012-2006Pop'!$C$7","v":{"v":19410,"d":"19,410"}},{"v":18.547140649149924,"d":"19"}]
["Assault (Incl. Sexual Assaults)",34,2011,"Stittsville-Kanata West",6,{"$f":"'2012-2006Pop'!$C$7","v":{"v":19410,"d":"19,410"}},{"v":17.51674394641937,"d":"18"}]
["Break and Enter",30,2011,"Stittsville-Kanata West",6,{"$f":"'2012-2006Pop'!$C$7","v":{"v":19410,"d":"19,410"}},{"v":15.455950540958268,"d":"15"}]
["Theft - Motor Vehicle",17,2011,"Stittsville-Kanata West",6,{"$f":"'2012-2006Pop'!$C$7","v":{"v":19410,"d":"19,410"}},{"v":8.758371973209686,"d":"9"}]
["Failure to Stop or Remain",37,2012,"Stittsville-Kanata West",6,{"$f":"'2012-2006Pop'!$D$7","v":{"v":28300,"d":"28,300"}},{"$f":"(B357/F357)*10000","v":{"v":13.074204946996465,"d":"13"}}]
["Cannabis",24,2012,"Stittsville-Kanata West",6,{"$f":"'2012-2006Pop'!$D$7","v":{"v":28300,"d":"28,300"}},{"v":8.480565371024735,"d":"8"}]
["Other Offences",15,2011,"Stittsville-Kanata West",6,{"$f":"'2012-2006Pop'!$C$7","v":{"v":19410,"d":"19,410"}},{"v":7.727975270479134,"d":"8"}]
["Bail Violations",15,2011,"Stittsville-Kanata West",6,{"$f":"'2012-2006Pop'!$C$7","v":{"v":19410,"d":"19,410"}},{"v":7.727975270479134,"d":"8"}]
["Robbery",10,2011,"Stittsville-Kanata West",6,{"$f":"'2012-2006Pop'!$C$7","v":{"v":19410,"d":"19,410"}},{"v":5.151983513652756,"d":"5"}]
["Theft - Motor Vehicle",21,2012,"Stittsville-Kanata West",6,{"$f":"'2012-2006Pop'!$D$7","v":{"v":28300,"d":"28,300"}},{"$f":"(B362/F362)*10000","v":{"v":7.420494699646643,"d":"7"}}]
["Impaired Operation of Vehicle",9,2011,"Stittsville-Kanata West",6,{"$f":"'2012-2006Pop'!$C$7","v":{"v":19410,"d":"19,410"}},{"$f":"(B363/F363)*10000","v":{"v":4.636785162287481,"d":"5"}}]
["Arson",7,2011,"Stittsville-Kanata West",6,{"$f":"'2012-2006Pop'!$C$7","v":{"v":19410,"d":"19,410"}},{"v":3.6063884595569298,"d":"4"}]
["Other Criminal Code Offences",6,2011,"Stittsville-Kanata West",6,{"$f":"'2012-2006Pop'!$C$7","v":{"v":19410,"d":"19,410"}},{"v":3.091190108191654,"d":"3"}]
["Other Criminal Code Offences",16,2012,"Stittsville-Kanata West",6,{"$f":"'2012-2006Pop'!$D$7","v":{"v":28300,"d":"28,300"}},{"$f":"(B366/F366)*10000","v":{"v":5.6537102473498235,"d":"6"}}]
["Other Offences",12,2012,"Stittsville-Kanata West",6,{"$f":"'2012-2006Pop'!$D$7","v":{"v":28300,"d":"28,300"}},{"v":4.240282685512367,"d":"4"}]
["Bail Violations",12,2012,"Stittsville-Kanata West",6,{"$f":"'2012-2006Pop'!$D$7","v":{"v":28300,"d":"28,300"}},{"v":4.240282685512367,"d":"4"}]
["Impaired Operation of Vehicle",10,2012,"Stittsville-Kanata West",6,{"$f":"'2012-2006Pop'!$D$7","v":{"v":28300,"d":"28,300"}},{"v":3.5335689045936394,"d":"4"}]
["Uttering Threats or Intimidation",5,2012,"Stittsville-Kanata West",6,{"$f":"'2012-2006Pop'!$D$7","v":{"v":28300,"d":"28,300"}},{"v":1.7667844522968197,"d":"2"}]
["Arson",5,2012,"Stittsville-Kanata West",6,{"$f":"'2012-2006Pop'!$D$7","v":{"v":28300,"d":"28,300"}},{"v":1.7667844522968197,"d":"2"}]
["Theft Over $5000",4,2011,"Stittsville-Kanata West",6,{"$f":"'2012-2006Pop'!$C$7","v":{"v":19410,"d":"19,410"}},{"$f":"(B372/F372)*10000","v":{"v":2.060793405461103,"d":"2"}}]
["Dangerous Operation of Motor Vehicle",5,2012,"Stittsville-Kanata West",6,{"$f":"'2012-2006Pop'!$D$7","v":{"v":28300,"d":"28,300"}},{"$f":"(B373/F373)*10000","v":{"v":1.7667844522968197,"d":"2"}}]
["Possession of Stolen Goods",4,2012,"Stittsville-Kanata West",6,{"$f":"'2012-2006Pop'!$D$7","v":{"v":28300,"d":"28,300"}},{"v":1.4134275618374559,"d":"1"}]
["Abduction",2,2011,"Stittsville-Kanata West",6,{"$f":"'2012-2006Pop'!$C$7","v":{"v":19410,"d":"19,410"}},{"v":1.0303967027305514,"d":"1"}]
["Offensive Weapons",2,2011,"Stittsville-Kanata West",6,{"$f":"'2012-2006Pop'!$C$7","v":{"v":19410,"d":"19,410"}},{"v":1.0303967027305514,"d":"1"}]
["Other Sexual Offences",1,2011,"Stittsville-Kanata West",6,{"$f":"'2012-2006Pop'!$C$7","v":{"v":19410,"d":"19,410"}},{"v":0.5151983513652757,"d":"1"}]
["Possession of Stolen Goods",1,2011,"Stittsville-Kanata West",6,{"$f":"'2012-2006Pop'!$C$7","v":{"v":19410,"d":"19,410"}},{"v":0.5151983513652757,"d":"1"}]
["Counterfeiting Currency",1,2011,"Stittsville-Kanata West",6,{"$f":"'2012-2006Pop'!$C$7","v":{"v":19410,"d":"19,410"}},{"v":0.5151983513652757,"d":"1"}]
["Threats via the Internet",1,2011,"Stittsville-Kanata West",6,{"$f":"'2012-2006Pop'!$C$7","v":{"v":19410,"d":"19,410"}},{"v":0.5151983513652757,"d":"1"}]
["Dangerous Operation of Motor Vehicle",1,2011,"Stittsville-Kanata West",6,{"$f":"'2012-2006Pop'!$C$7","v":{"v":19410,"d":"19,410"}},{"v":0.5151983513652757,"d":"1"}]
["Offensive Weapons",4,2012,"Stittsville-Kanata West",6,{"$f":"'2012-2006Pop'!$D$7","v":{"v":28300,"d":"28,300"}},{"$f":"(B382/F382)*10000","v":{"v":1.4134275618374559,"d":"1"}}]
["Threats via the Internet",4,2012,"Stittsville-Kanata West",6,{"$f":"'2012-2006Pop'!$D$7","v":{"v":28300,"d":"28,300"}},{"v":1.4134275618374559,"d":"1"}]
["Robbery",3,2012,"Stittsville-Kanata West",6,{"$f":"'2012-2006Pop'!$D$7","v":{"v":28300,"d":"28,300"}},{"v":1.0600706713780919,"d":"1"}]
["Abduction",1,2012,"Stittsville-Kanata West",6,{"$f":"'2012-2006Pop'!$D$7","v":{"v":28300,"d":"28,300"}},{"v":0.35335689045936397,"d":"0"}]
["Cocaine",1,2011,"Stittsville-Kanata West",6,{"$f":"'2012-2006Pop'!$C$7","v":{"v":19410,"d":"19,410"}},{"v":0.5151983513652757,"d":"1"}]
["Other Controlled Drugs and Substances",1,2011,"Stittsville-Kanata West",6,{"$f":"'2012-2006Pop'!$C$7","v":{"v":19410,"d":"19,410"}},{"v":0.5151983513652757,"d":"1"}]
["Attempted Murder",0,2011,"Stittsville-Kanata West",6,{"$f":"'2012-2006Pop'!$C$7","v":{"v":19410,"d":"19,410"}},0]
["Uttering Threats or Intimidation",0,2011,"Stittsville-Kanata West",6,{"$f":"'2012-2006Pop'!$C$7","v":{"v":19410,"d":"19,410"}},0]
["Theft Over $5000",1,2012,"Stittsville-Kanata West",6,{"$f":"'2012-2006Pop'!$D$7","v":{"v":28300,"d":"28,300"}},{"$f":"(B390/F390)*10000","v":{"v":0.35335689045936397,"d":"0"}}]
["Counterfeiting Currency",1,2012,"Stittsville-Kanata West",6,{"$f":"'2012-2006Pop'!$D$7","v":{"v":28300,"d":"28,300"}},{"v":0.35335689045936397,"d":"0"}]
["Attempted Murder",0,2012,"Stittsville-Kanata West",6,{"$f":"'2012-2006Pop'!$D$7","v":{"v":28300,"d":"28,300"}},0]
["Other Sexual Offences",0,2012,"Stittsville-Kanata West",6,{"$f":"'2012-2006Pop'!$D$7","v":{"v":28300,"d":"28,300"}},0]
["Breach Probation",0,2012,"Stittsville-Kanata West",6,{"$f":"'2012-2006Pop'!$D$7","v":{"v":28300,"d":"28,300"}},0]
["Breach Probation",0,2011,"Stittsville-Kanata West",6,{"$f":"'2012-2006Pop'!$C$7","v":{"v":19410,"d":"19,410"}},0]
["Prostitution",0,2011,"Stittsville-Kanata West",6,{"$f":"'2012-2006Pop'!$C$7","v":{"v":19410,"d":"19,410"}},0]
["Driving Motor Vehicle While Prohibited",0,2011,"Stittsville-Kanata West",6,{"$f":"'2012-2006Pop'!$C$7","v":{"v":19410,"d":"19,410"}},0]
["Other Criminal Code Offences",0,2011,"Stittsville-Kanata West",6,{"$f":"'2012-2006Pop'!$C$7","v":{"v":19410,"d":"19,410"}},0]
["Prostitution",0,2012,"Stittsville-Kanata West",6,{"$f":"'2012-2006Pop'!$D$7","v":{"v":28300,"d":"28,300"}},{"$f":"(B399/F399)*10000","v":0}]
["Driving Motor Vehicle While Prohibited",0,2012,"Stittsville-Kanata West",6,{"$f":"'2012-2006Pop'!$D$7","v":{"v":28300,"d":"28,300"}},0]
["Other Criminal Code Offences",0,2012,"Stittsville-Kanata West",6,{"$f":"'2012-2006Pop'!$D$7","v":{"v":28300,"d":"28,300"}},0]
["Ecstasy (Methylenedioxyamphetamine )",0,2012,"Stittsville-Kanata West",6,{"$f":"'2012-2006Pop'!$D$7","v":{"v":28300,"d":"28,300"}},0]
["Crystal Meth (Methamphetamine)",0,2012,"Stittsville-Kanata West",6,{"$f":"'2012-2006Pop'!$D$7","v":{"v":28300,"d":"28,300"}},0]
["Heroin",0,2012,"Stittsville-Kanata West",6,{"$f":"'2012-2006Pop'!$D$7","v":{"v":28300,"d":"28,300"}},0]
["Ecstasy (Methylenedioxyamphetamine )",0,2011,"Stittsville-Kanata West",6,{"$f":"'2012-2006Pop'!$C$7","v":{"v":19410,"d":"19,410"}},0]
["Crystal Meth (Methamphetamine)",0,2011,"Stittsville-Kanata West",6,{"$f":"'2012-2006Pop'!$C$7","v":{"v":19410,"d":"19,410"}},0]
["Heroin",0,2011,"Stittsville-Kanata West",6,{"$f":"'2012-2006Pop'!$C$7","v":{"v":19410,"d":"19,410"}},0]
["Theft $5000 and Under",832,2011,"Bay",7,{"$f":"'2012-2006Pop'!$C$8","v":{"v":43995,"d":"43,995"}},{"$f":"(B408/F408)*10000","v":{"v":189.11239913626548,"d":"189"}}]
["Mischief",195,2011,"Bay",7,{"$f":"'2012-2006Pop'!$C$8","v":{"v":43995,"d":"43,995"}},{"$f":"(B409/F409)*10000","v":{"v":44.32321854756222,"d":"44"}}]
["Cocaine",0,2012,"Stittsville-Kanata West",6,{"$f":"'2012-2006Pop'!$D$7","v":{"v":28300,"d":"28,300"}},{"$f":"(B410/F410)*10000","v":0}]
["Other Controlled Drugs and Substances",0,2012,"Stittsville-Kanata West",6,{"$f":"'2012-2006Pop'!$D$7","v":{"v":28300,"d":"28,300"}},0]
["Theft $5000 and Under",965,2012,"Bay",7,{"$f":"'2012-2006Pop'!$D$8","v":{"v":45700,"d":"45,700"}},{"$f":"(B412/F412)*10000","v":{"v":211.1597374179431,"d":"211"}}]
["Assault (Incl. Sexual Assaults)",157,2011,"Bay",7,{"$f":"'2012-2006Pop'!$C$8","v":{"v":43995,"d":"43,995"}},{"$f":"(B413/F413)*10000","v":{"v":35.68587339470394,"d":"36"}}]
["Fraud",143,2011,"Bay",7,{"$f":"'2012-2006Pop'!$C$8","v":{"v":43995,"d":"43,995"}},{"v":32.503693601545635,"d":"33"}]
["Break and Enter",138,2011,"Bay",7,{"$f":"'2012-2006Pop'!$C$8","v":{"v":43995,"d":"43,995"}},{"v":31.367200818274807,"d":"31"}]
["Failure to Stop or Remain",115,2011,"Bay",7,{"$f":"'2012-2006Pop'!$C$8","v":{"v":43995,"d":"43,995"}},{"v":26.139334015229,"d":"26"}]
["Theft - Motor Vehicle",67,2011,"Bay",7,{"$f":"'2012-2006Pop'!$C$8","v":{"v":43995,"d":"43,995"}},{"v":15.229003295829072,"d":"15"}]
["Robbery",53,2011,"Bay",7,{"$f":"'2012-2006Pop'!$C$8","v":{"v":43995,"d":"43,995"}},{"v":12.046823502670758,"d":"12"}]
["Mischief",231,2012,"Bay",7,{"$f":"'2012-2006Pop'!$D$8","v":{"v":45700,"d":"45,700"}},{"$f":"(B419/F419)*10000","v":{"v":50.54704595185995,"d":"51"}}]
["Fraud",181,2012,"Bay",7,{"$f":"'2012-2006Pop'!$D$8","v":{"v":45700,"d":"45,700"}},{"v":39.60612691466083,"d":"40"}]
["Assault (Incl. Sexual Assaults)",140,2012,"Bay",7,{"$f":"'2012-2006Pop'!$D$8","v":{"v":45700,"d":"45,700"}},{"v":30.63457330415755,"d":"31"}]
["Failure to Stop or Remain",117,2012,"Bay",7,{"$f":"'2012-2006Pop'!$D$8","v":{"v":45700,"d":"45,700"}},{"v":25.60175054704595,"d":"26"}]
["Break and Enter",111,2012,"Bay",7,{"$f":"'2012-2006Pop'!$D$8","v":{"v":45700,"d":"45,700"}},{"v":24.288840262582056,"d":"24"}]
["Cannabis",50,2011,"Bay",7,{"$f":"'2012-2006Pop'!$C$8","v":{"v":43995,"d":"43,995"}},{"$f":"(B424/F424)*10000","v":{"v":11.364927832708263,"d":"11"}}]
["Cannabis",54,2012,"Bay",7,{"$f":"'2012-2006Pop'!$D$8","v":{"v":45700,"d":"45,700"}},{"$f":"(B425/F425)*10000","v":{"v":11.816192560175054,"d":"12"}}]
["Theft - Motor Vehicle",43,2012,"Bay",7,{"$f":"'2012-2006Pop'!$D$8","v":{"v":45700,"d":"45,700"}},{"v":9.409190371991247,"d":"9"}]
["Other Criminal Code Offences",41,2012,"Bay",7,{"$f":"'2012-2006Pop'!$D$8","v":{"v":45700,"d":"45,700"}},{"v":8.971553610503282,"d":"9"}]
["Robbery",37,2012,"Bay",7,{"$f":"'2012-2006Pop'!$D$8","v":{"v":45700,"d":"45,700"}},{"v":8.096280087527353,"d":"8"}]
["Other Criminal Code Offences",44,2011,"Bay",7,{"$f":"'2012-2006Pop'!$C$8","v":{"v":43995,"d":"43,995"}},{"v":10.00113649278327,"d":"10"}]
["Other Offences",40,2011,"Bay",7,{"$f":"'2012-2006Pop'!$C$8","v":{"v":43995,"d":"43,995"}},{"v":9.09194226616661,"d":"9"}]
["Bail Violations",30,2011,"Bay",7,{"$f":"'2012-2006Pop'!$C$8","v":{"v":43995,"d":"43,995"}},{"v":6.818956699624957,"d":"7"}]
["Other Offences",37,2012,"Bay",7,{"$f":"'2012-2006Pop'!$D$8","v":{"v":45700,"d":"45,700"}},{"$f":"(B432/F432)*10000","v":{"v":8.096280087527353,"d":"8"}}]
["Bail Violations",35,2012,"Bay",7,{"$f":"'2012-2006Pop'!$D$8","v":{"v":45700,"d":"45,700"}},{"v":7.658643326039387,"d":"8"}]
["Impaired Operation of Vehicle",30,2012,"Bay",7,{"$f":"'2012-2006Pop'!$D$8","v":{"v":45700,"d":"45,700"}},{"v":6.564551422319475,"d":"7"}]
["Uttering Threats or Intimidation",21,2012,"Bay",7,{"$f":"'2012-2006Pop'!$D$8","v":{"v":45700,"d":"45,700"}},{"v":4.595185995623632,"d":"5"}]
["Theft Over $5000",18,2012,"Bay",7,{"$f":"'2012-2006Pop'!$D$8","v":{"v":45700,"d":"45,700"}},{"v":3.938730853391685,"d":"4"}]
["Arson",14,2012,"Bay",7,{"$f":"'2012-2006Pop'!$D$8","v":{"v":45700,"d":"45,700"}},{"v":3.063457330415755,"d":"3"}]
["Counterfeiting Currency",14,2012,"Bay",7,{"$f":"'2012-2006Pop'!$D$8","v":{"v":45700,"d":"45,700"}},{"v":3.063457330415755,"d":"3"}]
["Impaired Operation of Vehicle",25,2011,"Bay",7,{"$f":"'2012-2006Pop'!$C$8","v":{"v":43995,"d":"43,995"}},{"v":5.6824639163541315,"d":"6"}]
["Uttering Threats or Intimidation",20,2011,"Bay",7,{"$f":"'2012-2006Pop'!$C$8","v":{"v":43995,"d":"43,995"}},{"v":4.545971133083305,"d":"5"}]
["Possession of Stolen Goods",17,2011,"Bay",7,{"$f":"'2012-2006Pop'!$C$8","v":{"v":43995,"d":"43,995"}},{"v":3.8640754631208094,"d":"4"}]
["Cocaine",14,2012,"Bay",7,{"$f":"'2012-2006Pop'!$D$8","v":{"v":45700,"d":"45,700"}},{"$f":"(B442/F442)*10000","v":{"v":3.063457330415755,"d":"3"}}]
["Possession of Stolen Goods",9,2012,"Bay",7,{"$f":"'2012-2006Pop'!$D$8","v":{"v":45700,"d":"45,700"}},{"v":1.9693654266958425,"d":"2"}]
["Breach Probation",9,2012,"Bay",7,{"$f":"'2012-2006Pop'!$D$8","v":{"v":45700,"d":"45,700"}},{"v":1.9693654266958425,"d":"2"}]
["Offensive Weapons",8,2012,"Bay",7,{"$f":"'2012-2006Pop'!$D$8","v":{"v":45700,"d":"45,700"}},{"v":1.75054704595186,"d":"2"}]
["Threats via the Internet",8,2012,"Bay",7,{"$f":"'2012-2006Pop'!$D$8","v":{"v":45700,"d":"45,700"}},{"v":1.75054704595186,"d":"2"}]
["Driving Motor Vehicle While Prohibited",6,2012,"Bay",7,{"$f":"'2012-2006Pop'!$D$8","v":{"v":45700,"d":"45,700"}},{"v":1.312910284463895,"d":"1"}]
["Offensive Weapons",14,2011,"Bay",7,{"$f":"'2012-2006Pop'!$C$8","v":{"v":43995,"d":"43,995"}},{"v":3.182179793158314,"d":"3"}]
["Breach Probation",11,2011,"Bay",7,{"$f":"'2012-2006Pop'!$C$8","v":{"v":43995,"d":"43,995"}},{"v":2.5002841231958177,"d":"3"}]
["Theft Over $5000",9,2011,"Bay",7,{"$f":"'2012-2006Pop'!$C$8","v":{"v":43995,"d":"43,995"}},{"v":2.0456870098874873,"d":"2"}]
["Cocaine",9,2011,"Bay",7,{"$f":"'2012-2006Pop'!$C$8","v":{"v":43995,"d":"43,995"}},{"v":2.0456870098874873,"d":"2"}]
["Dangerous Operation of Motor Vehicle",8,2011,"Bay",7,{"$f":"'2012-2006Pop'!$C$8","v":{"v":43995,"d":"43,995"}},{"v":1.8183884532333219,"d":"2"}]
["Counterfeiting Currency",6,2011,"Bay",7,{"$f":"'2012-2006Pop'!$C$8","v":{"v":43995,"d":"43,995"}},{"v":1.3637913399249915,"d":"1"}]
["Abduction",5,2012,"Bay",7,{"$f":"'2012-2006Pop'!$D$8","v":{"v":45700,"d":"45,700"}},{"$f":"(B454/F454)*10000","v":{"v":1.0940919037199126,"d":"1"}}]
["Dangerous Operation of Motor Vehicle",5,2012,"Bay",7,{"$f":"'2012-2006Pop'!$D$8","v":{"v":45700,"d":"45,700"}},{"v":1.0940919037199126,"d":"1"}]
["Other Criminal Code Offences",2,2012,"Bay",7,{"$f":"'2012-2006Pop'!$D$8","v":{"v":45700,"d":"45,700"}},{"v":0.437636761487965,"d":"0"}]
["Homicide (Incidents)",1,2012,"Bay",7,{"$f":"'2012-2006Pop'!$D$8","v":{"v":45700,"d":"45,700"}},{"v":0.2188183807439825,"d":"0"}]
["Driving Motor Vehicle While Prohibited",4,2011,"Bay",7,{"$f":"'2012-2006Pop'!$C$8","v":{"v":43995,"d":"43,995"}},{"v":0.9091942266166609,"d":"1"}]
["Other Sexual Offences",3,2011,"Bay",7,{"$f":"'2012-2006Pop'!$C$8","v":{"v":43995,"d":"43,995"}},{"v":0.6818956699624957,"d":"1"}]
["Abduction",3,2011,"Bay",7,{"$f":"'2012-2006Pop'!$C$8","v":{"v":43995,"d":"43,995"}},{"v":0.6818956699624957,"d":"1"}]
["Other Sexual Offences",1,2012,"Bay",7,{"$f":"'2012-2006Pop'!$D$8","v":{"v":45700,"d":"45,700"}},{"$f":"(B461/F461)*10000","v":{"v":0.2188183807439825,"d":"0"}}]
["Other Controlled Drugs and Substances",1,2012,"Bay",7,{"$f":"'2012-2006Pop'!$D$8","v":{"v":45700,"d":"45,700"}},{"v":0.2188183807439825,"d":"0"}]
["Threats via the Internet",2,2011,"Bay",7,{"$f":"'2012-2006Pop'!$C$8","v":{"v":43995,"d":"43,995"}},{"v":0.45459711330833047,"d":"0"}]
["Other Controlled Drugs and Substances",2,2011,"Bay",7,{"$f":"'2012-2006Pop'!$C$8","v":{"v":43995,"d":"43,995"}},{"v":0.45459711330833047,"d":"0"}]
["Attempted Murder",0,2012,"Bay",7,{"$f":"'2012-2006Pop'!$D$8","v":{"v":45700,"d":"45,700"}},{"$f":"(B465/F465)*10000","v":0}]
["Prostitution",0,2012,"Bay",7,{"$f":"'2012-2006Pop'!$D$8","v":{"v":45700,"d":"45,700"}},0]
["Ecstasy (Methylenedioxyamphetamine )",0,2012,"Bay",7,{"$f":"'2012-2006Pop'!$D$8","v":{"v":45700,"d":"45,700"}},0]
["Crystal Meth (Methamphetamine)",0,2012,"Bay",7,{"$f":"'2012-2006Pop'!$D$8","v":{"v":45700,"d":"45,700"}},0]
["Heroin",0,2012,"Bay",7,{"$f":"'2012-2006Pop'!$D$8","v":{"v":45700,"d":"45,700"}},0]
["Arson",1,2011,"Bay",7,{"$f":"'2012-2006Pop'!$C$8","v":{"v":43995,"d":"43,995"}},{"v":0.22729855665416523,"d":"0"}]
["Homicide (Incidents)",0,2011,"Bay",7,{"$f":"'2012-2006Pop'!$C$8","v":{"v":43995,"d":"43,995"}},0]
["Attempted Murder",0,2011,"Bay",7,{"$f":"'2012-2006Pop'!$C$8","v":{"v":43995,"d":"43,995"}},0]
["Prostitution",0,2011,"Bay",7,{"$f":"'2012-2006Pop'!$C$8","v":{"v":43995,"d":"43,995"}},0]
["Theft $5000 and Under",757,2012,"College",8,{"$f":"'2012-2006Pop'!$D$9","v":{"v":53300,"d":"53,300"}},{"$f":"(B474/F474)*10000","v":{"v":142.0262664165103,"d":"142"}}]
["Mischief",306,2012,"College",8,{"$f":"'2012-2006Pop'!$D$9","v":{"v":53300,"d":"53,300"}},{"$f":"(B475/F475)*10000","v":{"v":57.41088180112571,"d":"57"}}]
["Break and Enter",176,2012,"College",8,{"$f":"'2012-2006Pop'!$D$9","v":{"v":53300,"d":"53,300"}},{"v":33.02063789868668,"d":"33"}]
["Other Criminal Code Offences",0,2011,"Bay",7,{"$f":"'2012-2006Pop'!$C$8","v":{"v":43995,"d":"43,995"}},{"$f":"(B477/F477)*10000","v":0}]
["Ecstasy (Methylenedioxyamphetamine )",0,2011,"Bay",7,{"$f":"'2012-2006Pop'!$C$8","v":{"v":43995,"d":"43,995"}},0]
["Crystal Meth (Methamphetamine)",0,2011,"Bay",7,{"$f":"'2012-2006Pop'!$C$8","v":{"v":43995,"d":"43,995"}},0]
["Heroin",0,2011,"Bay",7,{"$f":"'2012-2006Pop'!$C$8","v":{"v":43995,"d":"43,995"}},0]
["Fraud",166,2012,"College",8,{"$f":"'2012-2006Pop'!$D$9","v":{"v":53300,"d":"53,300"}},{"v":31.144465290806753,"d":"31"}]
["Assault (Incl. Sexual Assaults)",149,2012,"College",8,{"$f":"'2012-2006Pop'!$D$9","v":{"v":53300,"d":"53,300"}},{"v":27.954971857410882,"d":"28"}]
["Failure to Stop or Remain",128,2012,"College",8,{"$f":"'2012-2006Pop'!$D$9","v":{"v":53300,"d":"53,300"}},{"v":24.015009380863038,"d":"24"}]
["Theft $5000 and Under",802,2011,"College",8,{"$f":"'2012-2006Pop'!$C$8","v":{"v":43995,"d":"43,995"}},{"$f":"(B484/F484)*10000","v":{"v":182.29344243664053,"d":"182"}}]
["Mischief",350,2011,"College",8,{"$f":"'2012-2006Pop'!$C$8","v":{"v":43995,"d":"43,995"}},{"$f":"(B485/F485)*10000","v":{"v":79.55449482895784,"d":"80"}}]
["Assault (Incl. Sexual Assaults)",187,2011,"College",8,{"$f":"'2012-2006Pop'!$C$8","v":{"v":43995,"d":"43,995"}},{"v":42.5048300943289,"d":"43"}]
["Break and Enter",172,2011,"College",8,{"$f":"'2012-2006Pop'!$C$8","v":{"v":43995,"d":"43,995"}},{"v":39.09535174451642,"d":"39"}]
["Cannabis",53,2012,"College",8,{"$f":"'2012-2006Pop'!$D$9","v":{"v":53300,"d":"53,300"}},{"$f":"(B488/F488)*10000","v":{"v":9.943714821763603,"d":"10"}}]
["Theft - Motor Vehicle",51,2012,"College",8,{"$f":"'2012-2006Pop'!$D$9","v":{"v":53300,"d":"53,300"}},{"v":9.568480300187618,"d":"10"}]
["Impaired Operation of Vehicle",44,2012,"College",8,{"$f":"'2012-2006Pop'!$D$9","v":{"v":53300,"d":"53,300"}},{"v":8.25515947467167,"d":"8"}]
["Other Criminal Code Offences",40,2012,"College",8,{"$f":"'2012-2006Pop'!$D$9","v":{"v":53300,"d":"53,300"}},{"v":7.5046904315197,"d":"8"}]
["Other Offences",36,2012,"College",8,{"$f":"'2012-2006Pop'!$D$9","v":{"v":53300,"d":"53,300"}},{"v":6.75422138836773,"d":"7"}]
["Uttering Threats or Intimidation",31,2012,"College",8,{"$f":"'2012-2006Pop'!$D$9","v":{"v":53300,"d":"53,300"}},{"v":5.816135084427767,"d":"6"}]
["Fraud",165,2011,"College",8,{"$f":"'2012-2006Pop'!$C$8","v":{"v":43995,"d":"43,995"}},{"v":37.504261847937265,"d":"38"}]
["Failure to Stop or Remain",132,2011,"College",8,{"$f":"'2012-2006Pop'!$C$8","v":{"v":43995,"d":"43,995"}},{"v":30.003409478349813,"d":"30"}]
["Cannabis",81,2011,"College",8,{"$f":"'2012-2006Pop'!$C$8","v":{"v":43995,"d":"43,995"}},{"v":18.411183088987386,"d":"18"}]
["Theft - Motor Vehicle",63,2011,"College",8,{"$f":"'2012-2006Pop'!$C$8","v":{"v":43995,"d":"43,995"}},{"v":14.319809069212411,"d":"14"}]
["Impaired Operation of Vehicle",51,2011,"College",8,{"$f":"'2012-2006Pop'!$C$8","v":{"v":43995,"d":"43,995"}},{"v":11.592226389362429,"d":"12"}]
["Robbery",48,2011,"College",8,{"$f":"'2012-2006Pop'!$C$8","v":{"v":43995,"d":"43,995"}},{"v":10.910330719399932,"d":"11"}]
["Other Criminal Code Offences",40,2011,"College",8,{"$f":"'2012-2006Pop'!$C$8","v":{"v":43995,"d":"43,995"}},{"v":9.09194226616661,"d":"9"}]
["Other Offences",36,2011,"College",8,{"$f":"'2012-2006Pop'!$C$8","v":{"v":43995,"d":"43,995"}},{"v":8.18274803954995,"d":"8"}]
["Bail Violations",28,2012,"College",8,{"$f":"'2012-2006Pop'!$D$9","v":{"v":53300,"d":"53,300"}},{"$f":"(B502/F502)*10000","v":{"v":5.25328330206379,"d":"5"}}]
["Robbery",27,2012,"College",8,{"$f":"'2012-2006Pop'!$D$9","v":{"v":53300,"d":"53,300"}},{"v":5.065666041275797,"d":"5"}]
["Arson",17,2012,"College",8,{"$f":"'2012-2006Pop'!$D$9","v":{"v":53300,"d":"53,300"}},{"v":3.189493433395872,"d":"3"}]
["Bail Violations",34,2011,"College",8,{"$f":"'2012-2006Pop'!$C$8","v":{"v":43995,"d":"43,995"}},{"$f":"(B505/F505)*10000","v":{"v":7.728150926241619,"d":"8"}}]
["Offensive Weapons",14,2012,"College",8,{"$f":"'2012-2006Pop'!$D$9","v":{"v":53300,"d":"53,300"}},{"$f":"(B506/F506)*10000","v":{"v":2.626641651031895,"d":"3"}}]
["Theft Over $5000",13,2012,"College",8,{"$f":"'2012-2006Pop'!$D$9","v":{"v":53300,"d":"53,300"}},{"v":2.4390243902439024,"d":"2"}]
["Possession of Stolen Goods",9,2012,"College",8,{"$f":"'2012-2006Pop'!$D$9","v":{"v":53300,"d":"53,300"}},{"v":1.6885553470919326,"d":"2"}]
["Uttering Threats or Intimidation",23,2011,"College",8,{"$f":"'2012-2006Pop'!$C$8","v":{"v":43995,"d":"43,995"}},{"v":5.2278668030458,"d":"5"}]
["Breach Probation",14,2011,"College",8,{"$f":"'2012-2006Pop'!$C$8","v":{"v":43995,"d":"43,995"}},{"v":3.182179793158314,"d":"3"}]
["Offensive Weapons",13,2011,"College",8,{"$f":"'2012-2006Pop'!$C$8","v":{"v":43995,"d":"43,995"}},{"v":2.954881236504148,"d":"3"}]
["Arson",12,2011,"College",8,{"$f":"'2012-2006Pop'!$C$8","v":{"v":43995,"d":"43,995"}},{"v":2.727582679849983,"d":"3"}]
["Breach Probation",9,2012,"College",8,{"$f":"'2012-2006Pop'!$D$9","v":{"v":53300,"d":"53,300"}},{"$f":"(B513/F513)*10000","v":{"v":1.6885553470919326,"d":"2"}}]
["Threats via the Internet",9,2012,"College",8,{"$f":"'2012-2006Pop'!$D$9","v":{"v":53300,"d":"53,300"}},{"v":1.6885553470919326,"d":"2"}]
["Cocaine",9,2012,"College",8,{"$f":"'2012-2006Pop'!$D$9","v":{"v":53300,"d":"53,300"}},{"v":1.6885553470919326,"d":"2"}]
["Abduction",8,2012,"College",8,{"$f":"'2012-2006Pop'!$D$9","v":{"v":53300,"d":"53,300"}},{"v":1.5009380863039399,"d":"2"}]
["Possession of Stolen Goods",11,2011,"College",8,{"$f":"'2012-2006Pop'!$C$8","v":{"v":43995,"d":"43,995"}},{"v":2.5002841231958177,"d":"3"}]
["Driving Motor Vehicle While Prohibited",9,2011,"College",8,{"$f":"'2012-2006Pop'!$C$8","v":{"v":43995,"d":"43,995"}},{"v":2.0456870098874873,"d":"2"}]
["Theft Over $5000",8,2011,"College",8,{"$f":"'2012-2006Pop'!$C$8","v":{"v":43995,"d":"43,995"}},{"v":1.8183884532333219,"d":"2"}]
["Other Controlled Drugs and Substances",3,2012,"College",8,{"$f":"'2012-2006Pop'!$D$9","v":{"v":53300,"d":"53,300"}},{"$f":"(B520/F520)*10000","v":{"v":0.5628517823639775,"d":"1"}}]
["Counterfeiting Currency",2,2012,"College",8,{"$f":"'2012-2006Pop'!$D$9","v":{"v":53300,"d":"53,300"}},{"v":0.37523452157598497,"d":"0"}]
["Driving Motor Vehicle While Prohibited",2,2012,"College",8,{"$f":"'2012-2006Pop'!$D$9","v":{"v":53300,"d":"53,300"}},{"v":0.37523452157598497,"d":"0"}]
["Other Sexual Offences",1,2012,"College",8,{"$f":"'2012-2006Pop'!$D$9","v":{"v":53300,"d":"53,300"}},{"v":0.18761726078799248,"d":"0"}]
["Dangerous Operation of Motor Vehicle",1,2012,"College",8,{"$f":"'2012-2006Pop'!$D$9","v":{"v":53300,"d":"53,300"}},{"v":0.18761726078799248,"d":"0"}]
["Heroin",1,2012,"College",8,{"$f":"'2012-2006Pop'!$D$9","v":{"v":53300,"d":"53,300"}},{"v":0.18761726078799248,"d":"0"}]
["Homicide (Incidents)",0,2012,"College",8,{"$f":"'2012-2006Pop'!$D$9","v":{"v":53300,"d":"53,300"}},0]
["Attempted Murder",0,2012,"College",8,{"$f":"'2012-2006Pop'!$D$9","v":{"v":53300,"d":"53,300"}},0]
["Threats via the Internet",7,2011,"College",8,{"$f":"'2012-2006Pop'!$C$8","v":{"v":43995,"d":"43,995"}},{"v":1.591089896579157,"d":"2"}]
["Cocaine",7,2011,"College",8,{"$f":"'2012-2006Pop'!$C$8","v":{"v":43995,"d":"43,995"}},{"v":1.591089896579157,"d":"2"}]
["Dangerous Operation of Motor Vehicle",6,2011,"College",8,{"$f":"'2012-2006Pop'!$C$8","v":{"v":43995,"d":"43,995"}},{"v":1.3637913399249915,"d":"1"}]
["Counterfeiting Currency",5,2011,"College",8,{"$f":"'2012-2006Pop'!$C$8","v":{"v":43995,"d":"43,995"}},{"v":1.1364927832708263,"d":"1"}]
["Other Controlled Drugs and Substances",4,2011,"College",8,{"$f":"'2012-2006Pop'!$C$8","v":{"v":43995,"d":"43,995"}},{"v":0.9091942266166609,"d":"1"}]
["Other Sexual Offences",3,2011,"College",8,{"$f":"'2012-2006Pop'!$C$8","v":{"v":43995,"d":"43,995"}},{"v":0.6818956699624957,"d":"1"}]
["Abduction",2,2011,"College",8,{"$f":"'2012-2006Pop'!$C$8","v":{"v":43995,"d":"43,995"}},{"v":0.45459711330833047,"d":"0"}]
["Other Criminal Code Offences",1,2011,"College",8,{"$f":"'2012-2006Pop'!$C$8","v":{"v":43995,"d":"43,995"}},{"v":0.22729855665416523,"d":"0"}]
["Homicide (Incidents)",0,2011,"College",8,{"$f":"'2012-2006Pop'!$C$8","v":{"v":43995,"d":"43,995"}},0]
["Attempted Murder",0,2011,"College",8,{"$f":"'2012-2006Pop'!$C$8","v":{"v":43995,"d":"43,995"}},0]
["Prostitution",0,2011,"College",8,{"$f":"'2012-2006Pop'!$C$8","v":{"v":43995,"d":"43,995"}},0]
["Prostitution",0,2012,"College",8,{"$f":"'2012-2006Pop'!$D$9","v":{"v":53300,"d":"53,300"}},{"$f":"(B539/F539)*10000","v":0}]
["Other Criminal Code Offences",0,2012,"College",8,{"$f":"'2012-2006Pop'!$D$9","v":{"v":53300,"d":"53,300"}},0]
["Ecstasy (Methylenedioxyamphetamine )",0,2012,"College",8,{"$f":"'2012-2006Pop'!$D$9","v":{"v":53300,"d":"53,300"}},0]
["Crystal Meth (Methamphetamine)",0,2012,"College",8,{"$f":"'2012-2006Pop'!$D$9","v":{"v":53300,"d":"53,300"}},0]
["Theft $5000 and Under",599,2012,"Knoxdale-Merivale",9,{"$f":"'2012-2006Pop'!$D$10","v":{"v":39850,"d":"39,850"}},{"$f":"(B543/F543)*10000","v":{"v":150.31367628607276,"d":"150"}}]
["Mischief",195,2012,"Knoxdale-Merivale",9,{"$f":"'2012-2006Pop'!$D$10","v":{"v":39850,"d":"39,850"}},{"$f":"(B544/F544)*10000","v":{"v":48.93350062735257,"d":"49"}}]
["Ecstasy (Methylenedioxyamphetamine )",0,2011,"College",8,{"$f":"'2012-2006Pop'!$C$8","v":{"v":43995,"d":"43,995"}},{"$f":"(B545/F545)*10000","v":0}]
["Crystal Meth (Methamphetamine)",0,2011,"College",8,{"$f":"'2012-2006Pop'!$C$8","v":{"v":43995,"d":"43,995"}},0]
["Heroin",0,2011,"College",8,{"$f":"'2012-2006Pop'!$C$8","v":{"v":43995,"d":"43,995"}},0]
["Theft $5000 and Under",642,2011,"Knoxdale-Merivale",9,{"$f":"'2012-2006Pop'!$C$10","v":{"v":38070,"d":"38,070"}},{"$f":"(B548/F548)*10000","v":{"v":168.6367218282112,"d":"169"}}]
["Fraud",129,2012,"Knoxdale-Merivale",9,{"$f":"'2012-2006Pop'!$D$10","v":{"v":39850,"d":"39,850"}},{"$f":"(B549/F549)*10000","v":{"v":32.37139272271016,"d":"32"}}]
["Failure to Stop or Remain",101,2012,"Knoxdale-Merivale",9,{"$f":"'2012-2006Pop'!$D$10","v":{"v":39850,"d":"39,850"}},{"v":25.34504391468005,"d":"25"}]
["Break and Enter",100,2012,"Knoxdale-Merivale",9,{"$f":"'2012-2006Pop'!$D$10","v":{"v":39850,"d":"39,850"}},{"v":25.09410288582183,"d":"25"}]
["Assault (Incl. Sexual Assaults)",75,2012,"Knoxdale-Merivale",9,{"$f":"'2012-2006Pop'!$D$10","v":{"v":39850,"d":"39,850"}},{"v":18.820577164366373,"d":"19"}]
["Theft - Motor Vehicle",64,2012,"Knoxdale-Merivale",9,{"$f":"'2012-2006Pop'!$D$10","v":{"v":39850,"d":"39,850"}},{"v":16.060225846925974,"d":"16"}]
["Mischief",299,2011,"Knoxdale-Merivale",9,{"$f":"'2012-2006Pop'!$C$10","v":{"v":38070,"d":"38,070"}},{"$f":"(B554/F554)*10000","v":{"v":78.53953244024166,"d":"79"}}]
["Fraud",136,2011,"Knoxdale-Merivale",9,{"$f":"'2012-2006Pop'!$C$10","v":{"v":38070,"d":"38,070"}},{"v":35.72366692934069,"d":"36"}]
["Failure to Stop or Remain",120,2011,"Knoxdale-Merivale",9,{"$f":"'2012-2006Pop'!$C$10","v":{"v":38070,"d":"38,070"}},{"v":31.520882584712375,"d":"32"}]
["Other Offences",36,2012,"Knoxdale-Merivale",9,{"$f":"'2012-2006Pop'!$D$10","v":{"v":39850,"d":"39,850"}},{"v":9.03387703889586,"d":"9"}]
["Impaired Operation of Vehicle",34,2012,"Knoxdale-Merivale",9,{"$f":"'2012-2006Pop'!$D$10","v":{"v":39850,"d":"39,850"}},{"v":8.531994981179423,"d":"9"}]
["Bail Violations",31,2012,"Knoxdale-Merivale",9,{"$f":"'2012-2006Pop'!$D$10","v":{"v":39850,"d":"39,850"}},{"v":7.779171894604768,"d":"8"}]
["Cannabis",31,2012,"Knoxdale-Merivale",9,{"$f":"'2012-2006Pop'!$D$10","v":{"v":39850,"d":"39,850"}},{"v":7.779171894604768,"d":"8"}]
["Other Criminal Code Offences",25,2012,"Knoxdale-Merivale",9,{"$f":"'2012-2006Pop'!$D$10","v":{"v":39850,"d":"39,850"}},{"v":6.273525721455457,"d":"6"}]
["Robbery",23,2012,"Knoxdale-Merivale",9,{"$f":"'2012-2006Pop'!$D$10","v":{"v":39850,"d":"39,850"}},{"v":5.771643663739021,"d":"6"}]
["Theft Over $5000",17,2012,"Knoxdale-Merivale",9,{"$f":"'2012-2006Pop'!$D$10","v":{"v":39850,"d":"39,850"}},{"v":4.265997490589712,"d":"4"}]
["Uttering Threats or Intimidation",13,2012,"Knoxdale-Merivale",9,{"$f":"'2012-2006Pop'!$D$10","v":{"v":39850,"d":"39,850"}},{"v":3.262233375156838,"d":"3"}]
["Possession of Stolen Goods",10,2012,"Knoxdale-Merivale",9,{"$f":"'2012-2006Pop'!$D$10","v":{"v":39850,"d":"39,850"}},{"v":2.509410288582183,"d":"3"}]
["Assault (Incl. Sexual Assaults)",105,2011,"Knoxdale-Merivale",9,{"$f":"'2012-2006Pop'!$C$10","v":{"v":38070,"d":"38,070"}},{"$f":"(B566/F566)*10000","v":{"v":27.580772261623327,"d":"28"}}]
["Break and Enter",102,2011,"Knoxdale-Merivale",9,{"$f":"'2012-2006Pop'!$C$10","v":{"v":38070,"d":"38,070"}},{"v":26.792750197005518,"d":"27"}]
["Theft - Motor Vehicle",56,2011,"Knoxdale-Merivale",9,{"$f":"'2012-2006Pop'!$C$10","v":{"v":38070,"d":"38,070"}},{"v":14.709745206199107,"d":"15"}]
["Cannabis",41,2011,"Knoxdale-Merivale",9,{"$f":"'2012-2006Pop'!$C$10","v":{"v":38070,"d":"38,070"}},{"v":10.76963488311006,"d":"11"}]
["Impaired Operation of Vehicle",39,2011,"Knoxdale-Merivale",9,{"$f":"'2012-2006Pop'!$C$10","v":{"v":38070,"d":"38,070"}},{"v":10.24428684003152,"d":"10"}]
["Other Offences",34,2011,"Knoxdale-Merivale",9,{"$f":"'2012-2006Pop'!$C$10","v":{"v":38070,"d":"38,070"}},{"v":8.930916732335172,"d":"9"}]
["Other Criminal Code Offences",31,2011,"Knoxdale-Merivale",9,{"$f":"'2012-2006Pop'!$C$10","v":{"v":38070,"d":"38,070"}},{"v":8.142894667717362,"d":"8"}]
["Bail Violations",30,2011,"Knoxdale-Merivale",9,{"$f":"'2012-2006Pop'!$C$10","v":{"v":38070,"d":"38,070"}},{"v":7.880220646178094,"d":"8"}]
["Cocaine",7,2012,"Knoxdale-Merivale",9,{"$f":"'2012-2006Pop'!$D$10","v":{"v":39850,"d":"39,850"}},{"v":1.7565872020075282,"d":"2"}]
["Offensive Weapons",6,2012,"Knoxdale-Merivale",9,{"$f":"'2012-2006Pop'!$D$10","v":{"v":39850,"d":"39,850"}},{"v":1.50564617314931,"d":"2"}]
["Dangerous Operation of Motor Vehicle",5,2012,"Knoxdale-Merivale",9,{"$f":"'2012-2006Pop'!$D$10","v":{"v":39850,"d":"39,850"}},{"v":1.2547051442910915,"d":"1"}]
["Counterfeiting Currency",3,2012,"Knoxdale-Merivale",9,{"$f":"'2012-2006Pop'!$D$10","v":{"v":39850,"d":"39,850"}},{"v":0.752823086574655,"d":"1"}]
["Breach Probation",3,2012,"Knoxdale-Merivale",9,{"$f":"'2012-2006Pop'!$D$10","v":{"v":39850,"d":"39,850"}},{"v":0.752823086574655,"d":"1"}]
["Threats via the Internet",3,2012,"Knoxdale-Merivale",9,{"$f":"'2012-2006Pop'!$D$10","v":{"v":39850,"d":"39,850"}},{"v":0.752823086574655,"d":"1"}]
["Robbery",22,2011,"Knoxdale-Merivale",9,{"$f":"'2012-2006Pop'!$C$10","v":{"v":38070,"d":"38,070"}},{"$f":"(B580/F580)*10000","v":{"v":5.7788284738639355,"d":"6"}}]
["Theft Over $5000",12,2011,"Knoxdale-Merivale",9,{"$f":"'2012-2006Pop'!$C$10","v":{"v":38070,"d":"38,070"}},{"v":3.1520882584712373,"d":"3"}]
["Possession of Stolen Goods",12,2011,"Knoxdale-Merivale",9,{"$f":"'2012-2006Pop'!$C$10","v":{"v":38070,"d":"38,070"}},{"v":3.1520882584712373,"d":"3"}]
["Uttering Threats or Intimidation",11,2011,"Knoxdale-Merivale",9,{"$f":"'2012-2006Pop'!$C$10","v":{"v":38070,"d":"38,070"}},{"v":2.8894142369319677,"d":"3"}]
["Driving Motor Vehicle While Prohibited",3,2012,"Knoxdale-Merivale",9,{"$f":"'2012-2006Pop'!$D$10","v":{"v":39850,"d":"39,850"}},{"v":0.752823086574655,"d":"1"}]
["Other Sexual Offences",2,2012,"Knoxdale-Merivale",9,{"$f":"'2012-2006Pop'!$D$10","v":{"v":39850,"d":"39,850"}},{"v":0.5018820577164367,"d":"1"}]
["Abduction",2,2012,"Knoxdale-Merivale",9,{"$f":"'2012-2006Pop'!$D$10","v":{"v":39850,"d":"39,850"}},{"v":0.5018820577164367,"d":"1"}]
["Arson",2,2012,"Knoxdale-Merivale",9,{"$f":"'2012-2006Pop'!$D$10","v":{"v":39850,"d":"39,850"}},{"v":0.5018820577164367,"d":"1"}]
["Other Controlled Drugs and Substances",2,2012,"Knoxdale-Merivale",9,{"$f":"'2012-2006Pop'!$D$10","v":{"v":39850,"d":"39,850"}},{"v":0.5018820577164367,"d":"1"}]
["Homicide (Incidents)",1,2012,"Knoxdale-Merivale",9,{"$f":"'2012-2006Pop'!$D$10","v":{"v":39850,"d":"39,850"}},{"v":0.25094102885821834,"d":"0"}]
["Attempted Murder",0,2012,"Knoxdale-Merivale",9,{"$f":"'2012-2006Pop'!$D$10","v":{"v":39850,"d":"39,850"}},0]
["Offensive Weapons",8,2011,"Knoxdale-Merivale",9,{"$f":"'2012-2006Pop'!$C$10","v":{"v":38070,"d":"38,070"}},{"$f":"(B591/F591)*10000","v":{"v":2.101392172314158,"d":"2"}}]
["Dangerous Operation of Motor Vehicle",7,2011,"Knoxdale-Merivale",9,{"$f":"'2012-2006Pop'!$C$10","v":{"v":38070,"d":"38,070"}},{"v":1.8387181507748884,"d":"2"}]
["Breach Probation",6,2011,"Knoxdale-Merivale",9,{"$f":"'2012-2006Pop'!$C$10","v":{"v":38070,"d":"38,070"}},{"v":1.5760441292356187,"d":"2"}]
["Abduction",4,2011,"Knoxdale-Merivale",9,{"$f":"'2012-2006Pop'!$C$10","v":{"v":38070,"d":"38,070"}},{"v":1.050696086157079,"d":"1"}]
["Arson",3,2011,"Knoxdale-Merivale",9,{"$f":"'2012-2006Pop'!$C$10","v":{"v":38070,"d":"38,070"}},{"v":0.7880220646178093,"d":"1"}]
["Threats via the Internet",3,2011,"Knoxdale-Merivale",9,{"$f":"'2012-2006Pop'!$C$10","v":{"v":38070,"d":"38,070"}},{"v":0.7880220646178093,"d":"1"}]
["Driving Motor Vehicle While Prohibited",2,2011,"Knoxdale-Merivale",9,{"$f":"'2012-2006Pop'!$C$10","v":{"v":38070,"d":"38,070"}},{"v":0.5253480430785396,"d":"1"}]
["Other Criminal Code Offences",2,2011,"Knoxdale-Merivale",9,{"$f":"'2012-2006Pop'!$C$10","v":{"v":38070,"d":"38,070"}},{"v":0.5253480430785396,"d":"1"}]
["Cocaine",2,2011,"Knoxdale-Merivale",9,{"$f":"'2012-2006Pop'!$C$10","v":{"v":38070,"d":"38,070"}},{"v":0.5253480430785396,"d":"1"}]
["Homicide (Incidents)",1,2011,"Knoxdale-Merivale",9,{"$f":"'2012-2006Pop'!$C$10","v":{"v":38070,"d":"38,070"}},{"v":0.2626740215392698,"d":"0"}]
["Attempted Murder",1,2011,"Knoxdale-Merivale",9,{"$f":"'2012-2006Pop'!$C$10","v":{"v":38070,"d":"38,070"}},{"v":0.2626740215392698,"d":"0"}]
["Prostitution",1,2011,"Knoxdale-Merivale",9,{"$f":"'2012-2006Pop'!$C$10","v":{"v":38070,"d":"38,070"}},{"v":0.2626740215392698,"d":"0"}]
["Prostitution",0,2012,"Knoxdale-Merivale",9,{"$f":"'2012-2006Pop'!$D$10","v":{"v":39850,"d":"39,850"}},0]
["Other Criminal Code Offences",0,2012,"Knoxdale-Merivale",9,{"$f":"'2012-2006Pop'!$D$10","v":{"v":39850,"d":"39,850"}},0]
["Ecstasy (Methylenedioxyamphetamine )",0,2012,"Knoxdale-Merivale",9,{"$f":"'2012-2006Pop'!$D$10","v":{"v":39850,"d":"39,850"}},0]
["Other Sexual Offences",0,2011,"Knoxdale-Merivale",9,{"$f":"'2012-2006Pop'!$C$10","v":{"v":38070,"d":"38,070"}},{"$f":"(B606/F606)*10000","v":0}]
["Counterfeiting Currency",0,2011,"Knoxdale-Merivale",9,{"$f":"'2012-2006Pop'!$C$10","v":{"v":38070,"d":"38,070"}},0]
["Ecstasy (Methylenedioxyamphetamine )",0,2011,"Knoxdale-Merivale",9,{"$f":"'2012-2006Pop'!$C$10","v":{"v":38070,"d":"38,070"}},0]
["Crystal Meth (Methamphetamine)",0,2011,"Knoxdale-Merivale",9,{"$f":"'2012-2006Pop'!$C$10","v":{"v":38070,"d":"38,070"}},0]
["Heroin",0,2011,"Knoxdale-Merivale",9,{"$f":"'2012-2006Pop'!$C$10","v":{"v":38070,"d":"38,070"}},0]
["Other Controlled Drugs and Substances",0,2011,"Knoxdale-Merivale",9,{"$f":"'2012-2006Pop'!$C$10","v":{"v":38070,"d":"38,070"}},0]
["Theft $5000 and Under",558,2011,"Gloucester-Southgage",10,{"$f":"'2012-2006Pop'!$C$11","v":{"v":44380,"d":"44,380"}},{"$f":"(B612/F612)*10000","v":{"v":125.73231185218567,"d":"126"}}]
["Mischief",275,2011,"Gloucester-Southgage",10,{"$f":"'2012-2006Pop'!$C$11","v":{"v":44380,"d":"44,380"}},{"$f":"(B613/F613)*10000","v":{"v":61.964849031095085,"d":"62"}}]
["Assault (Incl. Sexual Assaults)",157,2011,"Gloucester-Southgage",10,{"$f":"'2012-2006Pop'!$C$11","v":{"v":44380,"d":"44,380"}},{"v":35.37629562866156,"d":"35"}]
["Fraud",153,2011,"Gloucester-Southgage",10,{"$f":"'2012-2006Pop'!$C$11","v":{"v":44380,"d":"44,380"}},{"v":34.474988733663814,"d":"34"}]
["Break and Enter",123,2011,"Gloucester-Southgage",10,{"$f":"'2012-2006Pop'!$C$11","v":{"v":44380,"d":"44,380"}},{"v":27.715187021180714,"d":"28"}]
["Failure to Stop or Remain",103,2011,"Gloucester-Southgage",10,{"$f":"'2012-2006Pop'!$C$11","v":{"v":44380,"d":"44,380"}},{"v":23.208652546191978,"d":"23"}]
["Theft - Motor Vehicle",85,2011,"Gloucester-Southgage",10,{"$f":"'2012-2006Pop'!$C$11","v":{"v":44380,"d":"44,380"}},{"v":19.152771518702117,"d":"19"}]
["Robbery",60,2011,"Gloucester-Southgage",10,{"$f":"'2012-2006Pop'!$C$11","v":{"v":44380,"d":"44,380"}},{"v":13.519603424966201,"d":"14"}]
["Crystal Meth (Methamphetamine)",0,2012,"Knoxdale-Merivale",9,{"$f":"'2012-2006Pop'!$D$10","v":{"v":39850,"d":"39,850"}},{"$f":"(B620/F620)*10000","v":0}]
["Heroin",0,2012,"Knoxdale-Merivale",9,{"$f":"'2012-2006Pop'!$D$10","v":{"v":39850,"d":"39,850"}},0]
["Theft $5000 and Under",594,2012,"Gloucester-Southgage",10,{"$f":"'2012-2006Pop'!$D$11","v":{"v":47650,"d":"47,650"}},{"$f":"(B622/F622)*10000","v":{"v":124.65897166841553,"d":"125"}}]
["Mischief",249,2012,"Gloucester-Southgage",10,{"$f":"'2012-2006Pop'!$D$11","v":{"v":47650,"d":"47,650"}},{"$f":"(B623/F623)*10000","v":{"v":52.25603357817418,"d":"52"}}]
["Fraud",189,2012,"Gloucester-Southgage",10,{"$f":"'2012-2006Pop'!$D$11","v":{"v":47650,"d":"47,650"}},{"v":39.66421825813221,"d":"40"}]
["Assault (Incl. Sexual Assaults)",148,2012,"Gloucester-Southgage",10,{"$f":"'2012-2006Pop'!$D$11","v":{"v":47650,"d":"47,650"}},{"v":31.0598111227702,"d":"31"}]
["Failure to Stop or Remain",110,2012,"Gloucester-Southgage",10,{"$f":"'2012-2006Pop'!$D$11","v":{"v":47650,"d":"47,650"}},{"v":23.08499475341028,"d":"23"}]
["Theft - Motor Vehicle",99,2012,"Gloucester-Southgage",10,{"$f":"'2012-2006Pop'!$D$11","v":{"v":47650,"d":"47,650"}},{"v":20.776495278069252,"d":"21"}]
["Break and Enter",96,2012,"Gloucester-Southgage",10,{"$f":"'2012-2006Pop'!$D$11","v":{"v":47650,"d":"47,650"}},{"v":20.146904512067156,"d":"20"}]
["Bail Violations",61,2012,"Gloucester-Southgage",10,{"$f":"'2012-2006Pop'!$D$11","v":{"v":47650,"d":"47,650"}},{"v":12.80167890870934,"d":"13"}]
["Other Criminal Code Offences",47,2012,"Gloucester-Southgage",10,{"$f":"'2012-2006Pop'!$D$11","v":{"v":47650,"d":"47,650"}},{"v":9.863588667366212,"d":"10"}]
["Robbery",45,2012,"Gloucester-Southgage",10,{"$f":"'2012-2006Pop'!$D$11","v":{"v":47650,"d":"47,650"}},{"v":9.44386149003148,"d":"9"}]
["Other Offences",44,2012,"Gloucester-Southgage",10,{"$f":"'2012-2006Pop'!$D$11","v":{"v":47650,"d":"47,650"}},{"v":9.233997901364114,"d":"9"}]
["Bail Violations",60,2011,"Gloucester-Southgage",10,{"$f":"'2012-2006Pop'!$C$11","v":{"v":44380,"d":"44,380"}},{"$f":"(B633/F633)*10000","v":{"v":13.519603424966201,"d":"14"}}]
["Cannabis",50,2011,"Gloucester-Southgage",10,{"$f":"'2012-2006Pop'!$C$11","v":{"v":44380,"d":"44,380"}},{"v":11.266336187471834,"d":"11"}]
["Other Offences",46,2011,"Gloucester-Southgage",10,{"$f":"'2012-2006Pop'!$C$11","v":{"v":44380,"d":"44,380"}},{"v":10.365029292474087,"d":"10"}]
["Other Criminal Code Offences",45,2011,"Gloucester-Southgage",10,{"$f":"'2012-2006Pop'!$C$11","v":{"v":44380,"d":"44,380"}},{"v":10.139702568724651,"d":"10"}]
["Impaired Operation of Vehicle",38,2011,"Gloucester-Southgage",10,{"$f":"'2012-2006Pop'!$C$11","v":{"v":44380,"d":"44,380"}},{"v":8.562415502478594,"d":"9"}]
["Uttering Threats or Intimidation",25,2011,"Gloucester-Southgage",10,{"$f":"'2012-2006Pop'!$C$11","v":{"v":44380,"d":"44,380"}},{"v":5.633168093735917,"d":"6"}]
["Offensive Weapons",17,2011,"Gloucester-Southgage",10,{"$f":"'2012-2006Pop'!$C$11","v":{"v":44380,"d":"44,380"}},{"v":3.8305543037404237,"d":"4"}]
["Theft Over $5000",14,2011,"Gloucester-Southgage",10,{"$f":"'2012-2006Pop'!$C$11","v":{"v":44380,"d":"44,380"}},{"v":3.154574132492114,"d":"3"}]
["Cannabis",44,2012,"Gloucester-Southgage",10,{"$f":"'2012-2006Pop'!$D$11","v":{"v":47650,"d":"47,650"}},{"v":9.233997901364114,"d":"9"}]
["Impaired Operation of Vehicle",31,2012,"Gloucester-Southgage",10,{"$f":"'2012-2006Pop'!$D$11","v":{"v":47650,"d":"47,650"}},{"v":6.505771248688353,"d":"7"}]
["Offensive Weapons",30,2012,"Gloucester-Southgage",10,{"$f":"'2012-2006Pop'!$D$11","v":{"v":47650,"d":"47,650"}},{"v":6.295907660020986,"d":"6"}]
["Uttering Threats or Intimidation",25,2012,"Gloucester-Southgage",10,{"$f":"'2012-2006Pop'!$D$11","v":{"v":47650,"d":"47,650"}},{"v":5.246589716684156,"d":"5"}]
["Breach Probation",12,2012,"Gloucester-Southgage",10,{"$f":"'2012-2006Pop'!$D$11","v":{"v":47650,"d":"47,650"}},{"v":2.5183630640083945,"d":"3"}]
["Possession of Stolen Goods",10,2012,"Gloucester-Southgage",10,{"$f":"'2012-2006Pop'!$D$11","v":{"v":47650,"d":"47,650"}},{"v":2.098635886673662,"d":"2"}]
["Possession of Stolen Goods",13,2011,"Gloucester-Southgage",10,{"$f":"'2012-2006Pop'!$C$11","v":{"v":44380,"d":"44,380"}},{"$f":"(B647/F647)*10000","v":{"v":2.929247408742677,"d":"3"}}]
["Breach Probation",12,2011,"Gloucester-Southgage",10,{"$f":"'2012-2006Pop'!$C$11","v":{"v":44380,"d":"44,380"}},{"v":2.70392068499324,"d":"3"}]
["Arson",8,2011,"Gloucester-Southgage",10,{"$f":"'2012-2006Pop'!$C$11","v":{"v":44380,"d":"44,380"}},{"v":1.8026137899954935,"d":"2"}]
["Dangerous Operation of Motor Vehicle",8,2011,"Gloucester-Southgage",10,{"$f":"'2012-2006Pop'!$C$11","v":{"v":44380,"d":"44,380"}},{"v":1.8026137899954935,"d":"2"}]
["Cocaine",7,2011,"Gloucester-Southgage",10,{"$f":"'2012-2006Pop'!$C$11","v":{"v":44380,"d":"44,380"}},{"v":1.577287066246057,"d":"2"}]
["Threats via the Internet",6,2011,"Gloucester-Southgage",10,{"$f":"'2012-2006Pop'!$C$11","v":{"v":44380,"d":"44,380"}},{"v":1.35196034249662,"d":"1"}]
["Abduction",5,2011,"Gloucester-Southgage",10,{"$f":"'2012-2006Pop'!$C$11","v":{"v":44380,"d":"44,380"}},{"v":1.1266336187471835,"d":"1"}]
["Other Sexual Offences",4,2011,"Gloucester-Southgage",10,{"$f":"'2012-2006Pop'!$C$11","v":{"v":44380,"d":"44,380"}},{"v":0.9013068949977467,"d":"1"}]
["Other Controlled Drugs and Substances",4,2011,"Gloucester-Southgage",10,{"$f":"'2012-2006Pop'!$C$11","v":{"v":44380,"d":"44,380"}},{"v":0.9013068949977467,"d":"1"}]
["Counterfeiting Currency",2,2011,"Gloucester-Southgage",10,{"$f":"'2012-2006Pop'!$C$11","v":{"v":44380,"d":"44,380"}},{"v":0.45065344749887337,"d":"0"}]
["Driving Motor Vehicle While Prohibited",9,2012,"Gloucester-Southgage",10,{"$f":"'2012-2006Pop'!$D$11","v":{"v":47650,"d":"47,650"}},{"v":1.888772298006296,"d":"2"}]
["Cocaine",9,2012,"Gloucester-Southgage",10,{"$f":"'2012-2006Pop'!$D$11","v":{"v":47650,"d":"47,650"}},{"v":1.888772298006296,"d":"2"}]
["Arson",8,2012,"Gloucester-Southgage",10,{"$f":"'2012-2006Pop'!$D$11","v":{"v":47650,"d":"47,650"}},{"v":1.6789087093389299,"d":"2"}]
["Abduction",7,2012,"Gloucester-Southgage",10,{"$f":"'2012-2006Pop'!$D$11","v":{"v":47650,"d":"47,650"}},{"v":1.4690451206715633,"d":"1"}]
["Dangerous Operation of Motor Vehicle",7,2012,"Gloucester-Southgage",10,{"$f":"'2012-2006Pop'!$D$11","v":{"v":47650,"d":"47,650"}},{"v":1.4690451206715633,"d":"1"}]
["Theft Over $5000",6,2012,"Gloucester-Southgage",10,{"$f":"'2012-2006Pop'!$D$11","v":{"v":47650,"d":"47,650"}},{"v":1.2591815320041972,"d":"1"}]
["Threats via the Internet",6,2012,"Gloucester-Southgage",10,{"$f":"'2012-2006Pop'!$D$11","v":{"v":47650,"d":"47,650"}},{"v":1.2591815320041972,"d":"1"}]
["Other Sexual Offences",3,2012,"Gloucester-Southgage",10,{"$f":"'2012-2006Pop'!$D$11","v":{"v":47650,"d":"47,650"}},{"v":0.6295907660020986,"d":"1"}]
["Counterfeiting Currency",1,2012,"Gloucester-Southgage",10,{"$f":"'2012-2006Pop'!$D$11","v":{"v":47650,"d":"47,650"}},{"v":0.20986358866736624,"d":"0"}]
["Other Controlled Drugs and Substances",1,2012,"Gloucester-Southgage",10,{"$f":"'2012-2006Pop'!$D$11","v":{"v":47650,"d":"47,650"}},{"v":0.20986358866736624,"d":"0"}]
["Driving Motor Vehicle While Prohibited",2,2011,"Gloucester-Southgage",10,{"$f":"'2012-2006Pop'!$C$11","v":{"v":44380,"d":"44,380"}},{"$f":"(B667/F667)*10000","v":{"v":0.45065344749887337,"d":"0"}}]
["Other Criminal Code Offences",2,2011,"Gloucester-Southgage",10,{"$f":"'2012-2006Pop'!$C$11","v":{"v":44380,"d":"44,380"}},{"v":0.45065344749887337,"d":"0"}]
["Homicide (Incidents)",0,2011,"Gloucester-Southgage",10,{"$f":"'2012-2006Pop'!$C$11","v":{"v":44380,"d":"44,380"}},0]
["Attempted Murder",0,2011,"Gloucester-Southgage",10,{"$f":"'2012-2006Pop'!$C$11","v":{"v":44380,"d":"44,380"}},0]
["Prostitution",0,2011,"Gloucester-Southgage",10,{"$f":"'2012-2006Pop'!$C$11","v":{"v":44380,"d":"44,380"}},0]
["Ecstasy (Methylenedioxyamphetamine )",0,2011,"Gloucester-Southgage",10,{"$f":"'2012-2006Pop'!$C$11","v":{"v":44380,"d":"44,380"}},0]
["Crystal Meth (Methamphetamine)",0,2011,"Gloucester-Southgage",10,{"$f":"'2012-2006Pop'!$C$11","v":{"v":44380,"d":"44,380"}},0]
["Heroin",0,2011,"Gloucester-Southgage",10,{"$f":"'2012-2006Pop'!$C$11","v":{"v":44380,"d":"44,380"}},0]
["Theft $5000 and Under",588,2011,"Beacon Hill-Cyrville",11,{"$f":"'2012-2006Pop'!$C$12","v":{"v":32235,"d":"32,235"}},{"$f":"(B675/F675)*10000","v":{"v":182.41042345276873,"d":"182"}}]
["Mischief",239,2011,"Beacon Hill-Cyrville",11,{"$f":"'2012-2006Pop'!$C$12","v":{"v":32235,"d":"32,235"}},{"$f":"(B676/F676)*10000","v":{"v":74.14301225376144,"d":"74"}}]
["Homicide (Incidents)",0,2012,"Gloucester-Southgage",10,{"$f":"'2012-2006Pop'!$D$11","v":{"v":47650,"d":"47,650"}},{"$f":"(B677/F677)*10000","v":0}]
["Attempted Murder",0,2012,"Gloucester-Southgage",10,{"$f":"'2012-2006Pop'!$D$11","v":{"v":47650,"d":"47,650"}},0]
["Prostitution",0,2012,"Gloucester-Southgage",10,{"$f":"'2012-2006Pop'!$D$11","v":{"v":47650,"d":"47,650"}},0]
["Other Criminal Code Offences",0,2012,"Gloucester-Southgage",10,{"$f":"'2012-2006Pop'!$D$11","v":{"v":47650,"d":"47,650"}},0]
["Ecstasy (Methylenedioxyamphetamine )",0,2012,"Gloucester-Southgage",10,{"$f":"'2012-2006Pop'!$D$11","v":{"v":47650,"d":"47,650"}},0]
["Crystal Meth (Methamphetamine)",0,2012,"Gloucester-Southgage",10,{"$f":"'2012-2006Pop'!$D$11","v":{"v":47650,"d":"47,650"}},0]
["Heroin",0,2012,"Gloucester-Southgage",10,{"$f":"'2012-2006Pop'!$D$11","v":{"v":47650,"d":"47,650"}},0]
["Fraud",127,2011,"Beacon Hill-Cyrville",11,{"$f":"'2012-2006Pop'!$C$12","v":{"v":32235,"d":"32,235"}},{"v":39.3981696913293,"d":"39"}]
["Assault (Incl. Sexual Assaults)",120,2011,"Beacon Hill-Cyrville",11,{"$f":"'2012-2006Pop'!$C$12","v":{"v":32235,"d":"32,235"}},{"v":37.22661703117729,"d":"37"}]
["Break and Enter",104,2011,"Beacon Hill-Cyrville",11,{"$f":"'2012-2006Pop'!$C$12","v":{"v":32235,"d":"32,235"}},{"v":32.26306809368699,"d":"32"}]
["Failure to Stop or Remain",88,2011,"Beacon Hill-Cyrville",11,{"$f":"'2012-2006Pop'!$C$12","v":{"v":32235,"d":"32,235"}},{"v":27.29951915619668,"d":"27"}]
["Theft - Motor Vehicle",84,2011,"Beacon Hill-Cyrville",11,{"$f":"'2012-2006Pop'!$C$12","v":{"v":32235,"d":"32,235"}},{"v":26.058631921824105,"d":"26"}]
["Other Offences",42,2011,"Beacon Hill-Cyrville",11,{"$f":"'2012-2006Pop'!$C$12","v":{"v":32235,"d":"32,235"}},{"v":13.029315960912053,"d":"13"}]
["Cannabis",32,2011,"Beacon Hill-Cyrville",11,{"$f":"'2012-2006Pop'!$C$12","v":{"v":32235,"d":"32,235"}},{"v":9.927097874980612,"d":"10"}]
["Other Criminal Code Offences",28,2011,"Beacon Hill-Cyrville",11,{"$f":"'2012-2006Pop'!$C$12","v":{"v":32235,"d":"32,235"}},{"v":8.686210640608035,"d":"9"}]
["Impaired Operation of Vehicle",24,2011,"Beacon Hill-Cyrville",11,{"$f":"'2012-2006Pop'!$C$12","v":{"v":32235,"d":"32,235"}},{"v":7.445323406235459,"d":"7"}]
["Theft $5000 and Under",659,2012,"Beacon Hill-Cyrville",11,{"$f":"'2012-2006Pop'!$D$12","v":{"v":34150,"d":"34,150"}},{"$f":"(B693/F693)*10000","v":{"v":192.97218155197658,"d":"193"}}]
["Mischief",230,2012,"Beacon Hill-Cyrville",11,{"$f":"'2012-2006Pop'!$D$12","v":{"v":34150,"d":"34,150"}},{"$f":"(B694/F694)*10000","v":{"v":67.34992679355783,"d":"67"}}]
["Assault (Incl. Sexual Assaults)",139,2012,"Beacon Hill-Cyrville",11,{"$f":"'2012-2006Pop'!$D$12","v":{"v":34150,"d":"34,150"}},{"v":40.70278184480234,"d":"41"}]
["Fraud",130,2012,"Beacon Hill-Cyrville",11,{"$f":"'2012-2006Pop'!$D$12","v":{"v":34150,"d":"34,150"}},{"v":38.06734992679356,"d":"38"}]
["Failure to Stop or Remain",101,2012,"Beacon Hill-Cyrville",11,{"$f":"'2012-2006Pop'!$D$12","v":{"v":34150,"d":"34,150"}},{"v":29.575402635431917,"d":"30"}]
["Theft - Motor Vehicle",96,2012,"Beacon Hill-Cyrville",11,{"$f":"'2012-2006Pop'!$D$12","v":{"v":34150,"d":"34,150"}},{"v":28.111273792093705,"d":"28"}]
["Break and Enter",94,2012,"Beacon Hill-Cyrville",11,{"$f":"'2012-2006Pop'!$D$12","v":{"v":34150,"d":"34,150"}},{"v":27.52562225475842,"d":"28"}]
["Robbery",39,2012,"Beacon Hill-Cyrville",11,{"$f":"'2012-2006Pop'!$D$12","v":{"v":34150,"d":"34,150"}},{"v":11.420204978038067,"d":"11"}]
["Bail Violations",21,2011,"Beacon Hill-Cyrville",11,{"$f":"'2012-2006Pop'!$C$12","v":{"v":32235,"d":"32,235"}},{"$f":"(B701/F701)*10000","v":{"v":6.514657980456026,"d":"7"}}]
["Robbery",18,2011,"Beacon Hill-Cyrville",11,{"$f":"'2012-2006Pop'!$C$12","v":{"v":32235,"d":"32,235"}},{"v":5.583992554676594,"d":"6"}]
["Uttering Threats or Intimidation",15,2011,"Beacon Hill-Cyrville",11,{"$f":"'2012-2006Pop'!$C$12","v":{"v":32235,"d":"32,235"}},{"v":4.653327128897161,"d":"5"}]
["Theft Over $5000",15,2011,"Beacon Hill-Cyrville",11,{"$f":"'2012-2006Pop'!$C$12","v":{"v":32235,"d":"32,235"}},{"v":4.653327128897161,"d":"5"}]
["Possession of Stolen Goods",15,2011,"Beacon Hill-Cyrville",11,{"$f":"'2012-2006Pop'!$C$12","v":{"v":32235,"d":"32,235"}},{"v":4.653327128897161,"d":"5"}]
["Cocaine",8,2011,"Beacon Hill-Cyrville",11,{"$f":"'2012-2006Pop'!$C$12","v":{"v":32235,"d":"32,235"}},{"v":2.481774468745153,"d":"2"}]
["Other Sexual Offences",7,2011,"Beacon Hill-Cyrville",11,{"$f":"'2012-2006Pop'!$C$12","v":{"v":32235,"d":"32,235"}},{"v":2.1715526601520088,"d":"2"}]
["Arson",6,2011,"Beacon Hill-Cyrville",11,{"$f":"'2012-2006Pop'!$C$12","v":{"v":32235,"d":"32,235"}},{"v":1.8613308515588647,"d":"2"}]
["Breach Probation",6,2011,"Beacon Hill-Cyrville",11,{"$f":"'2012-2006Pop'!$C$12","v":{"v":32235,"d":"32,235"}},{"v":1.8613308515588647,"d":"2"}]
["Bail Violations",38,2012,"Beacon Hill-Cyrville",11,{"$f":"'2012-2006Pop'!$D$12","v":{"v":34150,"d":"34,150"}},{"v":11.127379209370424,"d":"11"}]
["Cannabis",36,2012,"Beacon Hill-Cyrville",11,{"$f":"'2012-2006Pop'!$D$12","v":{"v":34150,"d":"34,150"}},{"v":10.54172767203514,"d":"11"}]
["Impaired Operation of Vehicle",32,2012,"Beacon Hill-Cyrville",11,{"$f":"'2012-2006Pop'!$D$12","v":{"v":34150,"d":"34,150"}},{"v":9.370424597364568,"d":"9"}]
["Other Criminal Code Offences",30,2012,"Beacon Hill-Cyrville",11,{"$f":"'2012-2006Pop'!$D$12","v":{"v":34150,"d":"34,150"}},{"v":8.784773060029282,"d":"9"}]
["Uttering Threats or Intimidation",21,2012,"Beacon Hill-Cyrville",11,{"$f":"'2012-2006Pop'!$D$12","v":{"v":34150,"d":"34,150"}},{"v":6.149341142020497,"d":"6"}]
["Other Offences",20,2012,"Beacon Hill-Cyrville",11,{"$f":"'2012-2006Pop'!$D$12","v":{"v":34150,"d":"34,150"}},{"v":5.856515373352855,"d":"6"}]
["Theft Over $5000",14,2012,"Beacon Hill-Cyrville",11,{"$f":"'2012-2006Pop'!$D$12","v":{"v":34150,"d":"34,150"}},{"v":4.099560761346998,"d":"4"}]
["Possession of Stolen Goods",11,2012,"Beacon Hill-Cyrville",11,{"$f":"'2012-2006Pop'!$D$12","v":{"v":34150,"d":"34,150"}},{"v":3.22108345534407,"d":"3"}]
["Arson",7,2012,"Beacon Hill-Cyrville",11,{"$f":"'2012-2006Pop'!$D$12","v":{"v":34150,"d":"34,150"}},{"v":2.049780380673499,"d":"2"}]
["Threats via the Internet",7,2012,"Beacon Hill-Cyrville",11,{"$f":"'2012-2006Pop'!$D$12","v":{"v":34150,"d":"34,150"}},{"v":2.049780380673499,"d":"2"}]
["Offensive Weapons",6,2012,"Beacon Hill-Cyrville",11,{"$f":"'2012-2006Pop'!$D$12","v":{"v":34150,"d":"34,150"}},{"v":1.7569546120058566,"d":"2"}]
["Abduction",5,2012,"Beacon Hill-Cyrville",11,{"$f":"'2012-2006Pop'!$D$12","v":{"v":34150,"d":"34,150"}},{"v":1.4641288433382138,"d":"1"}]
["Counterfeiting Currency",5,2012,"Beacon Hill-Cyrville",11,{"$f":"'2012-2006Pop'!$D$12","v":{"v":34150,"d":"34,150"}},{"v":1.4641288433382138,"d":"1"}]
["Dangerous Operation of Motor Vehicle",5,2012,"Beacon Hill-Cyrville",11,{"$f":"'2012-2006Pop'!$D$12","v":{"v":34150,"d":"34,150"}},{"v":1.4641288433382138,"d":"1"}]
["Breach Probation",4,2012,"Beacon Hill-Cyrville",11,{"$f":"'2012-2006Pop'!$D$12","v":{"v":34150,"d":"34,150"}},{"v":1.171303074670571,"d":"1"}]
["Driving Motor Vehicle While Prohibited",4,2012,"Beacon Hill-Cyrville",11,{"$f":"'2012-2006Pop'!$D$12","v":{"v":34150,"d":"34,150"}},{"v":1.171303074670571,"d":"1"}]
["Other Sexual Offences",3,2012,"Beacon Hill-Cyrville",11,{"$f":"'2012-2006Pop'!$D$12","v":{"v":34150,"d":"34,150"}},{"v":0.8784773060029283,"d":"1"}]
["Cocaine",2,2012,"Beacon Hill-Cyrville",11,{"$f":"'2012-2006Pop'!$D$12","v":{"v":34150,"d":"34,150"}},{"v":0.5856515373352855,"d":"1"}]
["Other Criminal Code Offences",1,2012,"Beacon Hill-Cyrville",11,{"$f":"'2012-2006Pop'!$D$12","v":{"v":34150,"d":"34,150"}},{"v":0.29282576866764276,"d":"0"}]
["Threats via the Internet",4,2011,"Beacon Hill-Cyrville",11,{"$f":"'2012-2006Pop'!$C$12","v":{"v":32235,"d":"32,235"}},{"$f":"(B729/F729)*10000","v":{"v":1.2408872343725765,"d":"1"}}]
["Driving Motor Vehicle While Prohibited",4,2011,"Beacon Hill-Cyrville",11,{"$f":"'2012-2006Pop'!$C$12","v":{"v":32235,"d":"32,235"}},{"v":1.2408872343725765,"d":"1"}]
["Abduction",3,2011,"Beacon Hill-Cyrville",11,{"$f":"'2012-2006Pop'!$C$12","v":{"v":32235,"d":"32,235"}},{"v":0.9306654257794323,"d":"1"}]
["Offensive Weapons",3,2011,"Beacon Hill-Cyrville",11,{"$f":"'2012-2006Pop'!$C$12","v":{"v":32235,"d":"32,235"}},{"v":0.9306654257794323,"d":"1"}]
["Counterfeiting Currency",3,2011,"Beacon Hill-Cyrville",11,{"$f":"'2012-2006Pop'!$C$12","v":{"v":32235,"d":"32,235"}},{"v":0.9306654257794323,"d":"1"}]
["Dangerous Operation of Motor Vehicle",3,2011,"Beacon Hill-Cyrville",11,{"$f":"'2012-2006Pop'!$C$12","v":{"v":32235,"d":"32,235"}},{"v":0.9306654257794323,"d":"1"}]
["Homicide (Incidents)",1,2011,"Beacon Hill-Cyrville",11,{"$f":"'2012-2006Pop'!$C$12","v":{"v":32235,"d":"32,235"}},{"v":0.31022180859314413,"d":"0"}]
["Other Controlled Drugs and Substances",1,2011,"Beacon Hill-Cyrville",11,{"$f":"'2012-2006Pop'!$C$12","v":{"v":32235,"d":"32,235"}},{"v":0.31022180859314413,"d":"0"}]
["Attempted Murder",0,2011,"Beacon Hill-Cyrville",11,{"$f":"'2012-2006Pop'!$C$12","v":{"v":32235,"d":"32,235"}},0]
["Prostitution",0,2011,"Beacon Hill-Cyrville",11,{"$f":"'2012-2006Pop'!$C$12","v":{"v":32235,"d":"32,235"}},0]
["Other Criminal Code Offences",0,2011,"Beacon Hill-Cyrville",11,{"$f":"'2012-2006Pop'!$C$12","v":{"v":32235,"d":"32,235"}},0]
["Ecstasy (Methylenedioxyamphetamine )",0,2011,"Beacon Hill-Cyrville",11,{"$f":"'2012-2006Pop'!$C$12","v":{"v":32235,"d":"32,235"}},0]
["Crystal Meth (Methamphetamine)",0,2011,"Beacon Hill-Cyrville",11,{"$f":"'2012-2006Pop'!$C$12","v":{"v":32235,"d":"32,235"}},0]
["Heroin",0,2011,"Beacon Hill-Cyrville",11,{"$f":"'2012-2006Pop'!$C$12","v":{"v":32235,"d":"32,235"}},0]
["Theft $5000 and Under",{"v":2488,"d":"2,488"},2011,"Rideau-Vanier",12,{"$f":"'2012-2006Pop'!$C$13","v":{"v":39360,"d":"39,360"}},{"$f":"(B743/F743)*10000","v":{"v":632.1138211382114,"d":"632"}}]
["Mischief",722,2011,"Rideau-Vanier",12,{"$f":"'2012-2006Pop'!$C$13","v":{"v":39360,"d":"39,360"}},{"$f":"(B744/F744)*10000","v":{"v":183.4349593495935,"d":"183"}}]
["Assault (Incl. Sexual Assaults)",658,2011,"Rideau-Vanier",12,{"$f":"'2012-2006Pop'!$C$13","v":{"v":39360,"d":"39,360"}},{"v":167.17479674796746,"d":"167"}]
["Break and Enter",356,2011,"Rideau-Vanier",12,{"$f":"'2012-2006Pop'!$C$13","v":{"v":39360,"d":"39,360"}},{"v":90.44715447154472,"d":"90"}]
["Fraud",281,2011,"Rideau-Vanier",12,{"$f":"'2012-2006Pop'!$C$13","v":{"v":39360,"d":"39,360"}},{"v":71.39227642276423,"d":"71"}]
["Crystal Meth (Methamphetamine)",1,2012,"Beacon Hill-Cyrville",11,{"$f":"'2012-2006Pop'!$D$12","v":{"v":34150,"d":"34,150"}},{"$f":"(B748/F748)*10000","v":{"v":0.29282576866764276,"d":"0"}}]
["Homicide (Incidents)",0,2012,"Beacon Hill-Cyrville",11,{"$f":"'2012-2006Pop'!$D$12","v":{"v":34150,"d":"34,150"}},0]
["Attempted Murder",0,2012,"Beacon Hill-Cyrville",11,{"$f":"'2012-2006Pop'!$D$12","v":{"v":34150,"d":"34,150"}},0]
["Prostitution",0,2012,"Beacon Hill-Cyrville",11,{"$f":"'2012-2006Pop'!$D$12","v":{"v":34150,"d":"34,150"}},0]
["Ecstasy (Methylenedioxyamphetamine )",0,2012,"Beacon Hill-Cyrville",11,{"$f":"'2012-2006Pop'!$D$12","v":{"v":34150,"d":"34,150"}},0]
["Heroin",0,2012,"Beacon Hill-Cyrville",11,{"$f":"'2012-2006Pop'!$D$12","v":{"v":34150,"d":"34,150"}},0]
["Other Controlled Drugs and Substances",0,2012,"Beacon Hill-Cyrville",11,{"$f":"'2012-2006Pop'!$D$12","v":{"v":34150,"d":"34,150"}},0]
["Theft $5000 and Under",{"v":2328,"d":"2,328"},2012,"Rideau-Vanier",12,{"$f":"'2012-2006Pop'!$D$13","v":{"v":47950,"d":"47,950"}},{"$f":"(B755/F755)*10000","v":{"v":485.5057351407716,"d":"486"}}]
["Assault (Incl. Sexual Assaults)",682,2012,"Rideau-Vanier",12,{"$f":"'2012-2006Pop'!$D$13","v":{"v":47950,"d":"47,950"}},{"$f":"(B756/F756)*10000","v":{"v":142.23149113660062,"d":"142"}}]
["Mischief",648,2012,"Rideau-Vanier",12,{"$f":"'2012-2006Pop'!$D$13","v":{"v":47950,"d":"47,950"}},{"v":135.140771637122,"d":"135"}]
["Fraud",330,2012,"Rideau-Vanier",12,{"$f":"'2012-2006Pop'!$D$13","v":{"v":47950,"d":"47,950"}},{"v":68.82168925964547,"d":"69"}]
["Bail Violations",309,2012,"Rideau-Vanier",12,{"$f":"'2012-2006Pop'!$D$13","v":{"v":47950,"d":"47,950"}},{"v":64.44212721584984,"d":"64"}]
["Break and Enter",266,2012,"Rideau-Vanier",12,{"$f":"'2012-2006Pop'!$D$13","v":{"v":47950,"d":"47,950"}},{"v":55.47445255474452,"d":"55"}]
["Other Criminal Code Offences",269,2011,"Rideau-Vanier",12,{"$f":"'2012-2006Pop'!$C$13","v":{"v":39360,"d":"39,360"}},{"v":68.34349593495935,"d":"68"}]
["Bail Violations",268,2011,"Rideau-Vanier",12,{"$f":"'2012-2006Pop'!$C$13","v":{"v":39360,"d":"39,360"}},{"v":68.08943089430895,"d":"68"}]
["Cocaine",202,2011,"Rideau-Vanier",12,{"$f":"'2012-2006Pop'!$C$13","v":{"v":39360,"d":"39,360"}},{"v":51.32113821138211,"d":"51"}]
["Cannabis",200,2011,"Rideau-Vanier",12,{"$f":"'2012-2006Pop'!$C$13","v":{"v":39360,"d":"39,360"}},{"v":50.8130081300813,"d":"51"}]
["Robbery",137,2011,"Rideau-Vanier",12,{"$f":"'2012-2006Pop'!$C$13","v":{"v":39360,"d":"39,360"}},{"v":34.806910569105696,"d":"35"}]
["Failure to Stop or Remain",118,2011,"Rideau-Vanier",12,{"$f":"'2012-2006Pop'!$C$13","v":{"v":39360,"d":"39,360"}},{"v":29.979674796747968,"d":"30"}]
["Breach Probation",80,2011,"Rideau-Vanier",12,{"$f":"'2012-2006Pop'!$C$13","v":{"v":39360,"d":"39,360"}},{"v":20.325203252032523,"d":"20"}]
["Theft - Motor Vehicle",79,2011,"Rideau-Vanier",12,{"$f":"'2012-2006Pop'!$C$13","v":{"v":39360,"d":"39,360"}},{"v":20.071138211382113,"d":"20"}]
["Impaired Operation of Vehicle",76,2011,"Rideau-Vanier",12,{"$f":"'2012-2006Pop'!$C$13","v":{"v":39360,"d":"39,360"}},{"v":19.308943089430894,"d":"19"}]
["Other Offences",72,2011,"Rideau-Vanier",12,{"$f":"'2012-2006Pop'!$C$13","v":{"v":39360,"d":"39,360"}},{"v":18.29268292682927,"d":"18"}]
["Possession of Stolen Goods",56,2011,"Rideau-Vanier",12,{"$f":"'2012-2006Pop'!$C$13","v":{"v":39360,"d":"39,360"}},{"v":14.227642276422765,"d":"14"}]
["Other Controlled Drugs and Substances",56,2011,"Rideau-Vanier",12,{"$f":"'2012-2006Pop'!$C$13","v":{"v":39360,"d":"39,360"}},{"v":14.227642276422765,"d":"14"}]
["Uttering Threats or Intimidation",52,2011,"Rideau-Vanier",12,{"$f":"'2012-2006Pop'!$C$13","v":{"v":39360,"d":"39,360"}},{"v":13.211382113821138,"d":"13"}]
["Offensive Weapons",42,2011,"Rideau-Vanier",12,{"$f":"'2012-2006Pop'!$C$13","v":{"v":39360,"d":"39,360"}},{"v":10.670731707317074,"d":"11"}]
["Theft Over $5000",35,2011,"Rideau-Vanier",12,{"$f":"'2012-2006Pop'!$C$13","v":{"v":39360,"d":"39,360"}},{"v":8.892276422764228,"d":"9"}]
["Abduction",14,2011,"Rideau-Vanier",12,{"$f":"'2012-2006Pop'!$C$13","v":{"v":39360,"d":"39,360"}},{"v":3.5569105691056913,"d":"4"}]
["Prostitution",13,2011,"Rideau-Vanier",12,{"$f":"'2012-2006Pop'!$C$13","v":{"v":39360,"d":"39,360"}},{"v":3.3028455284552845,"d":"3"}]
["Cannabis",240,2012,"Rideau-Vanier",12,{"$f":"'2012-2006Pop'!$D$13","v":{"v":47950,"d":"47,950"}},{"$f":"(B778/F778)*10000","v":{"v":50.05213764337852,"d":"50"}}]
["Cocaine",233,2012,"Rideau-Vanier",12,{"$f":"'2012-2006Pop'!$D$13","v":{"v":47950,"d":"47,950"}},{"v":48.59228362877998,"d":"49"}]
["Other Criminal Code Offences",212,2012,"Rideau-Vanier",12,{"$f":"'2012-2006Pop'!$D$13","v":{"v":47950,"d":"47,950"}},{"v":44.21272158498436,"d":"44"}]
["Robbery",144,2012,"Rideau-Vanier",12,{"$f":"'2012-2006Pop'!$D$13","v":{"v":47950,"d":"47,950"}},{"v":30.03128258602711,"d":"30"}]
["Failure to Stop or Remain",121,2012,"Rideau-Vanier",12,{"$f":"'2012-2006Pop'!$D$13","v":{"v":47950,"d":"47,950"}},{"v":25.23461939520334,"d":"25"}]
["Breach Probation",99,2012,"Rideau-Vanier",12,{"$f":"'2012-2006Pop'!$D$13","v":{"v":47950,"d":"47,950"}},{"v":20.64650677789364,"d":"21"}]
["Theft - Motor Vehicle",91,2012,"Rideau-Vanier",12,{"$f":"'2012-2006Pop'!$D$13","v":{"v":47950,"d":"47,950"}},{"v":18.978102189781023,"d":"19"}]
["Impaired Operation of Vehicle",79,2012,"Rideau-Vanier",12,{"$f":"'2012-2006Pop'!$D$13","v":{"v":47950,"d":"47,950"}},{"v":16.475495307612096,"d":"16"}]
["Other Offences",69,2012,"Rideau-Vanier",12,{"$f":"'2012-2006Pop'!$D$13","v":{"v":47950,"d":"47,950"}},{"v":14.389989572471324,"d":"14"}]
["Other Controlled Drugs and Substances",58,2012,"Rideau-Vanier",12,{"$f":"'2012-2006Pop'!$D$13","v":{"v":47950,"d":"47,950"}},{"v":12.095933263816475,"d":"12"}]
["Uttering Threats or Intimidation",57,2012,"Rideau-Vanier",12,{"$f":"'2012-2006Pop'!$D$13","v":{"v":47950,"d":"47,950"}},{"v":11.887382690302399,"d":"12"}]
["Prostitution",40,2012,"Rideau-Vanier",12,{"$f":"'2012-2006Pop'!$D$13","v":{"v":47950,"d":"47,950"}},{"v":8.342022940563087,"d":"8"}]
["Theft Over $5000",38,2012,"Rideau-Vanier",12,{"$f":"'2012-2006Pop'!$D$13","v":{"v":47950,"d":"47,950"}},{"v":7.924921793534932,"d":"8"}]
["Possession of Stolen Goods",36,2012,"Rideau-Vanier",12,{"$f":"'2012-2006Pop'!$D$13","v":{"v":47950,"d":"47,950"}},{"v":7.507820646506778,"d":"8"}]
["Offensive Weapons",32,2012,"Rideau-Vanier",12,{"$f":"'2012-2006Pop'!$D$13","v":{"v":47950,"d":"47,950"}},{"v":6.673618352450469,"d":"7"}]
["Dangerous Operation of Motor Vehicle",20,2012,"Rideau-Vanier",12,{"$f":"'2012-2006Pop'!$D$13","v":{"v":47950,"d":"47,950"}},{"v":4.1710114702815435,"d":"4"}]
["Dangerous Operation of Motor Vehicle",10,2011,"Rideau-Vanier",12,{"$f":"'2012-2006Pop'!$C$13","v":{"v":39360,"d":"39,360"}},{"v":2.5406504065040654,"d":"3"}]
["Other Sexual Offences",6,2011,"Rideau-Vanier",12,{"$f":"'2012-2006Pop'!$C$13","v":{"v":39360,"d":"39,360"}},{"v":1.524390243902439,"d":"2"}]
["Arson",6,2011,"Rideau-Vanier",12,{"$f":"'2012-2006Pop'!$C$13","v":{"v":39360,"d":"39,360"}},{"v":1.524390243902439,"d":"2"}]
["Driving Motor Vehicle While Prohibited",6,2011,"Rideau-Vanier",12,{"$f":"'2012-2006Pop'!$C$13","v":{"v":39360,"d":"39,360"}},{"v":1.524390243902439,"d":"2"}]
["Homicide (Incidents)",4,2011,"Rideau-Vanier",12,{"$f":"'2012-2006Pop'!$C$13","v":{"v":39360,"d":"39,360"}},{"v":1.016260162601626,"d":"1"}]
["Threats via the Internet",4,2011,"Rideau-Vanier",12,{"$f":"'2012-2006Pop'!$C$13","v":{"v":39360,"d":"39,360"}},{"v":1.016260162601626,"d":"1"}]
["Ecstasy (Methylenedioxyamphetamine )",3,2011,"Rideau-Vanier",12,{"$f":"'2012-2006Pop'!$C$13","v":{"v":39360,"d":"39,360"}},{"v":0.7621951219512195,"d":"1"}]
["Attempted Murder",2,2011,"Rideau-Vanier",12,{"$f":"'2012-2006Pop'!$C$13","v":{"v":39360,"d":"39,360"}},{"v":0.508130081300813,"d":"1"}]
["Counterfeiting Currency",2,2011,"Rideau-Vanier",12,{"$f":"'2012-2006Pop'!$C$13","v":{"v":39360,"d":"39,360"}},{"v":0.508130081300813,"d":"1"}]
["Other Criminal Code Offences",2,2011,"Rideau-Vanier",12,{"$f":"'2012-2006Pop'!$C$13","v":{"v":39360,"d":"39,360"}},{"v":0.508130081300813,"d":"1"}]
["Heroin",1,2011,"Rideau-Vanier",12,{"$f":"'2012-2006Pop'!$C$13","v":{"v":39360,"d":"39,360"}},{"v":0.2540650406504065,"d":"0"}]
["Crystal Meth (Methamphetamine)",0,2011,"Rideau-Vanier",12,{"$f":"'2012-2006Pop'!$C$13","v":{"v":39360,"d":"39,360"}},0]
["Theft $5000 and Under",845,2011,"Rideau-Rockcliffe",13,{"$f":"'2012-2006Pop'!$C$14","v":{"v":37280,"d":"37,280"}},{"$f":"(B806/F806)*10000","v":{"v":226.66309012875536,"d":"227"}}]
["Mischief",289,2011,"Rideau-Rockcliffe",13,{"$f":"'2012-2006Pop'!$C$14","v":{"v":37280,"d":"37,280"}},{"$f":"(B807/F807)*10000","v":{"v":77.52145922746782,"d":"78"}}]
["Assault (Incl. Sexual Assaults)",179,2011,"Rideau-Rockcliffe",13,{"$f":"'2012-2006Pop'!$C$14","v":{"v":37280,"d":"37,280"}},{"v":48.01502145922747,"d":"48"}]
["Break and Enter",165,2011,"Rideau-Rockcliffe",13,{"$f":"'2012-2006Pop'!$C$14","v":{"v":37280,"d":"37,280"}},{"v":44.25965665236052,"d":"44"}]
["Fraud",128,2011,"Rideau-Rockcliffe",13,{"$f":"'2012-2006Pop'!$C$14","v":{"v":37280,"d":"37,280"}},{"v":34.33476394849785,"d":"34"}]
["Failure to Stop or Remain",114,2011,"Rideau-Rockcliffe",13,{"$f":"'2012-2006Pop'!$C$14","v":{"v":37280,"d":"37,280"}},{"v":30.5793991416309,"d":"31"}]
["Theft - Motor Vehicle",76,2011,"Rideau-Rockcliffe",13,{"$f":"'2012-2006Pop'!$C$14","v":{"v":37280,"d":"37,280"}},{"v":20.386266094420602,"d":"20"}]
["Other Offences",53,2011,"Rideau-Rockcliffe",13,{"$f":"'2012-2006Pop'!$C$14","v":{"v":37280,"d":"37,280"}},{"v":14.216738197424892,"d":"14"}]
["Other Criminal Code Offences",47,2011,"Rideau-Rockcliffe",13,{"$f":"'2012-2006Pop'!$C$14","v":{"v":37280,"d":"37,280"}},{"v":12.607296137339056,"d":"13"}]
["Cannabis",42,2011,"Rideau-Rockcliffe",13,{"$f":"'2012-2006Pop'!$C$14","v":{"v":37280,"d":"37,280"}},{"v":11.266094420600858,"d":"11"}]
["Bail Violations",34,2011,"Rideau-Rockcliffe",13,{"$f":"'2012-2006Pop'!$C$14","v":{"v":37280,"d":"37,280"}},{"v":9.120171673819742,"d":"9"}]
["Impaired Operation of Vehicle",33,2011,"Rideau-Rockcliffe",13,{"$f":"'2012-2006Pop'!$C$14","v":{"v":37280,"d":"37,280"}},{"v":8.851931330472103,"d":"9"}]
["Uttering Threats or Intimidation",30,2011,"Rideau-Rockcliffe",13,{"$f":"'2012-2006Pop'!$C$14","v":{"v":37280,"d":"37,280"}},{"v":8.047210300429185,"d":"8"}]
["Abduction",13,2012,"Rideau-Vanier",12,{"$f":"'2012-2006Pop'!$D$13","v":{"v":47950,"d":"47,950"}},{"$f":"(B819/F819)*10000","v":{"v":2.711157455683003,"d":"3"}}]
["Other Sexual Offences",10,2012,"Rideau-Vanier",12,{"$f":"'2012-2006Pop'!$D$13","v":{"v":47950,"d":"47,950"}},{"v":2.0855057351407718,"d":"2"}]
["Threats via the Internet",9,2012,"Rideau-Vanier",12,{"$f":"'2012-2006Pop'!$D$13","v":{"v":47950,"d":"47,950"}},{"v":1.8769551616266944,"d":"2"}]
["Arson",8,2012,"Rideau-Vanier",12,{"$f":"'2012-2006Pop'!$D$13","v":{"v":47950,"d":"47,950"}},{"v":1.6684045881126173,"d":"2"}]
["Ecstasy (Methylenedioxyamphetamine )",5,2012,"Rideau-Vanier",12,{"$f":"'2012-2006Pop'!$D$13","v":{"v":47950,"d":"47,950"}},{"v":1.0427528675703859,"d":"1"}]
["Counterfeiting Currency",3,2012,"Rideau-Vanier",12,{"$f":"'2012-2006Pop'!$D$13","v":{"v":47950,"d":"47,950"}},{"v":0.6256517205422314,"d":"1"}]
["Heroin",3,2012,"Rideau-Vanier",12,{"$f":"'2012-2006Pop'!$D$13","v":{"v":47950,"d":"47,950"}},{"v":0.6256517205422314,"d":"1"}]
["Driving Motor Vehicle While Prohibited",2,2012,"Rideau-Vanier",12,{"$f":"'2012-2006Pop'!$D$13","v":{"v":47950,"d":"47,950"}},{"v":0.4171011470281543,"d":"0"}]
["Homicide (Incidents)",1,2012,"Rideau-Vanier",12,{"$f":"'2012-2006Pop'!$D$13","v":{"v":47950,"d":"47,950"}},{"v":0.20855057351407716,"d":"0"}]
["Other Criminal Code Offences",1,2012,"Rideau-Vanier",12,{"$f":"'2012-2006Pop'!$D$13","v":{"v":47950,"d":"47,950"}},{"v":0.20855057351407716,"d":"0"}]
["Attempted Murder",0,2012,"Rideau-Vanier",12,{"$f":"'2012-2006Pop'!$D$13","v":{"v":47950,"d":"47,950"}},0]
["Crystal Meth (Methamphetamine)",0,2012,"Rideau-Vanier",12,{"$f":"'2012-2006Pop'!$D$13","v":{"v":47950,"d":"47,950"}},0]
["Theft $5000 and Under",853,2012,"Rideau-Rockcliffe",13,{"$f":"'2012-2006Pop'!$D$14","v":{"v":38950,"d":"38,950"}},{"$f":"(B831/F831)*10000","v":{"v":218.99871630295252,"d":"219"}}]
["Mischief",248,2012,"Rideau-Rockcliffe",13,{"$f":"'2012-2006Pop'!$D$14","v":{"v":38950,"d":"38,950"}},{"$f":"(B832/F832)*10000","v":{"v":63.67137355584082,"d":"64"}}]
["Assault (Incl. Sexual Assaults)",198,2012,"Rideau-Rockcliffe",13,{"$f":"'2012-2006Pop'!$D$14","v":{"v":38950,"d":"38,950"}},{"v":50.83440308087292,"d":"51"}]
["Fraud",160,2012,"Rideau-Rockcliffe",13,{"$f":"'2012-2006Pop'!$D$14","v":{"v":38950,"d":"38,950"}},{"v":41.078305519897306,"d":"41"}]
["Break and Enter",151,2012,"Rideau-Rockcliffe",13,{"$f":"'2012-2006Pop'!$D$14","v":{"v":38950,"d":"38,950"}},{"v":38.76765083440308,"d":"39"}]
["Failure to Stop or Remain",106,2012,"Rideau-Rockcliffe",13,{"$f":"'2012-2006Pop'!$D$14","v":{"v":38950,"d":"38,950"}},{"v":27.214377406931966,"d":"27"}]
["Robbery",22,2011,"Rideau-Rockcliffe",13,{"$f":"'2012-2006Pop'!$C$14","v":{"v":37280,"d":"37,280"}},{"$f":"(B837/F837)*10000","v":{"v":5.901287553648068,"d":"6"}}]
["Threats via the Internet",16,2011,"Rideau-Rockcliffe",13,{"$f":"'2012-2006Pop'!$C$14","v":{"v":37280,"d":"37,280"}},{"v":4.291845493562231,"d":"4"}]
["Possession of Stolen Goods",15,2011,"Rideau-Rockcliffe",13,{"$f":"'2012-2006Pop'!$C$14","v":{"v":37280,"d":"37,280"}},{"v":4.023605150214593,"d":"4"}]
["Theft Over $5000",14,2011,"Rideau-Rockcliffe",13,{"$f":"'2012-2006Pop'!$C$14","v":{"v":37280,"d":"37,280"}},{"v":3.755364806866953,"d":"4"}]
["Cocaine",14,2011,"Rideau-Rockcliffe",13,{"$f":"'2012-2006Pop'!$C$14","v":{"v":37280,"d":"37,280"}},{"v":3.755364806866953,"d":"4"}]
["Offensive Weapons",7,2011,"Rideau-Rockcliffe",13,{"$f":"'2012-2006Pop'!$C$14","v":{"v":37280,"d":"37,280"}},{"v":1.8776824034334765,"d":"2"}]
["Breach Probation",6,2011,"Rideau-Rockcliffe",13,{"$f":"'2012-2006Pop'!$C$14","v":{"v":37280,"d":"37,280"}},{"v":1.609442060085837,"d":"2"}]
["Arson",5,2011,"Rideau-Rockcliffe",13,{"$f":"'2012-2006Pop'!$C$14","v":{"v":37280,"d":"37,280"}},{"v":1.3412017167381973,"d":"1"}]
["Counterfeiting Currency",4,2011,"Rideau-Rockcliffe",13,{"$f":"'2012-2006Pop'!$C$14","v":{"v":37280,"d":"37,280"}},{"v":1.0729613733905579,"d":"1"}]
["Driving Motor Vehicle While Prohibited",4,2011,"Rideau-Rockcliffe",13,{"$f":"'2012-2006Pop'!$C$14","v":{"v":37280,"d":"37,280"}},{"v":1.0729613733905579,"d":"1"}]
["Other Controlled Drugs and Substances",4,2011,"Rideau-Rockcliffe",13,{"$f":"'2012-2006Pop'!$C$14","v":{"v":37280,"d":"37,280"}},{"v":1.0729613733905579,"d":"1"}]
["Other Sexual Offences",3,2011,"Rideau-Rockcliffe",13,{"$f":"'2012-2006Pop'!$C$14","v":{"v":37280,"d":"37,280"}},{"v":0.8047210300429185,"d":"1"}]
["Abduction",3,2011,"Rideau-Rockcliffe",13,{"$f":"'2012-2006Pop'!$C$14","v":{"v":37280,"d":"37,280"}},{"v":0.8047210300429185,"d":"1"}]
["Homicide (Incidents)",1,2011,"Rideau-Rockcliffe",13,{"$f":"'2012-2006Pop'!$C$14","v":{"v":37280,"d":"37,280"}},{"v":0.26824034334763946,"d":"0"}]
["Attempted Murder",1,2011,"Rideau-Rockcliffe",13,{"$f":"'2012-2006Pop'!$C$14","v":{"v":37280,"d":"37,280"}},{"v":0.26824034334763946,"d":"0"}]
["Heroin",1,2011,"Rideau-Rockcliffe",13,{"$f":"'2012-2006Pop'!$C$14","v":{"v":37280,"d":"37,280"}},{"v":0.26824034334763946,"d":"0"}]
["Prostitution",0,2011,"Rideau-Rockcliffe",13,{"$f":"'2012-2006Pop'!$C$14","v":{"v":37280,"d":"37,280"}},0]
["Dangerous Operation of Motor Vehicle",0,2011,"Rideau-Rockcliffe",13,{"$f":"'2012-2006Pop'!$C$14","v":{"v":37280,"d":"37,280"}},0]
["Other Criminal Code Offences",0,2011,"Rideau-Rockcliffe",13,{"$f":"'2012-2006Pop'!$C$14","v":{"v":37280,"d":"37,280"}},0]
["Ecstasy (Methylenedioxyamphetamine )",0,2011,"Rideau-Rockcliffe",13,{"$f":"'2012-2006Pop'!$C$14","v":{"v":37280,"d":"37,280"}},0]
["Theft - Motor Vehicle",93,2012,"Rideau-Rockcliffe",13,{"$f":"'2012-2006Pop'!$D$14","v":{"v":38950,"d":"38,950"}},{"v":23.87676508344031,"d":"24"}]
["Bail Violations",48,2012,"Rideau-Rockcliffe",13,{"$f":"'2012-2006Pop'!$D$14","v":{"v":38950,"d":"38,950"}},{"v":12.323491655969192,"d":"12"}]
["Other Criminal Code Offences",46,2012,"Rideau-Rockcliffe",13,{"$f":"'2012-2006Pop'!$D$14","v":{"v":38950,"d":"38,950"}},{"v":11.810012836970476,"d":"12"}]
["Cannabis",43,2012,"Rideau-Rockcliffe",13,{"$f":"'2012-2006Pop'!$D$14","v":{"v":38950,"d":"38,950"}},{"v":11.0397946084724,"d":"11"}]
["Other Offences",32,2012,"Rideau-Rockcliffe",13,{"$f":"'2012-2006Pop'!$D$14","v":{"v":38950,"d":"38,950"}},{"v":8.21566110397946,"d":"8"}]
["Robbery",27,2012,"Rideau-Rockcliffe",13,{"$f":"'2012-2006Pop'!$D$14","v":{"v":38950,"d":"38,950"}},{"v":6.93196405648267,"d":"7"}]
["Impaired Operation of Vehicle",26,2012,"Rideau-Rockcliffe",13,{"$f":"'2012-2006Pop'!$D$14","v":{"v":38950,"d":"38,950"}},{"v":6.675224646983311,"d":"7"}]
["Uttering Threats or Intimidation",25,2012,"Rideau-Rockcliffe",13,{"$f":"'2012-2006Pop'!$D$14","v":{"v":38950,"d":"38,950"}},{"v":6.418485237483953,"d":"6"}]
["Cocaine",19,2012,"Rideau-Rockcliffe",13,{"$f":"'2012-2006Pop'!$D$14","v":{"v":38950,"d":"38,950"}},{"v":4.878048780487805,"d":"5"}]
["Theft Over $5000",15,2012,"Rideau-Rockcliffe",13,{"$f":"'2012-2006Pop'!$D$14","v":{"v":38950,"d":"38,950"}},{"v":3.851091142490372,"d":"4"}]
["Arson",11,2012,"Rideau-Rockcliffe",13,{"$f":"'2012-2006Pop'!$D$14","v":{"v":38950,"d":"38,950"}},{"v":2.8241335044929397,"d":"3"}]
["Possession of Stolen Goods",9,2012,"Rideau-Rockcliffe",13,{"$f":"'2012-2006Pop'!$D$14","v":{"v":38950,"d":"38,950"}},{"v":2.3106546854942236,"d":"2"}]
["Offensive Weapons",9,2012,"Rideau-Rockcliffe",13,{"$f":"'2012-2006Pop'!$D$14","v":{"v":38950,"d":"38,950"}},{"v":2.3106546854942236,"d":"2"}]
["Breach Probation",8,2012,"Rideau-Rockcliffe",13,{"$f":"'2012-2006Pop'!$D$14","v":{"v":38950,"d":"38,950"}},{"v":2.053915275994865,"d":"2"}]
["Dangerous Operation of Motor Vehicle",7,2012,"Rideau-Rockcliffe",13,{"$f":"'2012-2006Pop'!$D$14","v":{"v":38950,"d":"38,950"}},{"v":1.797175866495507,"d":"2"}]
["Driving Motor Vehicle While Prohibited",7,2012,"Rideau-Rockcliffe",13,{"$f":"'2012-2006Pop'!$D$14","v":{"v":38950,"d":"38,950"}},{"v":1.797175866495507,"d":"2"}]
["Abduction",6,2012,"Rideau-Rockcliffe",13,{"$f":"'2012-2006Pop'!$D$14","v":{"v":38950,"d":"38,950"}},{"v":1.540436456996149,"d":"2"}]
["Threats via the Internet",5,2012,"Rideau-Rockcliffe",13,{"$f":"'2012-2006Pop'!$D$14","v":{"v":38950,"d":"38,950"}},{"v":1.2836970474967908,"d":"1"}]
["Other Controlled Drugs and Substances",5,2012,"Rideau-Rockcliffe",13,{"$f":"'2012-2006Pop'!$D$14","v":{"v":38950,"d":"38,950"}},{"v":1.2836970474967908,"d":"1"}]
["Counterfeiting Currency",4,2012,"Rideau-Rockcliffe",13,{"$f":"'2012-2006Pop'!$D$14","v":{"v":38950,"d":"38,950"}},{"v":1.0269576379974326,"d":"1"}]
["Other Sexual Offences",3,2012,"Rideau-Rockcliffe",13,{"$f":"'2012-2006Pop'!$D$14","v":{"v":38950,"d":"38,950"}},{"v":0.7702182284980745,"d":"1"}]
["Homicide (Incidents)",1,2012,"Rideau-Rockcliffe",13,{"$f":"'2012-2006Pop'!$D$14","v":{"v":38950,"d":"38,950"}},{"v":0.25673940949935814,"d":"0"}]
["Other Criminal Code Offences",1,2012,"Rideau-Rockcliffe",13,{"$f":"'2012-2006Pop'!$D$14","v":{"v":38950,"d":"38,950"}},{"v":0.25673940949935814,"d":"0"}]
["Attempted Murder",0,2012,"Rideau-Rockcliffe",13,{"$f":"'2012-2006Pop'!$D$14","v":{"v":38950,"d":"38,950"}},0]
["Prostitution",0,2012,"Rideau-Rockcliffe",13,{"$f":"'2012-2006Pop'!$D$14","v":{"v":38950,"d":"38,950"}},0]
["Ecstasy (Methylenedioxyamphetamine )",0,2012,"Rideau-Rockcliffe",13,{"$f":"'2012-2006Pop'!$D$14","v":{"v":38950,"d":"38,950"}},0]
["Crystal Meth (Methamphetamine)",0,2012,"Rideau-Rockcliffe",13,{"$f":"'2012-2006Pop'!$D$14","v":{"v":38950,"d":"38,950"}},0]
["Heroin",0,2012,"Rideau-Rockcliffe",13,{"$f":"'2012-2006Pop'!$D$14","v":{"v":38950,"d":"38,950"}},0]
["Theft $5000 and Under",{"v":1441,"d":"1,441"},2012,"Somerset",14,{"$f":"'2012-2006Pop'!$D$15","v":{"v":38400,"d":"38,400"}},{"$f":"(B885/F885)*10000","v":{"v":375.2604166666667,"d":"375"}}]
["Other Criminal Code Offences",{"v":1156,"d":"1,156"},2012,"Somerset",14,{"$f":"'2012-2006Pop'!$D$15","v":{"v":38400,"d":"38,400"}},{"$f":"(B886/F886)*10000","v":{"v":301.0416666666667,"d":"301"}}]
["Bail Violations",751,2012,"Somerset",14,{"$f":"'2012-2006Pop'!$D$15","v":{"v":38400,"d":"38,400"}},{"v":195.57291666666669,"d":"196"}]
["Mischief",405,2012,"Somerset",14,{"$f":"'2012-2006Pop'!$D$15","v":{"v":38400,"d":"38,400"}},{"v":105.46875,"d":"105"}]
["Assault (Incl. Sexual Assaults)",357,2012,"Somerset",14,{"$f":"'2012-2006Pop'!$D$15","v":{"v":38400,"d":"38,400"}},{"v":92.96875,"d":"93"}]
["Crystal Meth (Methamphetamine)",0,2011,"Rideau-Rockcliffe",13,{"$f":"'2012-2006Pop'!$C$14","v":{"v":37280,"d":"37,280"}},{"$f":"(B890/F890)*10000","v":0}]
["Theft $5000 and Under",{"v":1425,"d":"1,425"},2011,"Somerset",14,{"$f":"'2012-2006Pop'!$C$15","v":{"v":33515,"d":"33,515"}},{"$f":"(B891/F891)*10000","v":{"v":425.18275399075037,"d":"425"}}]
["Other Criminal Code Offences",{"v":1121,"d":"1,121"},2011,"Somerset",14,{"$f":"'2012-2006Pop'!$C$15","v":{"v":33515,"d":"33,515"}},{"$f":"(B892/F892)*10000","v":{"v":334.477099806057,"d":"334"}}]
["Bail Violations",842,2011,"Somerset",14,{"$f":"'2012-2006Pop'!$C$15","v":{"v":33515,"d":"33,515"}},{"v":251.23079218260477,"d":"251"}]
["Mischief",474,2011,"Somerset",14,{"$f":"'2012-2006Pop'!$C$15","v":{"v":33515,"d":"33,515"}},{"v":141.42921080113382,"d":"141"}]
["Assault (Incl. Sexual Assaults)",304,2011,"Somerset",14,{"$f":"'2012-2006Pop'!$C$15","v":{"v":33515,"d":"33,515"}},{"v":90.70565418469342,"d":"91"}]
["Fraud",238,2011,"Somerset",14,{"$f":"'2012-2006Pop'!$C$15","v":{"v":33515,"d":"33,515"}},{"v":71.01297926301656,"d":"71"}]
["Break and Enter",215,2011,"Somerset",14,{"$f":"'2012-2006Pop'!$C$15","v":{"v":33515,"d":"33,515"}},{"v":64.15038042667462,"d":"64"}]
["Failure to Stop or Remain",106,2011,"Somerset",14,{"$f":"'2012-2006Pop'!$C$15","v":{"v":33515,"d":"33,515"}},{"v":31.627629419662835,"d":"32"}]
["Theft - Motor Vehicle",70,2011,"Somerset",14,{"$f":"'2012-2006Pop'!$C$15","v":{"v":33515,"d":"33,515"}},{"v":20.88617037147546,"d":"21"}]
["Robbery",68,2011,"Somerset",14,{"$f":"'2012-2006Pop'!$C$15","v":{"v":33515,"d":"33,515"}},{"v":20.28942264657616,"d":"20"}]
["Other Offences",68,2011,"Somerset",14,{"$f":"'2012-2006Pop'!$C$15","v":{"v":33515,"d":"33,515"}},{"v":20.28942264657616,"d":"20"}]
["Cannabis",50,2011,"Somerset",14,{"$f":"'2012-2006Pop'!$C$15","v":{"v":33515,"d":"33,515"}},{"v":14.91869312248247,"d":"15"}]
["Cocaine",41,2011,"Somerset",14,{"$f":"'2012-2006Pop'!$C$15","v":{"v":33515,"d":"33,515"}},{"v":12.233328360435626,"d":"12"}]
["Uttering Threats or Intimidation",38,2011,"Somerset",14,{"$f":"'2012-2006Pop'!$C$15","v":{"v":33515,"d":"33,515"}},{"v":11.338206773086677,"d":"11"}]
["Impaired Operation of Vehicle",27,2011,"Somerset",14,{"$f":"'2012-2006Pop'!$C$15","v":{"v":33515,"d":"33,515"}},{"v":8.056094286140533,"d":"8"}]
["Theft Over $5000",19,2011,"Somerset",14,{"$f":"'2012-2006Pop'!$C$15","v":{"v":33515,"d":"33,515"}},{"v":5.6691033865433385,"d":"6"}]
["Breach Probation",19,2011,"Somerset",14,{"$f":"'2012-2006Pop'!$C$15","v":{"v":33515,"d":"33,515"}},{"v":5.6691033865433385,"d":"6"}]
["Possession of Stolen Goods",17,2011,"Somerset",14,{"$f":"'2012-2006Pop'!$C$15","v":{"v":33515,"d":"33,515"}},{"v":5.07235566164404,"d":"5"}]
["Arson",15,2011,"Somerset",14,{"$f":"'2012-2006Pop'!$C$15","v":{"v":33515,"d":"33,515"}},{"v":4.4756079367447414,"d":"4"}]
["Threats via the Internet",15,2011,"Somerset",14,{"$f":"'2012-2006Pop'!$C$15","v":{"v":33515,"d":"33,515"}},{"v":4.4756079367447414,"d":"4"}]
["Offensive Weapons",14,2011,"Somerset",14,{"$f":"'2012-2006Pop'!$C$15","v":{"v":33515,"d":"33,515"}},{"v":4.177234074295092,"d":"4"}]
["Abduction",11,2011,"Somerset",14,{"$f":"'2012-2006Pop'!$C$15","v":{"v":33515,"d":"33,515"}},{"v":3.2821124869461435,"d":"3"}]
["Other Controlled Drugs and Substances",11,2011,"Somerset",14,{"$f":"'2012-2006Pop'!$C$15","v":{"v":33515,"d":"33,515"}},{"v":3.2821124869461435,"d":"3"}]
["Counterfeiting Currency",9,2011,"Somerset",14,{"$f":"'2012-2006Pop'!$C$15","v":{"v":33515,"d":"33,515"}},{"v":2.6853647620468446,"d":"3"}]
["Other Sexual Offences",7,2011,"Somerset",14,{"$f":"'2012-2006Pop'!$C$15","v":{"v":33515,"d":"33,515"}},{"v":2.088617037147546,"d":"2"}]
["Dangerous Operation of Motor Vehicle",6,2011,"Somerset",14,{"$f":"'2012-2006Pop'!$C$15","v":{"v":33515,"d":"33,515"}},{"v":1.7902431746978964,"d":"2"}]
["Driving Motor Vehicle While Prohibited",4,2011,"Somerset",14,{"$f":"'2012-2006Pop'!$C$15","v":{"v":33515,"d":"33,515"}},{"v":1.1934954497985977,"d":"1"}]
["Prostitution",2,2011,"Somerset",14,{"$f":"'2012-2006Pop'!$C$15","v":{"v":33515,"d":"33,515"}},{"v":0.5967477248992988,"d":"1"}]
["Fraud",231,2012,"Somerset",14,{"$f":"'2012-2006Pop'!$D$15","v":{"v":38400,"d":"38,400"}},{"$f":"(B919/F919)*10000","v":{"v":60.15625,"d":"60"}}]
["Break and Enter",176,2012,"Somerset",14,{"$f":"'2012-2006Pop'!$D$15","v":{"v":38400,"d":"38,400"}},{"v":45.833333333333336,"d":"46"}]
["Failure to Stop or Remain",97,2012,"Somerset",14,{"$f":"'2012-2006Pop'!$D$15","v":{"v":38400,"d":"38,400"}},{"v":25.260416666666664,"d":"25"}]
["Other Offences",64,2012,"Somerset",14,{"$f":"'2012-2006Pop'!$D$15","v":{"v":38400,"d":"38,400"}},{"v":16.666666666666668,"d":"17"}]
["Theft - Motor Vehicle",62,2012,"Somerset",14,{"$f":"'2012-2006Pop'!$D$15","v":{"v":38400,"d":"38,400"}},{"v":16.145833333333332,"d":"16"}]
["Cannabis",62,2012,"Somerset",14,{"$f":"'2012-2006Pop'!$D$15","v":{"v":38400,"d":"38,400"}},{"v":16.145833333333332,"d":"16"}]
["Robbery",55,2012,"Somerset",14,{"$f":"'2012-2006Pop'!$D$15","v":{"v":38400,"d":"38,400"}},{"v":14.322916666666666,"d":"14"}]
["Uttering Threats or Intimidation",44,2012,"Somerset",14,{"$f":"'2012-2006Pop'!$D$15","v":{"v":38400,"d":"38,400"}},{"v":11.458333333333334,"d":"11"}]
["Breach Probation",44,2012,"Somerset",14,{"$f":"'2012-2006Pop'!$D$15","v":{"v":38400,"d":"38,400"}},{"v":11.458333333333334,"d":"11"}]
["Impaired Operation of Vehicle",35,2012,"Somerset",14,{"$f":"'2012-2006Pop'!$D$15","v":{"v":38400,"d":"38,400"}},{"v":9.114583333333334,"d":"9"}]
["Cocaine",33,2012,"Somerset",14,{"$f":"'2012-2006Pop'!$D$15","v":{"v":38400,"d":"38,400"}},{"v":8.59375,"d":"9"}]
["Theft Over $5000",20,2012,"Somerset",14,{"$f":"'2012-2006Pop'!$D$15","v":{"v":38400,"d":"38,400"}},{"v":5.208333333333333,"d":"5"}]
["Offensive Weapons",18,2012,"Somerset",14,{"$f":"'2012-2006Pop'!$D$15","v":{"v":38400,"d":"38,400"}},{"v":4.6875,"d":"5"}]
["Other Controlled Drugs and Substances",14,2012,"Somerset",14,{"$f":"'2012-2006Pop'!$D$15","v":{"v":38400,"d":"38,400"}},{"v":3.6458333333333335,"d":"4"}]
["Threats via the Internet",10,2012,"Somerset",14,{"$f":"'2012-2006Pop'!$D$15","v":{"v":38400,"d":"38,400"}},{"v":2.6041666666666665,"d":"3"}]
["Possession of Stolen Goods",9,2012,"Somerset",14,{"$f":"'2012-2006Pop'!$D$15","v":{"v":38400,"d":"38,400"}},{"v":2.34375,"d":"2"}]
["Arson",7,2012,"Somerset",14,{"$f":"'2012-2006Pop'!$D$15","v":{"v":38400,"d":"38,400"}},{"v":1.8229166666666667,"d":"2"}]
["Other Sexual Offences",6,2012,"Somerset",14,{"$f":"'2012-2006Pop'!$D$15","v":{"v":38400,"d":"38,400"}},{"v":1.5625,"d":"2"}]
["Abduction",6,2012,"Somerset",14,{"$f":"'2012-2006Pop'!$D$15","v":{"v":38400,"d":"38,400"}},{"v":1.5625,"d":"2"}]
["Prostitution",5,2012,"Somerset",14,{"$f":"'2012-2006Pop'!$D$15","v":{"v":38400,"d":"38,400"}},{"v":1.3020833333333333,"d":"1"}]
["Dangerous Operation of Motor Vehicle",5,2012,"Somerset",14,{"$f":"'2012-2006Pop'!$D$15","v":{"v":38400,"d":"38,400"}},{"v":1.3020833333333333,"d":"1"}]
["Counterfeiting Currency",3,2012,"Somerset",14,{"$f":"'2012-2006Pop'!$D$15","v":{"v":38400,"d":"38,400"}},{"v":0.78125,"d":"1"}]
["Ecstasy (Methylenedioxyamphetamine )",2,2012,"Somerset",14,{"$f":"'2012-2006Pop'!$D$15","v":{"v":38400,"d":"38,400"}},{"v":0.5208333333333334,"d":"1"}]
["Driving Motor Vehicle While Prohibited",1,2012,"Somerset",14,{"$f":"'2012-2006Pop'!$D$15","v":{"v":38400,"d":"38,400"}},{"v":0.2604166666666667,"d":"0"}]
["Other Criminal Code Offences",1,2012,"Somerset",14,{"$f":"'2012-2006Pop'!$D$15","v":{"v":38400,"d":"38,400"}},{"v":0.2604166666666667,"d":"0"}]
["Crystal Meth (Methamphetamine)",1,2012,"Somerset",14,{"$f":"'2012-2006Pop'!$D$15","v":{"v":38400,"d":"38,400"}},{"v":0.2604166666666667,"d":"0"}]
["Ecstasy (Methylenedioxyamphetamine )",2,2011,"Somerset",14,{"$f":"'2012-2006Pop'!$C$15","v":{"v":33515,"d":"33,515"}},{"v":0.5967477248992988,"d":"1"}]
["Heroin",1,2011,"Somerset",14,{"$f":"'2012-2006Pop'!$C$15","v":{"v":33515,"d":"33,515"}},{"v":0.2983738624496494,"d":"0"}]
["Homicide (Incidents)",0,2011,"Somerset",14,{"$f":"'2012-2006Pop'!$C$15","v":{"v":33515,"d":"33,515"}},0]
["Attempted Murder",0,2011,"Somerset",14,{"$f":"'2012-2006Pop'!$C$15","v":{"v":33515,"d":"33,515"}},0]
["Other Criminal Code Offences",0,2011,"Somerset",14,{"$f":"'2012-2006Pop'!$C$15","v":{"v":33515,"d":"33,515"}},0]
["Crystal Meth (Methamphetamine)",0,2011,"Somerset",14,{"$f":"'2012-2006Pop'!$C$15","v":{"v":33515,"d":"33,515"}},0]
["Theft $5000 and Under",835,2011,"Kitchissippi",15,{"$f":"'2012-2006Pop'!$C$16","v":{"v":36105,"d":"36,105"}},{"$f":"(B951/F951)*10000","v":{"v":231.26990721506715,"d":"231"}}]
["Mischief",229,2011,"Kitchissippi",15,{"$f":"'2012-2006Pop'!$C$16","v":{"v":36105,"d":"36,105"}},{"$f":"(B952/F952)*10000","v":{"v":63.42611826616812,"d":"63"}}]
["Break and Enter",152,2011,"Kitchissippi",15,{"$f":"'2012-2006Pop'!$C$16","v":{"v":36105,"d":"36,105"}},{"v":42.09943221160504,"d":"42"}]
["Fraud",117,2011,"Kitchissippi",15,{"$f":"'2012-2006Pop'!$C$16","v":{"v":36105,"d":"36,105"}},{"v":32.40548400498546,"d":"32"}]
["Assault (Incl. Sexual Assaults)",107,2011,"Kitchissippi",15,{"$f":"'2012-2006Pop'!$C$16","v":{"v":36105,"d":"36,105"}},{"v":29.635784517379864,"d":"30"}]
["Failure to Stop or Remain",74,2011,"Kitchissippi",15,{"$f":"'2012-2006Pop'!$C$16","v":{"v":36105,"d":"36,105"}},{"v":20.495776208281402,"d":"20"}]
["Theft - Motor Vehicle",54,2011,"Kitchissippi",15,{"$f":"'2012-2006Pop'!$C$16","v":{"v":36105,"d":"36,105"}},{"v":14.956377233070212,"d":"15"}]
["Other Criminal Code Offences",41,2011,"Kitchissippi",15,{"$f":"'2012-2006Pop'!$C$16","v":{"v":36105,"d":"36,105"}},{"v":11.355767899182938,"d":"11"}]
["Robbery",27,2011,"Kitchissippi",15,{"$f":"'2012-2006Pop'!$C$16","v":{"v":36105,"d":"36,105"}},{"v":7.478188616535106,"d":"7"}]
["Other Offences",24,2011,"Kitchissippi",15,{"$f":"'2012-2006Pop'!$C$16","v":{"v":36105,"d":"36,105"}},{"v":6.647278770253427,"d":"7"}]
["Bail Violations",19,2011,"Kitchissippi",15,{"$f":"'2012-2006Pop'!$C$16","v":{"v":36105,"d":"36,105"}},{"v":5.26242902645063,"d":"5"}]
["Cannabis",18,2011,"Kitchissippi",15,{"$f":"'2012-2006Pop'!$C$16","v":{"v":36105,"d":"36,105"}},{"v":4.985459077690071,"d":"5"}]
["Uttering Threats or Intimidation",17,2011,"Kitchissippi",15,{"$f":"'2012-2006Pop'!$C$16","v":{"v":36105,"d":"36,105"}},{"v":4.708489128929512,"d":"5"}]
["Impaired Operation of Vehicle",16,2011,"Kitchissippi",15,{"$f":"'2012-2006Pop'!$C$16","v":{"v":36105,"d":"36,105"}},{"v":4.4315191801689515,"d":"4"}]
["Possession of Stolen Goods",12,2011,"Kitchissippi",15,{"$f":"'2012-2006Pop'!$C$16","v":{"v":36105,"d":"36,105"}},{"v":3.3236393851267136,"d":"3"}]
["Threats via the Internet",10,2011,"Kitchissippi",15,{"$f":"'2012-2006Pop'!$C$16","v":{"v":36105,"d":"36,105"}},{"v":2.769699487605595,"d":"3"}]
["Theft Over $5000",8,2011,"Kitchissippi",15,{"$f":"'2012-2006Pop'!$C$16","v":{"v":36105,"d":"36,105"}},{"v":2.2157595900844758,"d":"2"}]
["Arson",6,2011,"Kitchissippi",15,{"$f":"'2012-2006Pop'!$C$16","v":{"v":36105,"d":"36,105"}},{"v":1.6618196925633568,"d":"2"}]
["Offensive Weapons",5,2011,"Kitchissippi",15,{"$f":"'2012-2006Pop'!$C$16","v":{"v":36105,"d":"36,105"}},{"v":1.3848497438027976,"d":"1"}]
["Driving Motor Vehicle While Prohibited",5,2011,"Kitchissippi",15,{"$f":"'2012-2006Pop'!$C$16","v":{"v":36105,"d":"36,105"}},{"v":1.3848497438027976,"d":"1"}]
["Cocaine",5,2011,"Kitchissippi",15,{"$f":"'2012-2006Pop'!$C$16","v":{"v":36105,"d":"36,105"}},{"v":1.3848497438027976,"d":"1"}]
["Breach Probation",4,2011,"Kitchissippi",15,{"$f":"'2012-2006Pop'!$C$16","v":{"v":36105,"d":"36,105"}},{"v":1.1078797950422379,"d":"1"}]
["Other Sexual Offences",3,2011,"Kitchissippi",15,{"$f":"'2012-2006Pop'!$C$16","v":{"v":36105,"d":"36,105"}},{"v":0.8309098462816784,"d":"1"}]
["Other Controlled Drugs and Substances",2,2011,"Kitchissippi",15,{"$f":"'2012-2006Pop'!$C$16","v":{"v":36105,"d":"36,105"}},{"v":0.5539398975211189,"d":"1"}]
["Abduction",1,2011,"Kitchissippi",15,{"$f":"'2012-2006Pop'!$C$16","v":{"v":36105,"d":"36,105"}},{"v":0.27696994876055947,"d":"0"}]
["Counterfeiting Currency",1,2011,"Kitchissippi",15,{"$f":"'2012-2006Pop'!$C$16","v":{"v":36105,"d":"36,105"}},{"v":0.27696994876055947,"d":"0"}]
["Dangerous Operation of Motor Vehicle",1,2011,"Kitchissippi",15,{"$f":"'2012-2006Pop'!$C$16","v":{"v":36105,"d":"36,105"}},{"v":0.27696994876055947,"d":"0"}]
["Homicide (Incidents)",0,2011,"Kitchissippi",15,{"$f":"'2012-2006Pop'!$C$16","v":{"v":36105,"d":"36,105"}},0]
["Attempted Murder",0,2011,"Kitchissippi",15,{"$f":"'2012-2006Pop'!$C$16","v":{"v":36105,"d":"36,105"}},0]
["Prostitution",0,2011,"Kitchissippi",15,{"$f":"'2012-2006Pop'!$C$16","v":{"v":36105,"d":"36,105"}},0]
["Other Criminal Code Offences",0,2011,"Kitchissippi",15,{"$f":"'2012-2006Pop'!$C$16","v":{"v":36105,"d":"36,105"}},0]
["Ecstasy (Methylenedioxyamphetamine )",0,2011,"Kitchissippi",15,{"$f":"'2012-2006Pop'!$C$16","v":{"v":36105,"d":"36,105"}},0]
["Crystal Meth (Methamphetamine)",0,2011,"Kitchissippi",15,{"$f":"'2012-2006Pop'!$C$16","v":{"v":36105,"d":"36,105"}},0]
["Heroin",1,2012,"Somerset",14,{"$f":"'2012-2006Pop'!$D$15","v":{"v":38400,"d":"38,400"}},{"$f":"(B984/F984)*10000","v":{"v":0.2604166666666667,"d":"0"}}]
["Homicide (Incidents)",0,2012,"Somerset",14,{"$f":"'2012-2006Pop'!$D$15","v":{"v":38400,"d":"38,400"}},0]
["Attempted Murder",0,2012,"Somerset",14,{"$f":"'2012-2006Pop'!$D$15","v":{"v":38400,"d":"38,400"}},0]
["Theft $5000 and Under",814,2012,"Kitchissippi",15,{"$f":"'2012-2006Pop'!$D$16","v":{"v":41250,"d":"41,250"}},{"$f":"(B987/F987)*10000","v":{"v":197.33333333333331,"d":"197"}}]
["Mischief",255,2012,"Kitchissippi",15,{"$f":"'2012-2006Pop'!$D$16","v":{"v":41250,"d":"41,250"}},{"$f":"(B988/F988)*10000","v":{"v":61.81818181818181,"d":"62"}}]
["Break and Enter",248,2012,"Kitchissippi",15,{"$f":"'2012-2006Pop'!$D$16","v":{"v":41250,"d":"41,250"}},{"v":60.12121212121212,"d":"60"}]
["Assault (Incl. Sexual Assaults)",151,2012,"Kitchissippi",15,{"$f":"'2012-2006Pop'!$D$16","v":{"v":41250,"d":"41,250"}},{"v":36.60606060606061,"d":"37"}]
["Fraud",128,2012,"Kitchissippi",15,{"$f":"'2012-2006Pop'!$D$16","v":{"v":41250,"d":"41,250"}},{"v":31.03030303030303,"d":"31"}]
["Failure to Stop or Remain",89,2012,"Kitchissippi",15,{"$f":"'2012-2006Pop'!$D$16","v":{"v":41250,"d":"41,250"}},{"v":21.575757575757574,"d":"22"}]
["Theft - Motor Vehicle",67,2012,"Kitchissippi",15,{"$f":"'2012-2006Pop'!$D$16","v":{"v":41250,"d":"41,250"}},{"v":16.242424242424242,"d":"16"}]
["Other Criminal Code Offences",37,2012,"Kitchissippi",15,{"$f":"'2012-2006Pop'!$D$16","v":{"v":41250,"d":"41,250"}},{"v":8.96969696969697,"d":"9"}]
["Robbery",34,2012,"Kitchissippi",15,{"$f":"'2012-2006Pop'!$D$16","v":{"v":41250,"d":"41,250"}},{"v":8.242424242424242,"d":"8"}]
["Other Offences",32,2012,"Kitchissippi",15,{"$f":"'2012-2006Pop'!$D$16","v":{"v":41250,"d":"41,250"}},{"v":7.757575757575758,"d":"8"}]
["Uttering Threats or Intimidation",21,2012,"Kitchissippi",15,{"$f":"'2012-2006Pop'!$D$16","v":{"v":41250,"d":"41,250"}},{"v":5.090909090909091,"d":"5"}]
["Cannabis",18,2012,"Kitchissippi",15,{"$f":"'2012-2006Pop'!$D$16","v":{"v":41250,"d":"41,250"}},{"v":4.363636363636363,"d":"4"}]
["Impaired Operation of Vehicle",17,2012,"Kitchissippi",15,{"$f":"'2012-2006Pop'!$D$16","v":{"v":41250,"d":"41,250"}},{"v":4.121212121212121,"d":"4"}]
["Bail Violations",16,2012,"Kitchissippi",15,{"$f":"'2012-2006Pop'!$D$16","v":{"v":41250,"d":"41,250"}},{"v":3.878787878787879,"d":"4"}]
["Theft Over $5000",11,2012,"Kitchissippi",15,{"$f":"'2012-2006Pop'!$D$16","v":{"v":41250,"d":"41,250"}},{"v":2.666666666666667,"d":"3"}]
["Offensive Weapons",7,2012,"Kitchissippi",15,{"$f":"'2012-2006Pop'!$D$16","v":{"v":41250,"d":"41,250"}},{"v":1.6969696969696968,"d":"2"}]
["Cocaine",7,2012,"Kitchissippi",15,{"$f":"'2012-2006Pop'!$D$16","v":{"v":41250,"d":"41,250"}},{"v":1.6969696969696968,"d":"2"}]
["Possession of Stolen Goods",5,2012,"Kitchissippi",15,{"$f":"'2012-2006Pop'!$D$16","v":{"v":41250,"d":"41,250"}},{"v":1.2121212121212122,"d":"1"}]
["Arson",5,2012,"Kitchissippi",15,{"$f":"'2012-2006Pop'!$D$16","v":{"v":41250,"d":"41,250"}},{"v":1.2121212121212122,"d":"1"}]
["Breach Probation",5,2012,"Kitchissippi",15,{"$f":"'2012-2006Pop'!$D$16","v":{"v":41250,"d":"41,250"}},{"v":1.2121212121212122,"d":"1"}]
["Dangerous Operation of Motor Vehicle",5,2012,"Kitchissippi",15,{"$f":"'2012-2006Pop'!$D$16","v":{"v":41250,"d":"41,250"}},{"v":1.2121212121212122,"d":"1"}]
["Other Controlled Drugs and Substances",5,2012,"Kitchissippi",15,{"$f":"'2012-2006Pop'!$D$16","v":{"v":41250,"d":"41,250"}},{"v":1.2121212121212122,"d":"1"}]
["Threats via the Internet",4,2012,"Kitchissippi",15,{"$f":"'2012-2006Pop'!$D$16","v":{"v":41250,"d":"41,250"}},{"v":0.9696969696969697,"d":"1"}]
["Counterfeiting Currency",3,2012,"Kitchissippi",15,{"$f":"'2012-2006Pop'!$D$16","v":{"v":41250,"d":"41,250"}},{"v":0.7272727272727273,"d":"1"}]
["Other Sexual Offences",2,2012,"Kitchissippi",15,{"$f":"'2012-2006Pop'!$D$16","v":{"v":41250,"d":"41,250"}},{"v":0.48484848484848486,"d":"0"}]
["Abduction",2,2012,"Kitchissippi",15,{"$f":"'2012-2006Pop'!$D$16","v":{"v":41250,"d":"41,250"}},{"v":0.48484848484848486,"d":"0"}]
["Attempted Murder",1,2012,"Kitchissippi",15,{"$f":"'2012-2006Pop'!$D$16","v":{"v":41250,"d":"41,250"}},{"v":0.24242424242424243,"d":"0"}]
["Prostitution",1,2012,"Kitchissippi",15,{"$f":"'2012-2006Pop'!$D$16","v":{"v":41250,"d":"41,250"}},{"v":0.24242424242424243,"d":"0"}]
["Homicide (Incidents)",0,2012,"Kitchissippi",15,{"$f":"'2012-2006Pop'!$D$16","v":{"v":41250,"d":"41,250"}},0]
["Driving Motor Vehicle While Prohibited",0,2012,"Kitchissippi",15,{"$f":"'2012-2006Pop'!$D$16","v":{"v":41250,"d":"41,250"}},0]
["Heroin",0,2011,"Kitchissippi",15,{"$f":"'2012-2006Pop'!$C$2","v":{"v":46000,"d":"46,000"}},{"$f":"(B1017/F1017)*10000","v":0}]
["Theft $5000 and Under",585,2011,"River",16,{"$f":"'2012-2006Pop'!$C$17","v":{"v":44885,"d":"44,885"}},{"$f":"(B1018/F1018)*10000","v":{"v":130.33307340982512,"d":"130"}}]
["Mischief",334,2011,"River",16,{"$f":"'2012-2006Pop'!$C$17","v":{"v":44885,"d":"44,885"}},{"$f":"(B1019/F1019)*10000","v":{"v":74.41238721176339,"d":"74"}}]
["Assault (Incl. Sexual Assaults)",182,2011,"River",16,{"$f":"'2012-2006Pop'!$C$17","v":{"v":44885,"d":"44,885"}},{"v":40.5480672830567,"d":"41"}]
["Break and Enter",174,2011,"River",16,{"$f":"'2012-2006Pop'!$C$17","v":{"v":44885,"d":"44,885"}},{"v":38.765734655230034,"d":"39"}]
["Fraud",131,2011,"River",16,{"$f":"'2012-2006Pop'!$C$17","v":{"v":44885,"d":"44,885"}},{"v":29.18569678066169,"d":"29"}]
["Failure to Stop or Remain",76,2011,"River",16,{"$f":"'2012-2006Pop'!$C$17","v":{"v":44885,"d":"44,885"}},{"v":16.932159964353346,"d":"17"}]
["Robbery",49,2011,"River",16,{"$f":"'2012-2006Pop'!$C$17","v":{"v":44885,"d":"44,885"}},{"v":10.916787345438342,"d":"11"}]
["Theft - Motor Vehicle",49,2011,"River",16,{"$f":"'2012-2006Pop'!$C$17","v":{"v":44885,"d":"44,885"}},{"v":10.916787345438342,"d":"11"}]
["Other Criminal Code Offences",44,2011,"River",16,{"$f":"'2012-2006Pop'!$C$17","v":{"v":44885,"d":"44,885"}},{"v":9.802829453046675,"d":"10"}]
["Impaired Operation of Vehicle",42,2011,"River",16,{"$f":"'2012-2006Pop'!$C$17","v":{"v":44885,"d":"44,885"}},{"v":9.357246296090008,"d":"9"}]
["Other Offences",38,2011,"River",16,{"$f":"'2012-2006Pop'!$C$17","v":{"v":44885,"d":"44,885"}},{"v":8.466079982176673,"d":"8"}]
["Cannabis",35,2011,"River",16,{"$f":"'2012-2006Pop'!$C$17","v":{"v":44885,"d":"44,885"}},{"v":7.797705246741673,"d":"8"}]
["Uttering Threats or Intimidation",26,2011,"River",16,{"$f":"'2012-2006Pop'!$C$17","v":{"v":44885,"d":"44,885"}},{"v":5.792581040436672,"d":"6"}]
["Bail Violations",24,2011,"River",16,{"$f":"'2012-2006Pop'!$C$17","v":{"v":44885,"d":"44,885"}},{"v":5.346997883480004,"d":"5"}]
["Cocaine",15,2011,"River",16,{"$f":"'2012-2006Pop'!$C$17","v":{"v":44885,"d":"44,885"}},{"v":3.341873677175003,"d":"3"}]
["Dangerous Operation of Motor Vehicle",11,2011,"River",16,{"$f":"'2012-2006Pop'!$C$17","v":{"v":44885,"d":"44,885"}},{"v":2.4507073632616687,"d":"2"}]
["Arson",10,2011,"River",16,{"$f":"'2012-2006Pop'!$C$17","v":{"v":44885,"d":"44,885"}},{"v":2.227915784783335,"d":"2"}]
["Possession of Stolen Goods",9,2011,"River",16,{"$f":"'2012-2006Pop'!$C$17","v":{"v":44885,"d":"44,885"}},{"v":2.005124206305002,"d":"2"}]
["Abduction",7,2011,"River",16,{"$f":"'2012-2006Pop'!$C$17","v":{"v":44885,"d":"44,885"}},{"v":1.5595410493483346,"d":"2"}]
["Other Controlled Drugs and Substances",7,2011,"River",16,{"$f":"'2012-2006Pop'!$C$17","v":{"v":44885,"d":"44,885"}},{"v":1.5595410493483346,"d":"2"}]
["Theft Over $5000",6,2011,"River",16,{"$f":"'2012-2006Pop'!$C$17","v":{"v":44885,"d":"44,885"}},{"v":1.336749470870001,"d":"1"}]
["Breach Probation",6,2011,"River",16,{"$f":"'2012-2006Pop'!$C$17","v":{"v":44885,"d":"44,885"}},{"v":1.336749470870001,"d":"1"}]
["Threats via the Internet",5,2011,"River",16,{"$f":"'2012-2006Pop'!$C$17","v":{"v":44885,"d":"44,885"}},{"v":1.1139578923916675,"d":"1"}]
["Driving Motor Vehicle While Prohibited",5,2011,"River",16,{"$f":"'2012-2006Pop'!$C$17","v":{"v":44885,"d":"44,885"}},{"v":1.1139578923916675,"d":"1"}]
["Other Sexual Offences",3,2011,"River",16,{"$f":"'2012-2006Pop'!$C$17","v":{"v":44885,"d":"44,885"}},{"v":0.6683747354350005,"d":"1"}]
["Offensive Weapons",3,2011,"River",16,{"$f":"'2012-2006Pop'!$C$17","v":{"v":44885,"d":"44,885"}},{"v":0.6683747354350005,"d":"1"}]
["Prostitution",3,2011,"River",16,{"$f":"'2012-2006Pop'!$C$17","v":{"v":44885,"d":"44,885"}},{"v":0.6683747354350005,"d":"1"}]
["Counterfeiting Currency",1,2011,"River",16,{"$f":"'2012-2006Pop'!$C$17","v":{"v":44885,"d":"44,885"}},{"v":0.22279157847833353,"d":"0"}]
["Other Criminal Code Offences",1,2011,"River",16,{"$f":"'2012-2006Pop'!$C$17","v":{"v":44885,"d":"44,885"}},{"v":0.22279157847833353,"d":"0"}]
["Heroin",1,2011,"River",16,{"$f":"'2012-2006Pop'!$C$17","v":{"v":44885,"d":"44,885"}},{"v":0.22279157847833353,"d":"0"}]
["Homicide (Incidents)",0,2011,"River",16,{"$f":"'2012-2006Pop'!$C$17","v":{"v":44885,"d":"44,885"}},0]
["Attempted Murder",0,2011,"River",16,{"$f":"'2012-2006Pop'!$C$17","v":{"v":44885,"d":"44,885"}},0]
["Ecstasy (Methylenedioxyamphetamine )",0,2011,"River",16,{"$f":"'2012-2006Pop'!$C$17","v":{"v":44885,"d":"44,885"}},0]
["Crystal Meth (Methamphetamine)",0,2011,"River",16,{"$f":"'2012-2006Pop'!$C$17","v":{"v":44885,"d":"44,885"}},0]
["Theft $5000 and Under",817,2011,"Capital",17,{"$f":"'2012-2006Pop'!$C$18","v":{"v":33755,"d":"33,755"}},{"$f":"(B1052/F1052)*10000","v":{"v":242.03821656050957,"d":"242"}}]
["Mischief",196,2011,"Capital",17,{"$f":"'2012-2006Pop'!$C$18","v":{"v":33755,"d":"33,755"}},{"$f":"(B1053/F1053)*10000","v":{"v":58.06547178195823,"d":"58"}}]
["Fraud",131,2011,"Capital",17,{"$f":"'2012-2006Pop'!$C$18","v":{"v":33755,"d":"33,755"}},{"v":38.80906532365576,"d":"39"}]
["Break and Enter",120,2011,"Capital",17,{"$f":"'2012-2006Pop'!$C$18","v":{"v":33755,"d":"33,755"}},{"v":35.550288846096876,"d":"36"}]
["Assault (Incl. Sexual Assaults)",112,2011,"Capital",17,{"$f":"'2012-2006Pop'!$C$18","v":{"v":33755,"d":"33,755"}},{"v":33.18026958969042,"d":"33"}]
["Failure to Stop or Remain",79,2011,"Capital",17,{"$f":"'2012-2006Pop'!$C$18","v":{"v":33755,"d":"33,755"}},{"v":23.40394015701378,"d":"23"}]
["Other Criminal Code Offences",52,2011,"Capital",17,{"$f":"'2012-2006Pop'!$C$18","v":{"v":33755,"d":"33,755"}},{"v":15.405125166641978,"d":"15"}]
["Other Criminal Code Offences",0,2012,"Kitchissippi",15,{"$f":"'2012-2006Pop'!$D$16","v":{"v":41250,"d":"41,250"}},{"$f":"(B1059/F1059)*10000","v":0}]
["Ecstasy (Methylenedioxyamphetamine )",0,2012,"Kitchissippi",15,{"$f":"'2012-2006Pop'!$D$16","v":{"v":41250,"d":"41,250"}},0]
["Crystal Meth (Methamphetamine)",0,2012,"Kitchissippi",15,{"$f":"'2012-2006Pop'!$D$16","v":{"v":41250,"d":"41,250"}},0]
["Heroin",0,2012,"Kitchissippi",15,{"$f":"'2012-2006Pop'!$D$16","v":{"v":41250,"d":"41,250"}},0]
["Theft $5000 and Under",635,2012,"River",16,{"$f":"'2012-2006Pop'!$D$17","v":{"v":48900,"d":"48,900"}},{"$f":"(B1063/F1063)*10000","v":{"v":129.85685071574642,"d":"130"}}]
["Mischief",256,2012,"River",16,{"$f":"'2012-2006Pop'!$D$17","v":{"v":48900,"d":"48,900"}},{"$f":"(B1064/F1064)*10000","v":{"v":52.35173824130879,"d":"52"}}]
["Assault (Incl. Sexual Assaults)",177,2012,"River",16,{"$f":"'2012-2006Pop'!$D$17","v":{"v":48900,"d":"48,900"}},{"v":36.19631901840491,"d":"36"}]
["Break and Enter",150,2012,"River",16,{"$f":"'2012-2006Pop'!$D$17","v":{"v":48900,"d":"48,900"}},{"v":30.67484662576687,"d":"31"}]
["Fraud",138,2012,"River",16,{"$f":"'2012-2006Pop'!$D$17","v":{"v":48900,"d":"48,900"}},{"v":28.22085889570552,"d":"28"}]
["Failure to Stop or Remain",79,2012,"River",16,{"$f":"'2012-2006Pop'!$D$17","v":{"v":48900,"d":"48,900"}},{"v":16.155419222903884,"d":"16"}]
["Theft - Motor Vehicle",74,2012,"River",16,{"$f":"'2012-2006Pop'!$D$17","v":{"v":48900,"d":"48,900"}},{"v":15.132924335378322,"d":"15"}]
["Impaired Operation of Vehicle",48,2012,"River",16,{"$f":"'2012-2006Pop'!$D$17","v":{"v":48900,"d":"48,900"}},{"v":9.815950920245399,"d":"10"}]
["Cannabis",48,2012,"River",16,{"$f":"'2012-2006Pop'!$D$17","v":{"v":48900,"d":"48,900"}},{"v":9.815950920245399,"d":"10"}]
["Robbery",44,2012,"River",16,{"$f":"'2012-2006Pop'!$D$17","v":{"v":48900,"d":"48,900"}},{"v":8.997955010224949,"d":"9"}]
["Other Offences",44,2012,"River",16,{"$f":"'2012-2006Pop'!$D$17","v":{"v":48900,"d":"48,900"}},{"v":8.997955010224949,"d":"9"}]
["Other Criminal Code Offences",40,2012,"River",16,{"$f":"'2012-2006Pop'!$D$17","v":{"v":48900,"d":"48,900"}},{"v":8.1799591002045,"d":"8"}]
["Bail Violations",33,2012,"River",16,{"$f":"'2012-2006Pop'!$D$17","v":{"v":48900,"d":"48,900"}},{"v":6.748466257668712,"d":"7"}]
["Uttering Threats or Intimidation",18,2012,"River",16,{"$f":"'2012-2006Pop'!$D$17","v":{"v":48900,"d":"48,900"}},{"v":3.6809815950920246,"d":"4"}]
["Cocaine",18,2012,"River",16,{"$f":"'2012-2006Pop'!$D$17","v":{"v":48900,"d":"48,900"}},{"v":3.6809815950920246,"d":"4"}]
["Theft Over $5000",16,2012,"River",16,{"$f":"'2012-2006Pop'!$D$17","v":{"v":48900,"d":"48,900"}},{"v":3.271983640081799,"d":"3"}]
["Offensive Weapons",16,2012,"River",16,{"$f":"'2012-2006Pop'!$D$17","v":{"v":48900,"d":"48,900"}},{"v":3.271983640081799,"d":"3"}]
["Breach Probation",15,2012,"River",16,{"$f":"'2012-2006Pop'!$D$17","v":{"v":48900,"d":"48,900"}},{"v":3.067484662576687,"d":"3"}]
["Arson",12,2012,"River",16,{"$f":"'2012-2006Pop'!$D$17","v":{"v":48900,"d":"48,900"}},{"v":2.4539877300613497,"d":"2"}]
["Abduction",9,2012,"River",16,{"$f":"'2012-2006Pop'!$D$17","v":{"v":48900,"d":"48,900"}},{"v":1.8404907975460123,"d":"2"}]
["Other Sexual Offences",6,2012,"River",16,{"$f":"'2012-2006Pop'!$D$17","v":{"v":48900,"d":"48,900"}},{"v":1.2269938650306749,"d":"1"}]
["Prostitution",6,2012,"River",16,{"$f":"'2012-2006Pop'!$D$17","v":{"v":48900,"d":"48,900"}},{"v":1.2269938650306749,"d":"1"}]
["Other Controlled Drugs and Substances",6,2012,"River",16,{"$f":"'2012-2006Pop'!$D$17","v":{"v":48900,"d":"48,900"}},{"v":1.2269938650306749,"d":"1"}]
["Driving Motor Vehicle While Prohibited",5,2012,"River",16,{"$f":"'2012-2006Pop'!$D$17","v":{"v":48900,"d":"48,900"}},{"v":1.0224948875255624,"d":"1"}]
["Possession of Stolen Goods",4,2012,"River",16,{"$f":"'2012-2006Pop'!$D$17","v":{"v":48900,"d":"48,900"}},{"v":0.8179959100204498,"d":"1"}]
["Threats via the Internet",3,2012,"River",16,{"$f":"'2012-2006Pop'!$D$17","v":{"v":48900,"d":"48,900"}},{"v":0.6134969325153374,"d":"1"}]
["Dangerous Operation of Motor Vehicle",3,2012,"River",16,{"$f":"'2012-2006Pop'!$D$17","v":{"v":48900,"d":"48,900"}},{"v":0.6134969325153374,"d":"1"}]
["Attempted Murder",2,2012,"River",16,{"$f":"'2012-2006Pop'!$D$17","v":{"v":48900,"d":"48,900"}},{"v":0.4089979550102249,"d":"0"}]
["Homicide (Incidents)",1,2012,"River",16,{"$f":"'2012-2006Pop'!$D$17","v":{"v":48900,"d":"48,900"}},{"v":0.20449897750511245,"d":"0"}]
["Counterfeiting Currency",0,2012,"River",16,{"$f":"'2012-2006Pop'!$D$17","v":{"v":48900,"d":"48,900"}},0]
["Other Criminal Code Offences",0,2012,"River",16,{"$f":"'2012-2006Pop'!$D$17","v":{"v":48900,"d":"48,900"}},0]
["Ecstasy (Methylenedioxyamphetamine )",0,2012,"River",16,{"$f":"'2012-2006Pop'!$D$17","v":{"v":48900,"d":"48,900"}},0]
["Crystal Meth (Methamphetamine)",0,2012,"River",16,{"$f":"'2012-2006Pop'!$D$17","v":{"v":48900,"d":"48,900"}},0]
["Heroin",0,2012,"River",16,{"$f":"'2012-2006Pop'!$D$17","v":{"v":48900,"d":"48,900"}},0]
["Theft $5000 and Under",954,2012,"Capital",17,{"$f":"'2012-2006Pop'!$D$18","v":{"v":37250,"d":"37,250"}},{"$f":"(B1097/F1097)*10000","v":{"v":256.10738255033556,"d":"256"}}]
["Mischief",220,2012,"Capital",17,{"$f":"'2012-2006Pop'!$D$18","v":{"v":37250,"d":"37,250"}},{"$f":"(B1098/F1098)*10000","v":{"v":59.060402684563755,"d":"59"}}]
["Break and Enter",152,2012,"Capital",17,{"$f":"'2012-2006Pop'!$D$18","v":{"v":37250,"d":"37,250"}},{"v":40.805369127516784,"d":"41"}]
["Fraud",123,2012,"Capital",17,{"$f":"'2012-2006Pop'!$D$18","v":{"v":37250,"d":"37,250"}},{"v":33.02013422818792,"d":"33"}]
["Assault (Incl. Sexual Assaults)",114,2012,"Capital",17,{"$f":"'2012-2006Pop'!$D$18","v":{"v":37250,"d":"37,250"}},{"v":30.604026845637584,"d":"31"}]
["Cannabis",38,2011,"Capital",17,{"$f":"'2012-2006Pop'!$C$18","v":{"v":33755,"d":"33,755"}},{"$f":"(B1102/F1102)*10000","v":{"v":11.257591467930677,"d":"11"}}]
["Impaired Operation of Vehicle",35,2011,"Capital",17,{"$f":"'2012-2006Pop'!$C$18","v":{"v":33755,"d":"33,755"}},{"v":10.368834246778254,"d":"10"}]
["Bail Violations",32,2011,"Capital",17,{"$f":"'2012-2006Pop'!$C$18","v":{"v":33755,"d":"33,755"}},{"v":9.480077025625834,"d":"9"}]
["Other Offences",25,2011,"Capital",17,{"$f":"'2012-2006Pop'!$C$18","v":{"v":33755,"d":"33,755"}},{"v":7.406310176270182,"d":"7"}]
["Theft - Motor Vehicle",25,2011,"Capital",17,{"$f":"'2012-2006Pop'!$C$18","v":{"v":33755,"d":"33,755"}},{"v":7.406310176270182,"d":"7"}]
["Robbery",24,2011,"Capital",17,{"$f":"'2012-2006Pop'!$C$18","v":{"v":33755,"d":"33,755"}},{"v":7.110057769219375,"d":"7"}]
["Possession of Stolen Goods",17,2011,"Capital",17,{"$f":"'2012-2006Pop'!$C$18","v":{"v":33755,"d":"33,755"}},{"v":5.036290919863724,"d":"5"}]
["Uttering Threats or Intimidation",12,2011,"Capital",17,{"$f":"'2012-2006Pop'!$C$18","v":{"v":33755,"d":"33,755"}},{"v":3.5550288846096874,"d":"4"}]
["Theft Over $5000",8,2011,"Capital",17,{"$f":"'2012-2006Pop'!$C$18","v":{"v":33755,"d":"33,755"}},{"v":2.3700192564064584,"d":"2"}]
["Offensive Weapons",7,2011,"Capital",17,{"$f":"'2012-2006Pop'!$C$18","v":{"v":33755,"d":"33,755"}},{"v":2.073766849355651,"d":"2"}]
["Arson",4,2011,"Capital",17,{"$f":"'2012-2006Pop'!$C$18","v":{"v":33755,"d":"33,755"}},{"v":1.1850096282032292,"d":"1"}]
["Counterfeiting Currency",3,2011,"Capital",17,{"$f":"'2012-2006Pop'!$C$18","v":{"v":33755,"d":"33,755"}},{"v":0.8887572211524218,"d":"1"}]
["Breach Probation",3,2011,"Capital",17,{"$f":"'2012-2006Pop'!$C$18","v":{"v":33755,"d":"33,755"}},{"v":0.8887572211524218,"d":"1"}]
["Threats via the Internet",3,2011,"Capital",17,{"$f":"'2012-2006Pop'!$C$18","v":{"v":33755,"d":"33,755"}},{"v":0.8887572211524218,"d":"1"}]
["Dangerous Operation of Motor Vehicle",3,2011,"Capital",17,{"$f":"'2012-2006Pop'!$C$18","v":{"v":33755,"d":"33,755"}},{"v":0.8887572211524218,"d":"1"}]
["Cocaine",3,2011,"Capital",17,{"$f":"'2012-2006Pop'!$C$18","v":{"v":33755,"d":"33,755"}},{"v":0.8887572211524218,"d":"1"}]
["Other Sexual Offences",2,2011,"Capital",17,{"$f":"'2012-2006Pop'!$C$18","v":{"v":33755,"d":"33,755"}},{"v":0.5925048141016146,"d":"1"}]
["Driving Motor Vehicle While Prohibited",2,2011,"Capital",17,{"$f":"'2012-2006Pop'!$C$18","v":{"v":33755,"d":"33,755"}},{"v":0.5925048141016146,"d":"1"}]
["Other Controlled Drugs and Substances",2,2011,"Capital",17,{"$f":"'2012-2006Pop'!$C$18","v":{"v":33755,"d":"33,755"}},{"v":0.5925048141016146,"d":"1"}]
["Attempted Murder",1,2011,"Capital",17,{"$f":"'2012-2006Pop'!$C$18","v":{"v":33755,"d":"33,755"}},{"v":0.2962524070508073,"d":"0"}]
["Abduction",1,2011,"Capital",17,{"$f":"'2012-2006Pop'!$C$18","v":{"v":33755,"d":"33,755"}},{"v":0.2962524070508073,"d":"0"}]
["Homicide (Incidents)",0,2011,"Capital",17,{"$f":"'2012-2006Pop'!$C$18","v":{"v":33755,"d":"33,755"}},0]
["Prostitution",0,2011,"Capital",17,{"$f":"'2012-2006Pop'!$C$18","v":{"v":33755,"d":"33,755"}},0]
["Other Criminal Code Offences",0,2011,"Capital",17,{"$f":"'2012-2006Pop'!$C$18","v":{"v":33755,"d":"33,755"}},0]
["Ecstasy (Methylenedioxyamphetamine )",0,2011,"Capital",17,{"$f":"'2012-2006Pop'!$C$18","v":{"v":33755,"d":"33,755"}},0]
["Crystal Meth (Methamphetamine)",0,2011,"Capital",17,{"$f":"'2012-2006Pop'!$C$18","v":{"v":33755,"d":"33,755"}},0]
["Heroin",0,2011,"Capital",17,{"$f":"'2012-2006Pop'!$C$18","v":{"v":33755,"d":"33,755"}},0]
["Theft $5000 and Under",776,2011,"Alta Vista",18,{"$f":"'2012-2006Pop'!$C$19","v":{"v":43185,"d":"43,185"}},{"$f":"(B1129/F1129)*10000","v":{"v":179.69202269306473,"d":"180"}}]
["Mischief",264,2011,"Alta Vista",18,{"$f":"'2012-2006Pop'!$C$19","v":{"v":43185,"d":"43,185"}},{"$f":"(B1130/F1130)*10000","v":{"v":61.1323376172282,"d":"61"}}]
["Assault (Incl. Sexual Assaults)",201,2011,"Alta Vista",18,{"$f":"'2012-2006Pop'!$C$19","v":{"v":43185,"d":"43,185"}},{"v":46.54393886766238,"d":"47"}]
["Break and Enter",142,2011,"Alta Vista",18,{"$f":"'2012-2006Pop'!$C$19","v":{"v":43185,"d":"43,185"}},{"v":32.88178765775154,"d":"33"}]
["Fraud",142,2011,"Alta Vista",18,{"$f":"'2012-2006Pop'!$C$19","v":{"v":43185,"d":"43,185"}},{"v":32.88178765775154,"d":"33"}]
["Theft - Motor Vehicle",111,2011,"Alta Vista",18,{"$f":"'2012-2006Pop'!$C$19","v":{"v":43185,"d":"43,185"}},{"v":25.703369225425497,"d":"26"}]
["Failure to Stop or Remain",101,2011,"Alta Vista",18,{"$f":"'2012-2006Pop'!$C$19","v":{"v":43185,"d":"43,185"}},{"v":23.387750376288064,"d":"23"}]
["Other Offences",55,2011,"Alta Vista",18,{"$f":"'2012-2006Pop'!$C$19","v":{"v":43185,"d":"43,185"}},{"v":12.735903670255876,"d":"13"}]
["Robbery",54,2011,"Alta Vista",18,{"$f":"'2012-2006Pop'!$C$19","v":{"v":43185,"d":"43,185"}},{"v":12.504341785342135,"d":"13"}]
["Bail Violations",52,2011,"Alta Vista",18,{"$f":"'2012-2006Pop'!$C$19","v":{"v":43185,"d":"43,185"}},{"v":12.041218015514646,"d":"12"}]
["Other Criminal Code Offences",45,2011,"Alta Vista",18,{"$f":"'2012-2006Pop'!$C$19","v":{"v":43185,"d":"43,185"}},{"v":10.420284821118443,"d":"10"}]
["Cannabis",37,2011,"Alta Vista",18,{"$f":"'2012-2006Pop'!$C$19","v":{"v":43185,"d":"43,185"}},{"v":8.567789741808499,"d":"9"}]
["Impaired Operation of Vehicle",32,2011,"Alta Vista",18,{"$f":"'2012-2006Pop'!$C$19","v":{"v":43185,"d":"43,185"}},{"v":7.409980317239782,"d":"7"}]
["Uttering Threats or Intimidation",20,2011,"Alta Vista",18,{"$f":"'2012-2006Pop'!$C$19","v":{"v":43185,"d":"43,185"}},{"v":4.631237698274864,"d":"5"}]
["Possession of Stolen Goods",20,2011,"Alta Vista",18,{"$f":"'2012-2006Pop'!$C$19","v":{"v":43185,"d":"43,185"}},{"v":4.631237698274864,"d":"5"}]
["Cocaine",14,2011,"Alta Vista",18,{"$f":"'2012-2006Pop'!$C$19","v":{"v":43185,"d":"43,185"}},{"v":3.241866388792405,"d":"3"}]
["Theft Over $5000",13,2011,"Alta Vista",18,{"$f":"'2012-2006Pop'!$C$19","v":{"v":43185,"d":"43,185"}},{"v":3.0103045038786616,"d":"3"}]
["Dangerous Operation of Motor Vehicle",11,2011,"Alta Vista",18,{"$f":"'2012-2006Pop'!$C$19","v":{"v":43185,"d":"43,185"}},{"v":2.547180734051175,"d":"3"}]
["Arson",10,2011,"Alta Vista",18,{"$f":"'2012-2006Pop'!$C$19","v":{"v":43185,"d":"43,185"}},{"v":2.315618849137432,"d":"2"}]
["Offensive Weapons",8,2011,"Alta Vista",18,{"$f":"'2012-2006Pop'!$C$19","v":{"v":43185,"d":"43,185"}},{"v":1.8524950793099455,"d":"2"}]
["Threats via the Internet",7,2011,"Alta Vista",18,{"$f":"'2012-2006Pop'!$C$19","v":{"v":43185,"d":"43,185"}},{"v":1.6209331943962024,"d":"2"}]
["Other Controlled Drugs and Substances",7,2011,"Alta Vista",18,{"$f":"'2012-2006Pop'!$C$19","v":{"v":43185,"d":"43,185"}},{"v":1.6209331943962024,"d":"2"}]
["Breach Probation",6,2011,"Alta Vista",18,{"$f":"'2012-2006Pop'!$C$19","v":{"v":43185,"d":"43,185"}},{"v":1.3893713094824593,"d":"1"}]
["Driving Motor Vehicle While Prohibited",6,2011,"Alta Vista",18,{"$f":"'2012-2006Pop'!$C$19","v":{"v":43185,"d":"43,185"}},{"v":1.3893713094824593,"d":"1"}]
["Abduction",5,2011,"Alta Vista",18,{"$f":"'2012-2006Pop'!$C$19","v":{"v":43185,"d":"43,185"}},{"v":1.157809424568716,"d":"1"}]
["Counterfeiting Currency",5,2011,"Alta Vista",18,{"$f":"'2012-2006Pop'!$C$19","v":{"v":43185,"d":"43,185"}},{"v":1.157809424568716,"d":"1"}]
["Attempted Murder",2,2011,"Alta Vista",18,{"$f":"'2012-2006Pop'!$C$19","v":{"v":43185,"d":"43,185"}},{"v":0.4631237698274864,"d":"0"}]
["Other Criminal Code Offences",2,2011,"Alta Vista",18,{"$f":"'2012-2006Pop'!$C$19","v":{"v":43185,"d":"43,185"}},{"v":0.4631237698274864,"d":"0"}]
["Other Sexual Offences",1,2011,"Alta Vista",18,{"$f":"'2012-2006Pop'!$C$19","v":{"v":43185,"d":"43,185"}},{"v":0.2315618849137432,"d":"0"}]
["Homicide (Incidents)",0,2011,"Alta Vista",18,{"$f":"'2012-2006Pop'!$C$19","v":{"v":43185,"d":"43,185"}},0]
["Prostitution",0,2011,"Alta Vista",18,{"$f":"'2012-2006Pop'!$C$19","v":{"v":43185,"d":"43,185"}},0]
["Ecstasy (Methylenedioxyamphetamine )",0,2011,"Alta Vista",18,{"$f":"'2012-2006Pop'!$C$19","v":{"v":43185,"d":"43,185"}},0]
["Crystal Meth (Methamphetamine)",0,2011,"Alta Vista",18,{"$f":"'2012-2006Pop'!$C$19","v":{"v":43185,"d":"43,185"}},0]
["Heroin",0,2011,"Alta Vista",18,{"$f":"'2012-2006Pop'!$C$19","v":{"v":43185,"d":"43,185"}},0]
["Theft $5000 and Under",388,2011,"Cumberland",19,{"$f":"'2012-2006Pop'!$C$20","v":{"v":33405,"d":"33,405"}},{"$f":"(B1163/F1163)*10000","v":{"v":116.15027690465499,"d":"116"}}]
["Mischief",117,2011,"Cumberland",19,{"$f":"'2012-2006Pop'!$C$20","v":{"v":33405,"d":"33,405"}},{"$f":"(B1164/F1164)*10000","v":{"v":35.02469690166143,"d":"35"}}]
["Break and Enter",108,2011,"Cumberland",19,{"$f":"'2012-2006Pop'!$C$20","v":{"v":33405,"d":"33,405"}},{"v":32.33048944768747,"d":"32"}]
["Assault (Incl. Sexual Assaults)",92,2011,"Cumberland",19,{"$f":"'2012-2006Pop'!$C$20","v":{"v":33405,"d":"33,405"}},{"v":27.540787307289328,"d":"28"}]
["Fraud",87,2011,"Cumberland",19,{"$f":"'2012-2006Pop'!$C$20","v":{"v":33405,"d":"33,405"}},{"v":26.044005388414906,"d":"26"}]
["Theft - Motor Vehicle",55,2011,"Cumberland",19,{"$f":"'2012-2006Pop'!$C$20","v":{"v":33405,"d":"33,405"}},{"v":16.46460110761862,"d":"16"}]
["Failure to Stop or Remain",43,2011,"Cumberland",19,{"$f":"'2012-2006Pop'!$C$20","v":{"v":33405,"d":"33,405"}},{"v":12.87232450232001,"d":"13"}]
["Other Offences",30,2011,"Cumberland",19,{"$f":"'2012-2006Pop'!$C$20","v":{"v":33405,"d":"33,405"}},{"v":8.98069151324652,"d":"9"}]
["Cannabis",30,2011,"Cumberland",19,{"$f":"'2012-2006Pop'!$C$20","v":{"v":33405,"d":"33,405"}},{"v":8.98069151324652,"d":"9"}]
["Impaired Operation of Vehicle",29,2011,"Cumberland",19,{"$f":"'2012-2006Pop'!$C$20","v":{"v":33405,"d":"33,405"}},{"v":8.681335129471636,"d":"9"}]
["Failure to Stop or Remain",87,2012,"Capital",17,{"$f":"'2012-2006Pop'!$D$18","v":{"v":37250,"d":"37,250"}},{"$f":"(B1173/F1173)*10000","v":{"v":23.355704697986578,"d":"23"}}]
["Other Criminal Code Offences",36,2012,"Capital",17,{"$f":"'2012-2006Pop'!$D$18","v":{"v":37250,"d":"37,250"}},{"v":9.664429530201343,"d":"10"}]
["Cannabis",35,2012,"Capital",17,{"$f":"'2012-2006Pop'!$D$18","v":{"v":37250,"d":"37,250"}},{"v":9.395973154362416,"d":"9"}]
["Robbery",34,2012,"Capital",17,{"$f":"'2012-2006Pop'!$D$18","v":{"v":37250,"d":"37,250"}},{"v":9.12751677852349,"d":"9"}]
["Theft - Motor Vehicle",32,2012,"Capital",17,{"$f":"'2012-2006Pop'!$D$18","v":{"v":37250,"d":"37,250"}},{"v":8.590604026845638,"d":"9"}]
["Other Offences",26,2012,"Capital",17,{"$f":"'2012-2006Pop'!$D$18","v":{"v":37250,"d":"37,250"}},{"v":6.97986577181208,"d":"7"}]
["Impaired Operation of Vehicle",25,2012,"Capital",17,{"$f":"'2012-2006Pop'!$D$18","v":{"v":37250,"d":"37,250"}},{"v":6.711409395973154,"d":"7"}]
["Uttering Threats or Intimidation",23,2012,"Capital",17,{"$f":"'2012-2006Pop'!$D$18","v":{"v":37250,"d":"37,250"}},{"v":6.174496644295302,"d":"6"}]
["Theft Over $5000",22,2012,"Capital",17,{"$f":"'2012-2006Pop'!$D$18","v":{"v":37250,"d":"37,250"}},{"v":5.906040268456376,"d":"6"}]
["Bail Violations",21,2012,"Capital",17,{"$f":"'2012-2006Pop'!$D$18","v":{"v":37250,"d":"37,250"}},{"v":5.6375838926174495,"d":"6"}]
["Breach Probation",8,2012,"Capital",17,{"$f":"'2012-2006Pop'!$D$18","v":{"v":37250,"d":"37,250"}},{"v":2.1476510067114094,"d":"2"}]
["Offensive Weapons",6,2012,"Capital",17,{"$f":"'2012-2006Pop'!$D$18","v":{"v":37250,"d":"37,250"}},{"v":1.6107382550335572,"d":"2"}]
["Arson",5,2012,"Capital",17,{"$f":"'2012-2006Pop'!$D$18","v":{"v":37250,"d":"37,250"}},{"v":1.3422818791946307,"d":"1"}]
["Counterfeiting Currency",5,2012,"Capital",17,{"$f":"'2012-2006Pop'!$D$18","v":{"v":37250,"d":"37,250"}},{"v":1.3422818791946307,"d":"1"}]
["Dangerous Operation of Motor Vehicle",5,2012,"Capital",17,{"$f":"'2012-2006Pop'!$D$18","v":{"v":37250,"d":"37,250"}},{"v":1.3422818791946307,"d":"1"}]
["Cocaine",4,2012,"Capital",17,{"$f":"'2012-2006Pop'!$D$18","v":{"v":37250,"d":"37,250"}},{"v":1.0738255033557047,"d":"1"}]
["Other Controlled Drugs and Substances",3,2012,"Capital",17,{"$f":"'2012-2006Pop'!$D$18","v":{"v":37250,"d":"37,250"}},{"v":0.8053691275167786,"d":"1"}]
["Threats via the Internet",2,2012,"Capital",17,{"$f":"'2012-2006Pop'!$D$18","v":{"v":37250,"d":"37,250"}},{"v":0.5369127516778524,"d":"1"}]
["Other Sexual Offences",1,2012,"Capital",17,{"$f":"'2012-2006Pop'!$D$18","v":{"v":37250,"d":"37,250"}},{"v":0.2684563758389262,"d":"0"}]
["Abduction",1,2012,"Capital",17,{"$f":"'2012-2006Pop'!$D$18","v":{"v":37250,"d":"37,250"}},{"v":0.2684563758389262,"d":"0"}]
["Possession of Stolen Goods",1,2012,"Capital",17,{"$f":"'2012-2006Pop'!$D$18","v":{"v":37250,"d":"37,250"}},{"v":0.2684563758389262,"d":"0"}]
["Other Criminal Code Offences",1,2012,"Capital",17,{"$f":"'2012-2006Pop'!$D$18","v":{"v":37250,"d":"37,250"}},{"v":0.2684563758389262,"d":"0"}]
["Homicide (Incidents)",0,2012,"Capital",17,{"$f":"'2012-2006Pop'!$D$18","v":{"v":37250,"d":"37,250"}},0]
["Attempted Murder",0,2012,"Capital",17,{"$f":"'2012-2006Pop'!$D$18","v":{"v":37250,"d":"37,250"}},0]
["Prostitution",0,2012,"Capital",17,{"$f":"'2012-2006Pop'!$D$18","v":{"v":37250,"d":"37,250"}},0]
["Driving Motor Vehicle While Prohibited",0,2012,"Capital",17,{"$f":"'2012-2006Pop'!$D$18","v":{"v":37250,"d":"37,250"}},0]
["Ecstasy (Methylenedioxyamphetamine )",0,2012,"Capital",17,{"$f":"'2012-2006Pop'!$D$18","v":{"v":37250,"d":"37,250"}},0]
["Crystal Meth (Methamphetamine)",0,2012,"Capital",17,{"$f":"'2012-2006Pop'!$D$18","v":{"v":37250,"d":"37,250"}},0]
["Heroin",0,2012,"Capital",17,{"$f":"'2012-2006Pop'!$D$18","v":{"v":37250,"d":"37,250"}},0]
["Theft $5000 and Under",894,2012,"Alta Vista",18,{"$f":"'2012-2006Pop'!$D$19","v":{"v":45300,"d":"45,300"}},{"$f":"(B1202/F1202)*10000","v":{"v":197.35099337748346,"d":"197"}}]
["Mischief",255,2012,"Alta Vista",18,{"$f":"'2012-2006Pop'!$D$19","v":{"v":45300,"d":"45,300"}},{"$f":"(B1203/F1203)*10000","v":{"v":56.29139072847682,"d":"56"}}]
["Break and Enter",226,2012,"Alta Vista",18,{"$f":"'2012-2006Pop'!$D$19","v":{"v":45300,"d":"45,300"}},{"v":49.88962472406181,"d":"50"}]
["Assault (Incl. Sexual Assaults)",196,2012,"Alta Vista",18,{"$f":"'2012-2006Pop'!$D$19","v":{"v":45300,"d":"45,300"}},{"v":43.26710816777042,"d":"43"}]
["Fraud",156,2012,"Alta Vista",18,{"$f":"'2012-2006Pop'!$D$19","v":{"v":45300,"d":"45,300"}},{"v":34.437086092715234,"d":"34"}]
["Theft - Motor Vehicle",131,2012,"Alta Vista",18,{"$f":"'2012-2006Pop'!$D$19","v":{"v":45300,"d":"45,300"}},{"v":28.91832229580574,"d":"29"}]
["Failure to Stop or Remain",98,2012,"Alta Vista",18,{"$f":"'2012-2006Pop'!$D$19","v":{"v":45300,"d":"45,300"}},{"v":21.63355408388521,"d":"22"}]
["Robbery",52,2012,"Alta Vista",18,{"$f":"'2012-2006Pop'!$D$19","v":{"v":45300,"d":"45,300"}},{"v":11.479028697571744,"d":"11"}]
["Other Criminal Code Offences",52,2012,"Alta Vista",18,{"$f":"'2012-2006Pop'!$D$19","v":{"v":45300,"d":"45,300"}},{"v":11.479028697571744,"d":"11"}]
["Cannabis",52,2012,"Alta Vista",18,{"$f":"'2012-2006Pop'!$D$19","v":{"v":45300,"d":"45,300"}},{"v":11.479028697571744,"d":"11"}]
["Other Offences",50,2012,"Alta Vista",18,{"$f":"'2012-2006Pop'!$D$19","v":{"v":45300,"d":"45,300"}},{"v":11.037527593818984,"d":"11"}]
["Bail Violations",48,2012,"Alta Vista",18,{"$f":"'2012-2006Pop'!$D$19","v":{"v":45300,"d":"45,300"}},{"v":10.596026490066226,"d":"11"}]
["Impaired Operation of Vehicle",36,2012,"Alta Vista",18,{"$f":"'2012-2006Pop'!$D$19","v":{"v":45300,"d":"45,300"}},{"v":7.947019867549669,"d":"8"}]
["Uttering Threats or Intimidation",29,2012,"Alta Vista",18,{"$f":"'2012-2006Pop'!$D$19","v":{"v":45300,"d":"45,300"}},{"v":6.401766004415011,"d":"6"}]
["Theft Over $5000",28,2012,"Alta Vista",18,{"$f":"'2012-2006Pop'!$D$19","v":{"v":45300,"d":"45,300"}},{"v":6.181015452538631,"d":"6"}]
["Arson",14,2012,"Alta Vista",18,{"$f":"'2012-2006Pop'!$D$19","v":{"v":45300,"d":"45,300"}},{"v":3.0905077262693155,"d":"3"}]
["Breach Probation",13,2012,"Alta Vista",18,{"$f":"'2012-2006Pop'!$D$19","v":{"v":45300,"d":"45,300"}},{"v":2.869757174392936,"d":"3"}]
["Possession of Stolen Goods",10,2012,"Alta Vista",18,{"$f":"'2012-2006Pop'!$D$19","v":{"v":45300,"d":"45,300"}},{"v":2.207505518763797,"d":"2"}]
["Offensive Weapons",9,2012,"Alta Vista",18,{"$f":"'2012-2006Pop'!$D$19","v":{"v":45300,"d":"45,300"}},{"v":1.9867549668874172,"d":"2"}]
["Counterfeiting Currency",8,2012,"Alta Vista",18,{"$f":"'2012-2006Pop'!$D$19","v":{"v":45300,"d":"45,300"}},{"v":1.7660044150110374,"d":"2"}]
["Threats via the Internet",8,2012,"Alta Vista",18,{"$f":"'2012-2006Pop'!$D$19","v":{"v":45300,"d":"45,300"}},{"v":1.7660044150110374,"d":"2"}]
["Dangerous Operation of Motor Vehicle",8,2012,"Alta Vista",18,{"$f":"'2012-2006Pop'!$D$19","v":{"v":45300,"d":"45,300"}},{"v":1.7660044150110374,"d":"2"}]
["Cocaine",8,2012,"Alta Vista",18,{"$f":"'2012-2006Pop'!$D$19","v":{"v":45300,"d":"45,300"}},{"v":1.7660044150110374,"d":"2"}]
["Driving Motor Vehicle While Prohibited",5,2012,"Alta Vista",18,{"$f":"'2012-2006Pop'!$D$19","v":{"v":45300,"d":"45,300"}},{"v":1.1037527593818985,"d":"1"}]
["Abduction",3,2012,"Alta Vista",18,{"$f":"'2012-2006Pop'!$D$19","v":{"v":45300,"d":"45,300"}},{"v":0.6622516556291391,"d":"1"}]
["Other Sexual Offences",2,2012,"Alta Vista",18,{"$f":"'2012-2006Pop'!$D$19","v":{"v":45300,"d":"45,300"}},{"v":0.44150110375275936,"d":"0"}]
["Attempted Murder",1,2012,"Alta Vista",18,{"$f":"'2012-2006Pop'!$D$19","v":{"v":45300,"d":"45,300"}},{"v":0.22075055187637968,"d":"0"}]
["Ecstasy (Methylenedioxyamphetamine )",1,2012,"Alta Vista",18,{"$f":"'2012-2006Pop'!$D$19","v":{"v":45300,"d":"45,300"}},{"v":0.22075055187637968,"d":"0"}]
["Homicide (Incidents)",0,2012,"Alta Vista",18,{"$f":"'2012-2006Pop'!$D$19","v":{"v":45300,"d":"45,300"}},0]
["Prostitution",0,2012,"Alta Vista",18,{"$f":"'2012-2006Pop'!$D$19","v":{"v":45300,"d":"45,300"}},0]
["Other Criminal Code Offences",0,2012,"Alta Vista",18,{"$f":"'2012-2006Pop'!$D$19","v":{"v":45300,"d":"45,300"}},0]
["Crystal Meth (Methamphetamine)",0,2012,"Alta Vista",18,{"$f":"'2012-2006Pop'!$D$19","v":{"v":45300,"d":"45,300"}},0]
["Heroin",0,2012,"Alta Vista",18,{"$f":"'2012-2006Pop'!$D$19","v":{"v":45300,"d":"45,300"}},0]
["Other Controlled Drugs and Substances",0,2012,"Alta Vista",18,{"$f":"'2012-2006Pop'!$D$19","v":{"v":45300,"d":"45,300"}},0]
["Theft $5000 and Under",334,2012,"Cumberland",19,{"$f":"'2012-2006Pop'!$D$20","v":{"v":44400,"d":"44,400"}},{"$f":"(B1236/F1236)*10000","v":{"v":75.22522522522523,"d":"75"}}]
["Mischief",198,2012,"Cumberland",19,{"$f":"'2012-2006Pop'!$D$20","v":{"v":44400,"d":"44,400"}},{"$f":"(B1237/F1237)*10000","v":{"v":44.5945945945946,"d":"45"}}]
["Fraud",95,2012,"Cumberland",19,{"$f":"'2012-2006Pop'!$D$20","v":{"v":44400,"d":"44,400"}},{"v":21.396396396396394,"d":"21"}]
["Break and Enter",88,2012,"Cumberland",19,{"$f":"'2012-2006Pop'!$D$20","v":{"v":44400,"d":"44,400"}},{"v":19.81981981981982,"d":"20"}]
["Assault (Incl. Sexual Assaults)",62,2012,"Cumberland",19,{"$f":"'2012-2006Pop'!$D$20","v":{"v":44400,"d":"44,400"}},{"v":13.963963963963964,"d":"14"}]
["Theft - Motor Vehicle",42,2012,"Cumberland",19,{"$f":"'2012-2006Pop'!$D$20","v":{"v":44400,"d":"44,400"}},{"v":9.45945945945946,"d":"9"}]
["Failure to Stop or Remain",40,2012,"Cumberland",19,{"$f":"'2012-2006Pop'!$D$20","v":{"v":44400,"d":"44,400"}},{"v":9.00900900900901,"d":"9"}]
["Bail Violations",24,2011,"Cumberland",19,{"$f":"'2012-2006Pop'!$C$20","v":{"v":33405,"d":"33,405"}},{"$f":"(B1243/F1243)*10000","v":{"v":7.184553210597215,"d":"7"}}]
["Other Criminal Code Offences",17,2011,"Cumberland",19,{"$f":"'2012-2006Pop'!$C$20","v":{"v":33405,"d":"33,405"}},{"v":5.089058524173028,"d":"5"}]
["Uttering Threats or Intimidation",15,2011,"Cumberland",19,{"$f":"'2012-2006Pop'!$C$20","v":{"v":33405,"d":"33,405"}},{"v":4.49034575662326,"d":"4"}]
["Theft Over $5000",11,2011,"Cumberland",19,{"$f":"'2012-2006Pop'!$C$20","v":{"v":33405,"d":"33,405"}},{"v":3.292920221523724,"d":"3"}]
["Robbery",10,2011,"Cumberland",19,{"$f":"'2012-2006Pop'!$C$20","v":{"v":33405,"d":"33,405"}},{"v":2.99356383774884,"d":"3"}]
["Possession of Stolen Goods",8,2011,"Cumberland",19,{"$f":"'2012-2006Pop'!$C$20","v":{"v":33405,"d":"33,405"}},{"v":2.394851070199072,"d":"2"}]
["Arson",6,2011,"Cumberland",19,{"$f":"'2012-2006Pop'!$C$20","v":{"v":33405,"d":"33,405"}},{"v":1.7961383026493039,"d":"2"}]
["Breach Probation",5,2011,"Cumberland",19,{"$f":"'2012-2006Pop'!$C$20","v":{"v":33405,"d":"33,405"}},{"v":1.49678191887442,"d":"1"}]
["Threats via the Internet",3,2011,"Cumberland",19,{"$f":"'2012-2006Pop'!$C$20","v":{"v":33405,"d":"33,405"}},{"v":0.8980691513246519,"d":"1"}]
["Dangerous Operation of Motor Vehicle",3,2011,"Cumberland",19,{"$f":"'2012-2006Pop'!$C$20","v":{"v":33405,"d":"33,405"}},{"v":0.8980691513246519,"d":"1"}]
["Driving Motor Vehicle While Prohibited",2,2011,"Cumberland",19,{"$f":"'2012-2006Pop'!$C$20","v":{"v":33405,"d":"33,405"}},{"v":0.598712767549768,"d":"1"}]
["Cocaine",2,2011,"Cumberland",19,{"$f":"'2012-2006Pop'!$C$20","v":{"v":33405,"d":"33,405"}},{"v":0.598712767549768,"d":"1"}]
["Other Sexual Offences",1,2011,"Cumberland",19,{"$f":"'2012-2006Pop'!$C$20","v":{"v":33405,"d":"33,405"}},{"v":0.299356383774884,"d":"0"}]
["Abduction",1,2011,"Cumberland",19,{"$f":"'2012-2006Pop'!$C$20","v":{"v":33405,"d":"33,405"}},{"v":0.299356383774884,"d":"0"}]
["Offensive Weapons",1,2011,"Cumberland",19,{"$f":"'2012-2006Pop'!$C$20","v":{"v":33405,"d":"33,405"}},{"v":0.299356383774884,"d":"0"}]
["Homicide (Incidents)",0,2011,"Cumberland",19,{"$f":"'2012-2006Pop'!$C$20","v":{"v":33405,"d":"33,405"}},0]
["Attempted Murder",0,2011,"Cumberland",19,{"$f":"'2012-2006Pop'!$C$20","v":{"v":33405,"d":"33,405"}},0]
["Counterfeiting Currency",0,2011,"Cumberland",19,{"$f":"'2012-2006Pop'!$C$20","v":{"v":33405,"d":"33,405"}},0]
["Prostitution",0,2011,"Cumberland",19,{"$f":"'2012-2006Pop'!$C$20","v":{"v":33405,"d":"33,405"}},0]
["Other Criminal Code Offences",0,2011,"Cumberland",19,{"$f":"'2012-2006Pop'!$C$20","v":{"v":33405,"d":"33,405"}},0]
["Ecstasy (Methylenedioxyamphetamine )",0,2011,"Cumberland",19,{"$f":"'2012-2006Pop'!$C$20","v":{"v":33405,"d":"33,405"}},0]
["Crystal Meth (Methamphetamine)",0,2011,"Cumberland",19,{"$f":"'2012-2006Pop'!$C$20","v":{"v":33405,"d":"33,405"}},0]
["Heroin",0,2011,"Cumberland",19,{"$f":"'2012-2006Pop'!$C$20","v":{"v":33405,"d":"33,405"}},0]
["Other Controlled Drugs and Substances",0,2011,"Cumberland",19,{"$f":"'2012-2006Pop'!$C$20","v":{"v":33405,"d":"33,405"}},0]
["Theft $5000 and Under",159,2011,"Osgoode",20,{"$f":"'2012-2006Pop'!$C$21","v":{"v":22695,"d":"22,695"}},{"$f":"(B1267/F1267)*10000","v":{"v":70.05948446794449,"d":"70"}}]
["Mischief",107,2011,"Osgoode",20,{"$f":"'2012-2006Pop'!$C$21","v":{"v":22695,"d":"22,695"}},{"$f":"(B1268/F1268)*10000","v":{"v":47.146948667107296,"d":"47"}}]
["Break and Enter",73,2011,"Osgoode",20,{"$f":"'2012-2006Pop'!$C$21","v":{"v":22695,"d":"22,695"}},{"v":32.165675258867594,"d":"32"}]
["Assault (Incl. Sexual Assaults)",38,2011,"Osgoode",20,{"$f":"'2012-2006Pop'!$C$21","v":{"v":22695,"d":"22,695"}},{"v":16.743776162150255,"d":"17"}]
["Theft - Motor Vehicle",34,2011,"Osgoode",20,{"$f":"'2012-2006Pop'!$C$21","v":{"v":22695,"d":"22,695"}},{"v":14.981273408239701,"d":"15"}]
["Cannabis",26,2011,"Osgoode",20,{"$f":"'2012-2006Pop'!$C$21","v":{"v":22695,"d":"22,695"}},{"v":11.456267900418595,"d":"11"}]
["Fraud",24,2011,"Osgoode",20,{"$f":"'2012-2006Pop'!$C$21","v":{"v":22695,"d":"22,695"}},{"v":10.575016523463319,"d":"11"}]
["Impaired Operation of Vehicle",22,2011,"Osgoode",20,{"$f":"'2012-2006Pop'!$C$21","v":{"v":22695,"d":"22,695"}},{"v":9.693765146508042,"d":"10"}]
["Failure to Stop or Remain",16,2011,"Osgoode",20,{"$f":"'2012-2006Pop'!$C$21","v":{"v":22695,"d":"22,695"}},{"v":7.050011015642212,"d":"7"}]
["Other Criminal Code Offences",12,2011,"Osgoode",20,{"$f":"'2012-2006Pop'!$C$21","v":{"v":22695,"d":"22,695"}},{"v":5.287508261731659,"d":"5"}]
["Other Offences",9,2011,"Osgoode",20,{"$f":"'2012-2006Pop'!$C$21","v":{"v":22695,"d":"22,695"}},{"v":3.965631196298744,"d":"4"}]
["Uttering Threats or Intimidation",8,2011,"Osgoode",20,{"$f":"'2012-2006Pop'!$C$21","v":{"v":22695,"d":"22,695"}},{"v":3.525005507821106,"d":"4"}]
["Theft Over $5000",8,2011,"Osgoode",20,{"$f":"'2012-2006Pop'!$C$21","v":{"v":22695,"d":"22,695"}},{"v":3.525005507821106,"d":"4"}]
["Arson",5,2011,"Osgoode",20,{"$f":"'2012-2006Pop'!$C$21","v":{"v":22695,"d":"22,695"}},{"v":2.203128442388191,"d":"2"}]
["Offensive Weapons",5,2011,"Osgoode",20,{"$f":"'2012-2006Pop'!$C$21","v":{"v":22695,"d":"22,695"}},{"v":2.203128442388191,"d":"2"}]
["Possession of Stolen Goods",4,2011,"Osgoode",20,{"$f":"'2012-2006Pop'!$C$21","v":{"v":22695,"d":"22,695"}},{"v":1.762502753910553,"d":"2"}]
["Bail Violations",4,2011,"Osgoode",20,{"$f":"'2012-2006Pop'!$C$21","v":{"v":22695,"d":"22,695"}},{"v":1.762502753910553,"d":"2"}]
["Dangerous Operation of Motor Vehicle",4,2011,"Osgoode",20,{"$f":"'2012-2006Pop'!$C$21","v":{"v":22695,"d":"22,695"}},{"v":1.762502753910553,"d":"2"}]
["Homicide (Incidents)",1,2011,"Osgoode",20,{"$f":"'2012-2006Pop'!$C$21","v":{"v":22695,"d":"22,695"}},{"v":0.4406256884776383,"d":"0"}]
["Other Sexual Offences",1,2011,"Osgoode",20,{"$f":"'2012-2006Pop'!$C$21","v":{"v":22695,"d":"22,695"}},{"v":0.4406256884776383,"d":"0"}]
["Abduction",1,2011,"Osgoode",20,{"$f":"'2012-2006Pop'!$C$21","v":{"v":22695,"d":"22,695"}},{"v":0.4406256884776383,"d":"0"}]
["Threats via the Internet",1,2011,"Osgoode",20,{"$f":"'2012-2006Pop'!$C$21","v":{"v":22695,"d":"22,695"}},{"v":0.4406256884776383,"d":"0"}]
["Driving Motor Vehicle While Prohibited",1,2011,"Osgoode",20,{"$f":"'2012-2006Pop'!$C$21","v":{"v":22695,"d":"22,695"}},{"v":0.4406256884776383,"d":"0"}]
["Ecstasy (Methylenedioxyamphetamine )",1,2011,"Osgoode",20,{"$f":"'2012-2006Pop'!$C$21","v":{"v":22695,"d":"22,695"}},{"v":0.4406256884776383,"d":"0"}]
["Attempted Murder",0,2011,"Osgoode",20,{"$f":"'2012-2006Pop'!$C$21","v":{"v":22695,"d":"22,695"}},0]
["Robbery",0,2011,"Osgoode",20,{"$f":"'2012-2006Pop'!$C$21","v":{"v":22695,"d":"22,695"}},0]
["Counterfeiting Currency",0,2011,"Osgoode",20,{"$f":"'2012-2006Pop'!$C$21","v":{"v":22695,"d":"22,695"}},0]
["Breach Probation",0,2011,"Osgoode",20,{"$f":"'2012-2006Pop'!$C$21","v":{"v":22695,"d":"22,695"}},0]
["Prostitution",0,2011,"Osgoode",20,{"$f":"'2012-2006Pop'!$C$21","v":{"v":22695,"d":"22,695"}},0]
["Other Criminal Code Offences",0,2011,"Osgoode",20,{"$f":"'2012-2006Pop'!$C$21","v":{"v":22695,"d":"22,695"}},0]
["Crystal Meth (Methamphetamine)",0,2011,"Osgoode",20,{"$f":"'2012-2006Pop'!$C$21","v":{"v":22695,"d":"22,695"}},0]
["Heroin",0,2011,"Osgoode",20,{"$f":"'2012-2006Pop'!$C$21","v":{"v":22695,"d":"22,695"}},0]
["Cocaine",0,2011,"Osgoode",20,{"$f":"'2012-2006Pop'!$C$21","v":{"v":22695,"d":"22,695"}},0]
["Other Controlled Drugs and Substances",0,2011,"Osgoode",20,{"$f":"'2012-2006Pop'!$C$21","v":{"v":22695,"d":"22,695"}},0]
["Theft $5000 and Under",198,2011,"Rideau-Goulbourn",21,{"$f":"'2012-2006Pop'!$C$22","v":{"v":23535,"d":"23,535"}},{"$f":"(B1301/F1301)*10000","v":{"v":84.13001912045888,"d":"84"}}]
["Mischief",103,2011,"Rideau-Goulbourn",21,{"$f":"'2012-2006Pop'!$C$22","v":{"v":23535,"d":"23,535"}},{"$f":"(B1302/F1302)*10000","v":{"v":43.7646059060973,"d":"44"}}]
["Break and Enter",71,2011,"Rideau-Goulbourn",21,{"$f":"'2012-2006Pop'!$C$22","v":{"v":23535,"d":"23,535"}},{"v":30.16783513915445,"d":"30"}]
["Assault (Incl. Sexual Assaults)",42,2011,"Rideau-Goulbourn",21,{"$f":"'2012-2006Pop'!$C$22","v":{"v":23535,"d":"23,535"}},{"v":17.845761631612493,"d":"18"}]
["Cannabis",35,2011,"Rideau-Goulbourn",21,{"$f":"'2012-2006Pop'!$C$22","v":{"v":23535,"d":"23,535"}},{"v":14.871468026343743,"d":"15"}]
["Fraud",29,2011,"Rideau-Goulbourn",21,{"$f":"'2012-2006Pop'!$C$22","v":{"v":23535,"d":"23,535"}},{"v":12.322073507541958,"d":"12"}]
["Theft - Motor Vehicle",21,2011,"Rideau-Goulbourn",21,{"$f":"'2012-2006Pop'!$C$22","v":{"v":23535,"d":"23,535"}},{"v":8.922880815806247,"d":"9"}]
["Impaired Operation of Vehicle",20,2011,"Rideau-Goulbourn",21,{"$f":"'2012-2006Pop'!$C$22","v":{"v":23535,"d":"23,535"}},{"v":8.497981729339282,"d":"8"}]
["Failure to Stop or Remain",19,2011,"Rideau-Goulbourn",21,{"$f":"'2012-2006Pop'!$C$22","v":{"v":23535,"d":"23,535"}},{"v":8.073082642872318,"d":"8"}]
["Other Criminal Code Offences",18,2011,"Rideau-Goulbourn",21,{"$f":"'2012-2006Pop'!$C$22","v":{"v":23535,"d":"23,535"}},{"v":7.648183556405353,"d":"8"}]
["Bail Violations",8,2011,"Rideau-Goulbourn",21,{"$f":"'2012-2006Pop'!$C$22","v":{"v":23535,"d":"23,535"}},{"v":3.399192691735713,"d":"3"}]
["Uttering Threats or Intimidation",6,2011,"Rideau-Goulbourn",21,{"$f":"'2012-2006Pop'!$C$22","v":{"v":23535,"d":"23,535"}},{"v":2.5493945188017846,"d":"3"}]
["Arson",6,2011,"Rideau-Goulbourn",21,{"$f":"'2012-2006Pop'!$C$22","v":{"v":23535,"d":"23,535"}},{"v":2.5493945188017846,"d":"3"}]
["Other Offences",5,2011,"Rideau-Goulbourn",21,{"$f":"'2012-2006Pop'!$C$22","v":{"v":23535,"d":"23,535"}},{"v":2.1244954323348204,"d":"2"}]
["Threats via the Internet",5,2011,"Rideau-Goulbourn",21,{"$f":"'2012-2006Pop'!$C$22","v":{"v":23535,"d":"23,535"}},{"v":2.1244954323348204,"d":"2"}]
["Robbery",3,2011,"Rideau-Goulbourn",21,{"$f":"'2012-2006Pop'!$C$22","v":{"v":23535,"d":"23,535"}},{"v":1.2746972594008923,"d":"1"}]
["Theft Over $5000",3,2011,"Rideau-Goulbourn",21,{"$f":"'2012-2006Pop'!$C$22","v":{"v":23535,"d":"23,535"}},{"v":1.2746972594008923,"d":"1"}]
["Possession of Stolen Goods",3,2011,"Rideau-Goulbourn",21,{"$f":"'2012-2006Pop'!$C$22","v":{"v":23535,"d":"23,535"}},{"v":1.2746972594008923,"d":"1"}]
["Cocaine",2,2011,"Rideau-Goulbourn",21,{"$f":"'2012-2006Pop'!$C$22","v":{"v":23535,"d":"23,535"}},{"v":0.8497981729339282,"d":"1"}]
["Offensive Weapons",1,2011,"Rideau-Goulbourn",21,{"$f":"'2012-2006Pop'!$C$22","v":{"v":23535,"d":"23,535"}},{"v":0.4248990864669641,"d":"0"}]
["Breach Probation",1,2011,"Rideau-Goulbourn",21,{"$f":"'2012-2006Pop'!$C$22","v":{"v":23535,"d":"23,535"}},{"v":0.4248990864669641,"d":"0"}]
["Dangerous Operation of Motor Vehicle",1,2011,"Rideau-Goulbourn",21,{"$f":"'2012-2006Pop'!$C$22","v":{"v":23535,"d":"23,535"}},{"v":0.4248990864669641,"d":"0"}]
["Driving Motor Vehicle While Prohibited",1,2011,"Rideau-Goulbourn",21,{"$f":"'2012-2006Pop'!$C$22","v":{"v":23535,"d":"23,535"}},{"v":0.4248990864669641,"d":"0"}]
["Homicide (Incidents)",0,2011,"Rideau-Goulbourn",21,{"$f":"'2012-2006Pop'!$C$22","v":{"v":23535,"d":"23,535"}},0]
["Attempted Murder",0,2011,"Rideau-Goulbourn",21,{"$f":"'2012-2006Pop'!$C$22","v":{"v":23535,"d":"23,535"}},0]
["Other Sexual Offences",0,2011,"Rideau-Goulbourn",21,{"$f":"'2012-2006Pop'!$C$22","v":{"v":23535,"d":"23,535"}},0]
["Abduction",0,2011,"Rideau-Goulbourn",21,{"$f":"'2012-2006Pop'!$C$22","v":{"v":23535,"d":"23,535"}},0]
["Counterfeiting Currency",0,2011,"Rideau-Goulbourn",21,{"$f":"'2012-2006Pop'!$C$22","v":{"v":23535,"d":"23,535"}},0]
["Prostitution",0,2011,"Rideau-Goulbourn",21,{"$f":"'2012-2006Pop'!$C$22","v":{"v":23535,"d":"23,535"}},0]
["Other Criminal Code Offences",0,2011,"Rideau-Goulbourn",21,{"$f":"'2012-2006Pop'!$C$22","v":{"v":23535,"d":"23,535"}},0]
["Ecstasy (Methylenedioxyamphetamine )",0,2011,"Rideau-Goulbourn",21,{"$f":"'2012-2006Pop'!$C$22","v":{"v":23535,"d":"23,535"}},0]
["Crystal Meth (Methamphetamine)",0,2011,"Rideau-Goulbourn",21,{"$f":"'2012-2006Pop'!$C$22","v":{"v":23535,"d":"23,535"}},0]
["Heroin",0,2011,"Rideau-Goulbourn",21,{"$f":"'2012-2006Pop'!$C$22","v":{"v":23535,"d":"23,535"}},0]
["Other Controlled Drugs and Substances",0,2011,"Rideau-Goulbourn",21,{"$f":"'2012-2006Pop'!$C$22","v":{"v":23535,"d":"23,535"}},0]
["Theft $5000 and Under",290,2011,"Gloucester-South Nepean",22,{"$f":"'2012-2006Pop'!$C$23","v":{"v":26895,"d":"26,895"}},{"$f":"(B1335/F1335)*10000","v":{"v":107.82673359360477,"d":"108"}}]
["Mischief",99,2011,"Gloucester-South Nepean",22,{"$f":"'2012-2006Pop'!$C$23","v":{"v":26895,"d":"26,895"}},{"$f":"(B1336/F1336)*10000","v":{"v":36.809815950920246,"d":"37"}}]
["Fraud",72,2011,"Gloucester-South Nepean",22,{"$f":"'2012-2006Pop'!$C$23","v":{"v":26895,"d":"26,895"}},{"v":26.770775237032908,"d":"27"}]
["Failure to Stop or Remain",45,2011,"Gloucester-South Nepean",22,{"$f":"'2012-2006Pop'!$C$23","v":{"v":26895,"d":"26,895"}},{"v":16.731734523145565,"d":"17"}]
["Assault (Incl. Sexual Assaults)",38,2011,"Gloucester-South Nepean",22,{"$f":"'2012-2006Pop'!$C$23","v":{"v":26895,"d":"26,895"}},{"v":14.12902026398959,"d":"14"}]
["Break and Enter",38,2011,"Gloucester-South Nepean",22,{"$f":"'2012-2006Pop'!$C$23","v":{"v":26895,"d":"26,895"}},{"v":14.12902026398959,"d":"14"}]
["Other Offences",20,2011,"Gloucester-South Nepean",22,{"$f":"'2012-2006Pop'!$C$23","v":{"v":26895,"d":"26,895"}},{"v":7.436326454731362,"d":"7"}]
["Cannabis",15,2011,"Gloucester-South Nepean",22,{"$f":"'2012-2006Pop'!$C$23","v":{"v":26895,"d":"26,895"}},{"v":5.577244841048523,"d":"6"}]
["Theft - Motor Vehicle",14,2011,"Gloucester-South Nepean",22,{"$f":"'2012-2006Pop'!$C$23","v":{"v":26895,"d":"26,895"}},{"v":5.205428518311954,"d":"5"}]
["Theft Over $5000",11,2011,"Gloucester-South Nepean",22,{"$f":"'2012-2006Pop'!$C$23","v":{"v":26895,"d":"26,895"}},{"v":4.08997955010225,"d":"4"}]
["Robbery",8,2011,"Gloucester-South Nepean",22,{"$f":"'2012-2006Pop'!$C$23","v":{"v":26895,"d":"26,895"}},{"v":2.974530581892545,"d":"3"}]
["Impaired Operation of Vehicle",8,2011,"Gloucester-South Nepean",22,{"$f":"'2012-2006Pop'!$C$23","v":{"v":26895,"d":"26,895"}},{"v":2.974530581892545,"d":"3"}]
["Other Criminal Code Offences",7,2011,"Gloucester-South Nepean",22,{"$f":"'2012-2006Pop'!$C$23","v":{"v":26895,"d":"26,895"}},{"v":2.602714259155977,"d":"3"}]
["Uttering Threats or Intimidation",6,2011,"Gloucester-South Nepean",22,{"$f":"'2012-2006Pop'!$C$23","v":{"v":26895,"d":"26,895"}},{"v":2.230897936419409,"d":"2"}]
["Bail Violations",6,2011,"Gloucester-South Nepean",22,{"$f":"'2012-2006Pop'!$C$23","v":{"v":26895,"d":"26,895"}},{"v":2.230897936419409,"d":"2"}]
["Arson",4,2011,"Gloucester-South Nepean",22,{"$f":"'2012-2006Pop'!$C$23","v":{"v":26895,"d":"26,895"}},{"v":1.4872652909462725,"d":"1"}]
["Possession of Stolen Goods",3,2011,"Gloucester-South Nepean",22,{"$f":"'2012-2006Pop'!$C$23","v":{"v":26895,"d":"26,895"}},{"v":1.1154489682097044,"d":"1"}]
["Dangerous Operation of Motor Vehicle",3,2011,"Gloucester-South Nepean",22,{"$f":"'2012-2006Pop'!$C$23","v":{"v":26895,"d":"26,895"}},{"v":1.1154489682097044,"d":"1"}]
["Other Sexual Offences",2,2011,"Gloucester-South Nepean",22,{"$f":"'2012-2006Pop'!$C$23","v":{"v":26895,"d":"26,895"}},{"v":0.7436326454731362,"d":"1"}]
["Offensive Weapons",2,2011,"Gloucester-South Nepean",22,{"$f":"'2012-2006Pop'!$C$23","v":{"v":26895,"d":"26,895"}},{"v":0.7436326454731362,"d":"1"}]
["Threats via the Internet",2,2011,"Gloucester-South Nepean",22,{"$f":"'2012-2006Pop'!$C$23","v":{"v":26895,"d":"26,895"}},{"v":0.7436326454731362,"d":"1"}]
["Driving Motor Vehicle While Prohibited",2,2011,"Gloucester-South Nepean",22,{"$f":"'2012-2006Pop'!$C$23","v":{"v":26895,"d":"26,895"}},{"v":0.7436326454731362,"d":"1"}]
["Homicide (Incidents)",1,2011,"Gloucester-South Nepean",22,{"$f":"'2012-2006Pop'!$C$23","v":{"v":26895,"d":"26,895"}},{"v":0.3718163227365681,"d":"0"}]
["Ecstasy (Methylenedioxyamphetamine )",1,2011,"Gloucester-South Nepean",22,{"$f":"'2012-2006Pop'!$C$23","v":{"v":26895,"d":"26,895"}},{"v":0.3718163227365681,"d":"0"}]
["Cocaine",1,2011,"Gloucester-South Nepean",22,{"$f":"'2012-2006Pop'!$C$23","v":{"v":26895,"d":"26,895"}},{"v":0.3718163227365681,"d":"0"}]
["Other Controlled Drugs and Substances",1,2011,"Gloucester-South Nepean",22,{"$f":"'2012-2006Pop'!$C$23","v":{"v":26895,"d":"26,895"}},{"v":0.3718163227365681,"d":"0"}]
["Attempted Murder",0,2011,"Gloucester-South Nepean",22,{"$f":"'2012-2006Pop'!$C$23","v":{"v":26895,"d":"26,895"}},0]
["Abduction",0,2011,"Gloucester-South Nepean",22,{"$f":"'2012-2006Pop'!$C$23","v":{"v":26895,"d":"26,895"}},0]
["Counterfeiting Currency",0,2011,"Gloucester-South Nepean",22,{"$f":"'2012-2006Pop'!$C$23","v":{"v":26895,"d":"26,895"}},0]
["Breach Probation",0,2011,"Gloucester-South Nepean",22,{"$f":"'2012-2006Pop'!$C$23","v":{"v":26895,"d":"26,895"}},0]
["Prostitution",0,2011,"Gloucester-South Nepean",22,{"$f":"'2012-2006Pop'!$C$23","v":{"v":26895,"d":"26,895"}},0]
["Other Criminal Code Offences",0,2011,"Gloucester-South Nepean",22,{"$f":"'2012-2006Pop'!$C$23","v":{"v":26895,"d":"26,895"}},0]
["Crystal Meth (Methamphetamine)",0,2011,"Gloucester-South Nepean",22,{"$f":"'2012-2006Pop'!$C$23","v":{"v":26895,"d":"26,895"}},0]
["Heroin",0,2011,"Gloucester-South Nepean",22,{"$f":"'2012-2006Pop'!$C$23","v":{"v":26895,"d":"26,895"}},0]
["Theft $5000 and Under",411,2011,"Kanata South",23,{"$f":"'2012-2006Pop'!$C$24","v":{"v":40480,"d":"40,480"}},{"$f":"(B1369/F1369)*10000","v":{"v":101.53162055335969,"d":"102"}}]
["Mischief",216,2011,"Kanata South",23,{"$f":"'2012-2006Pop'!$C$24","v":{"v":40480,"d":"40,480"}},{"$f":"(B1370/F1370)*10000","v":{"v":53.359683794466406,"d":"53"}}]
["Break and Enter",85,2011,"Kanata South",23,{"$f":"'2012-2006Pop'!$C$24","v":{"v":40480,"d":"40,480"}},{"v":20.99802371541502,"d":"21"}]
["Assault (Incl. Sexual Assaults)",76,2011,"Kanata South",23,{"$f":"'2012-2006Pop'!$C$24","v":{"v":40480,"d":"40,480"}},{"v":18.774703557312254,"d":"19"}]
["Fraud",72,2011,"Kanata South",23,{"$f":"'2012-2006Pop'!$C$24","v":{"v":40480,"d":"40,480"}},{"v":17.786561264822133,"d":"18"}]
["Failure to Stop or Remain",55,2011,"Kanata South",23,{"$f":"'2012-2006Pop'!$C$24","v":{"v":40480,"d":"40,480"}},{"v":13.58695652173913,"d":"14"}]
["Cannabis",42,2011,"Kanata South",23,{"$f":"'2012-2006Pop'!$C$24","v":{"v":40480,"d":"40,480"}},{"v":10.375494071146246,"d":"10"}]
["Theft - Motor Vehicle",35,2011,"Kanata South",23,{"$f":"'2012-2006Pop'!$C$24","v":{"v":40480,"d":"40,480"}},{"v":8.646245059288537,"d":"9"}]
["Other Offences",31,2011,"Kanata South",23,{"$f":"'2012-2006Pop'!$C$24","v":{"v":40480,"d":"40,480"}},{"v":7.658102766798419,"d":"8"}]
["Other Criminal Code Offences",26,2011,"Kanata South",23,{"$f":"'2012-2006Pop'!$C$24","v":{"v":40480,"d":"40,480"}},{"v":6.4229249011857705,"d":"6"}]
["Impaired Operation of Vehicle",26,2011,"Kanata South",23,{"$f":"'2012-2006Pop'!$C$24","v":{"v":40480,"d":"40,480"}},{"v":6.4229249011857705,"d":"6"}]
["Robbery",24,2011,"Kanata South",23,{"$f":"'2012-2006Pop'!$C$24","v":{"v":40480,"d":"40,480"}},{"v":5.928853754940712,"d":"6"}]
["Bail Violations",20,2011,"Kanata South",23,{"$f":"'2012-2006Pop'!$C$24","v":{"v":40480,"d":"40,480"}},{"v":4.940711462450593,"d":"5"}]
["Uttering Threats or Intimidation",12,2011,"Kanata South",23,{"$f":"'2012-2006Pop'!$C$24","v":{"v":40480,"d":"40,480"}},{"v":2.964426877470356,"d":"3"}]
["Threats via the Internet",9,2011,"Kanata South",23,{"$f":"'2012-2006Pop'!$C$24","v":{"v":40480,"d":"40,480"}},{"v":2.2233201581027666,"d":"2"}]
["Possession of Stolen Goods",7,2011,"Kanata South",23,{"$f":"'2012-2006Pop'!$C$24","v":{"v":40480,"d":"40,480"}},{"v":1.7292490118577075,"d":"2"}]
["Other Sexual Offences",4,2011,"Kanata South",23,{"$f":"'2012-2006Pop'!$C$24","v":{"v":40480,"d":"40,480"}},{"v":0.9881422924901185,"d":"1"}]
["Arson",4,2011,"Kanata South",23,{"$f":"'2012-2006Pop'!$C$24","v":{"v":40480,"d":"40,480"}},{"v":0.9881422924901185,"d":"1"}]
["Offensive Weapons",3,2011,"Kanata South",23,{"$f":"'2012-2006Pop'!$C$24","v":{"v":40480,"d":"40,480"}},{"v":0.741106719367589,"d":"1"}]
["Breach Probation",3,2011,"Kanata South",23,{"$f":"'2012-2006Pop'!$C$24","v":{"v":40480,"d":"40,480"}},{"v":0.741106719367589,"d":"1"}]
["Driving Motor Vehicle While Prohibited",3,2011,"Kanata South",23,{"$f":"'2012-2006Pop'!$C$24","v":{"v":40480,"d":"40,480"}},{"v":0.741106719367589,"d":"1"}]
["Cocaine",3,2011,"Kanata South",23,{"$f":"'2012-2006Pop'!$C$24","v":{"v":40480,"d":"40,480"}},{"v":0.741106719367589,"d":"1"}]
["Abduction",2,2011,"Kanata South",23,{"$f":"'2012-2006Pop'!$C$24","v":{"v":40480,"d":"40,480"}},{"v":0.49407114624505927,"d":"0"}]
["Theft Over $5000",2,2011,"Kanata South",23,{"$f":"'2012-2006Pop'!$C$24","v":{"v":40480,"d":"40,480"}},{"v":0.49407114624505927,"d":"0"}]
["Dangerous Operation of Motor Vehicle",2,2011,"Kanata South",23,{"$f":"'2012-2006Pop'!$C$24","v":{"v":40480,"d":"40,480"}},{"v":0.49407114624505927,"d":"0"}]
["Other Controlled Drugs and Substances",2,2011,"Kanata South",23,{"$f":"'2012-2006Pop'!$C$24","v":{"v":40480,"d":"40,480"}},{"v":0.49407114624505927,"d":"0"}]
["Attempted Murder",1,2011,"Kanata South",23,{"$f":"'2012-2006Pop'!$C$24","v":{"v":40480,"d":"40,480"}},{"v":0.24703557312252963,"d":"0"}]
["Counterfeiting Currency",1,2011,"Kanata South",23,{"$f":"'2012-2006Pop'!$C$24","v":{"v":40480,"d":"40,480"}},{"v":0.24703557312252963,"d":"0"}]
["Heroin",1,2011,"Kanata South",23,{"$f":"'2012-2006Pop'!$C$24","v":{"v":40480,"d":"40,480"}},{"v":0.24703557312252963,"d":"0"}]
["Homicide (Incidents)",0,2011,"Kanata South",23,{"$f":"'2012-2006Pop'!$C$24","v":{"v":40480,"d":"40,480"}},0]
["Prostitution",0,2011,"Kanata South",23,{"$f":"'2012-2006Pop'!$C$24","v":{"v":40480,"d":"40,480"}},0]
["Other Criminal Code Offences",0,2011,"Kanata South",23,{"$f":"'2012-2006Pop'!$C$24","v":{"v":40480,"d":"40,480"}},0]
["Ecstasy (Methylenedioxyamphetamine )",0,2011,"Kanata South",23,{"$f":"'2012-2006Pop'!$C$24","v":{"v":40480,"d":"40,480"}},0]
["Crystal Meth (Methamphetamine)",0,2011,"Kanata South",23,{"$f":"'2012-2006Pop'!$C$24","v":{"v":40480,"d":"40,480"}},0]
["Impaired Operation of Vehicle",24,2012,"Cumberland",19,{"$f":"'2012-2006Pop'!$D$20","v":{"v":44400,"d":"44,400"}},{"$f":"(B1403/F1403)*10000","v":{"v":5.405405405405405,"d":"5"}}]
["Cannabis",21,2012,"Cumberland",19,{"$f":"'2012-2006Pop'!$D$20","v":{"v":44400,"d":"44,400"}},{"v":4.72972972972973,"d":"5"}]
["Bail Violations",16,2012,"Cumberland",19,{"$f":"'2012-2006Pop'!$D$20","v":{"v":44400,"d":"44,400"}},{"v":3.6036036036036037,"d":"4"}]
["Robbery",14,2012,"Cumberland",19,{"$f":"'2012-2006Pop'!$D$20","v":{"v":44400,"d":"44,400"}},{"v":3.153153153153153,"d":"3"}]
["Uttering Threats or Intimidation",14,2012,"Cumberland",19,{"$f":"'2012-2006Pop'!$D$20","v":{"v":44400,"d":"44,400"}},{"v":3.153153153153153,"d":"3"}]
["Other Offences",14,2012,"Cumberland",19,{"$f":"'2012-2006Pop'!$D$20","v":{"v":44400,"d":"44,400"}},{"v":3.153153153153153,"d":"3"}]
["Other Criminal Code Offences",14,2012,"Cumberland",19,{"$f":"'2012-2006Pop'!$D$20","v":{"v":44400,"d":"44,400"}},{"v":3.153153153153153,"d":"3"}]
["Theft Over $5000",12,2012,"Cumberland",19,{"$f":"'2012-2006Pop'!$D$20","v":{"v":44400,"d":"44,400"}},{"v":2.7027027027027026,"d":"3"}]
["Arson",9,2012,"Cumberland",19,{"$f":"'2012-2006Pop'!$D$20","v":{"v":44400,"d":"44,400"}},{"v":2.0270270270270268,"d":"2"}]
["Offensive Weapons",4,2012,"Cumberland",19,{"$f":"'2012-2006Pop'!$D$20","v":{"v":44400,"d":"44,400"}},{"v":0.9009009009009009,"d":"1"}]
["Cocaine",4,2012,"Cumberland",19,{"$f":"'2012-2006Pop'!$D$20","v":{"v":44400,"d":"44,400"}},{"v":0.9009009009009009,"d":"1"}]
["Possession of Stolen Goods",3,2012,"Cumberland",19,{"$f":"'2012-2006Pop'!$D$20","v":{"v":44400,"d":"44,400"}},{"v":0.6756756756756757,"d":"1"}]
["Threats via the Internet",3,2012,"Cumberland",19,{"$f":"'2012-2006Pop'!$D$20","v":{"v":44400,"d":"44,400"}},{"v":0.6756756756756757,"d":"1"}]
["Dangerous Operation of Motor Vehicle",3,2012,"Cumberland",19,{"$f":"'2012-2006Pop'!$D$20","v":{"v":44400,"d":"44,400"}},{"v":0.6756756756756757,"d":"1"}]
["Ecstasy (Methylenedioxyamphetamine )",2,2012,"Cumberland",19,{"$f":"'2012-2006Pop'!$D$20","v":{"v":44400,"d":"44,400"}},{"v":0.45045045045045046,"d":"0"}]
["Other Sexual Offences",1,2012,"Cumberland",19,{"$f":"'2012-2006Pop'!$D$20","v":{"v":44400,"d":"44,400"}},{"v":0.22522522522522523,"d":"0"}]
["Abduction",1,2012,"Cumberland",19,{"$f":"'2012-2006Pop'!$D$20","v":{"v":44400,"d":"44,400"}},{"v":0.22522522522522523,"d":"0"}]
["Breach Probation",1,2012,"Cumberland",19,{"$f":"'2012-2006Pop'!$D$20","v":{"v":44400,"d":"44,400"}},{"v":0.22522522522522523,"d":"0"}]
["Homicide (Incidents)",0,2012,"Cumberland",19,{"$f":"'2012-2006Pop'!$D$20","v":{"v":44400,"d":"44,400"}},0]
["Attempted Murder",0,2012,"Cumberland",19,{"$f":"'2012-2006Pop'!$D$20","v":{"v":44400,"d":"44,400"}},0]
["Counterfeiting Currency",0,2012,"Cumberland",19,{"$f":"'2012-2006Pop'!$D$20","v":{"v":44400,"d":"44,400"}},0]
["Prostitution",0,2012,"Cumberland",19,{"$f":"'2012-2006Pop'!$D$20","v":{"v":44400,"d":"44,400"}},0]
["Driving Motor Vehicle While Prohibited",0,2012,"Cumberland",19,{"$f":"'2012-2006Pop'!$D$20","v":{"v":44400,"d":"44,400"}},0]
["Other Criminal Code Offences",0,2012,"Cumberland",19,{"$f":"'2012-2006Pop'!$D$20","v":{"v":44400,"d":"44,400"}},0]
["Crystal Meth (Methamphetamine)",0,2012,"Cumberland",19,{"$f":"'2012-2006Pop'!$D$20","v":{"v":44400,"d":"44,400"}},0]
["Heroin",0,2012,"Cumberland",19,{"$f":"'2012-2006Pop'!$D$20","v":{"v":44400,"d":"44,400"}},0]
["Other Controlled Drugs and Substances",0,2012,"Cumberland",19,{"$f":"'2012-2006Pop'!$D$20","v":{"v":44400,"d":"44,400"}},0]
["Theft $5000 and Under",153,2012,"Osgoode",20,{"$f":"'2012-2006Pop'!$D$21","v":{"v":27000,"d":"27,000"}},{"$f":"(B1430/F1430)*10000","v":{"v":56.66666666666667,"d":"57"}}]
["Break and Enter",103,2012,"Osgoode",20,{"$f":"'2012-2006Pop'!$D$21","v":{"v":27000,"d":"27,000"}},{"$f":"(B1431/F1431)*10000","v":{"v":38.148148148148145,"d":"38"}}]
["Mischief",65,2012,"Osgoode",20,{"$f":"'2012-2006Pop'!$D$21","v":{"v":27000,"d":"27,000"}},{"v":24.074074074074076,"d":"24"}]
["Fraud",51,2012,"Osgoode",20,{"$f":"'2012-2006Pop'!$D$21","v":{"v":27000,"d":"27,000"}},{"v":18.88888888888889,"d":"19"}]
["Theft - Motor Vehicle",46,2012,"Osgoode",20,{"$f":"'2012-2006Pop'!$D$21","v":{"v":27000,"d":"27,000"}},{"v":17.037037037037038,"d":"17"}]
["Assault (Incl. Sexual Assaults)",31,2012,"Osgoode",20,{"$f":"'2012-2006Pop'!$D$21","v":{"v":27000,"d":"27,000"}},{"v":11.481481481481481,"d":"11"}]
["Impaired Operation of Vehicle",22,2012,"Osgoode",20,{"$f":"'2012-2006Pop'!$D$21","v":{"v":27000,"d":"27,000"}},{"v":8.148148148148147,"d":"8"}]
["Cannabis",22,2012,"Osgoode",20,{"$f":"'2012-2006Pop'!$D$21","v":{"v":27000,"d":"27,000"}},{"v":8.148148148148147,"d":"8"}]
["Other Offences",11,2012,"Osgoode",20,{"$f":"'2012-2006Pop'!$D$21","v":{"v":27000,"d":"27,000"}},{"v":4.0740740740740735,"d":"4"}]
["Theft Over $5000",10,2012,"Osgoode",20,{"$f":"'2012-2006Pop'!$D$21","v":{"v":27000,"d":"27,000"}},{"v":3.7037037037037037,"d":"4"}]
["Failure to Stop or Remain",10,2012,"Osgoode",20,{"$f":"'2012-2006Pop'!$D$21","v":{"v":27000,"d":"27,000"}},{"v":3.7037037037037037,"d":"4"}]
["Bail Violations",9,2012,"Osgoode",20,{"$f":"'2012-2006Pop'!$D$21","v":{"v":27000,"d":"27,000"}},{"v":3.333333333333333,"d":"3"}]
["Uttering Threats or Intimidation",5,2012,"Osgoode",20,{"$f":"'2012-2006Pop'!$D$21","v":{"v":27000,"d":"27,000"}},{"v":1.8518518518518519,"d":"2"}]
["Other Criminal Code Offences",5,2012,"Osgoode",20,{"$f":"'2012-2006Pop'!$D$21","v":{"v":27000,"d":"27,000"}},{"v":1.8518518518518519,"d":"2"}]
["Arson",3,2012,"Osgoode",20,{"$f":"'2012-2006Pop'!$D$21","v":{"v":27000,"d":"27,000"}},{"v":1.1111111111111112,"d":"1"}]
["Driving Motor Vehicle While Prohibited",3,2012,"Osgoode",20,{"$f":"'2012-2006Pop'!$D$21","v":{"v":27000,"d":"27,000"}},{"v":1.1111111111111112,"d":"1"}]
["Offensive Weapons",2,2012,"Osgoode",20,{"$f":"'2012-2006Pop'!$D$21","v":{"v":27000,"d":"27,000"}},{"v":0.7407407407407407,"d":"1"}]
["Threats via the Internet",2,2012,"Osgoode",20,{"$f":"'2012-2006Pop'!$D$21","v":{"v":27000,"d":"27,000"}},{"v":0.7407407407407407,"d":"1"}]
["Dangerous Operation of Motor Vehicle",2,2012,"Osgoode",20,{"$f":"'2012-2006Pop'!$D$21","v":{"v":27000,"d":"27,000"}},{"v":0.7407407407407407,"d":"1"}]
["Robbery",1,2012,"Osgoode",20,{"$f":"'2012-2006Pop'!$D$21","v":{"v":27000,"d":"27,000"}},{"v":0.37037037037037035,"d":"0"}]
["Possession of Stolen Goods",1,2012,"Osgoode",20,{"$f":"'2012-2006Pop'!$D$21","v":{"v":27000,"d":"27,000"}},{"v":0.37037037037037035,"d":"0"}]
["Breach Probation",1,2012,"Osgoode",20,{"$f":"'2012-2006Pop'!$D$21","v":{"v":27000,"d":"27,000"}},{"v":0.37037037037037035,"d":"0"}]
["Cocaine",1,2012,"Osgoode",20,{"$f":"'2012-2006Pop'!$D$21","v":{"v":27000,"d":"27,000"}},{"v":0.37037037037037035,"d":"0"}]
["Homicide (Incidents)",0,2012,"Osgoode",20,{"$f":"'2012-2006Pop'!$D$21","v":{"v":27000,"d":"27,000"}},0]
["Attempted Murder",0,2012,"Osgoode",20,{"$f":"'2012-2006Pop'!$D$21","v":{"v":27000,"d":"27,000"}},0]
["Other Sexual Offences",0,2012,"Osgoode",20,{"$f":"'2012-2006Pop'!$D$21","v":{"v":27000,"d":"27,000"}},0]
["Abduction",0,2012,"Osgoode",20,{"$f":"'2012-2006Pop'!$D$21","v":{"v":27000,"d":"27,000"}},0]
["Counterfeiting Currency",0,2012,"Osgoode",20,{"$f":"'2012-2006Pop'!$D$21","v":{"v":27000,"d":"27,000"}},0]
["Prostitution",0,2012,"Osgoode",20,{"$f":"'2012-2006Pop'!$D$21","v":{"v":27000,"d":"27,000"}},0]
["Other Criminal Code Offences",0,2012,"Osgoode",20,{"$f":"'2012-2006Pop'!$D$21","v":{"v":27000,"d":"27,000"}},0]
["Ecstasy (Methylenedioxyamphetamine )",0,2012,"Osgoode",20,{"$f":"'2012-2006Pop'!$D$21","v":{"v":27000,"d":"27,000"}},0]
["Crystal Meth (Methamphetamine)",0,2012,"Osgoode",20,{"$f":"'2012-2006Pop'!$D$21","v":{"v":27000,"d":"27,000"}},0]
["Heroin",0,2012,"Osgoode",20,{"$f":"'2012-2006Pop'!$D$21","v":{"v":27000,"d":"27,000"}},0]
["Other Controlled Drugs and Substances",0,2012,"Osgoode",20,{"$f":"'2012-2006Pop'!$D$21","v":{"v":27000,"d":"27,000"}}]
["Theft $5000 and Under",213,2012,"Rideau-Goulbourn",21,{"$f":"'2012-2006Pop'!$D$22","v":{"v":27000,"d":"27,000"}},{"$f":"(B1464/F1464)*10000","v":{"v":78.8888888888889,"d":"79"}}]
["Mischief",88,2012,"Rideau-Goulbourn",21,{"$f":"'2012-2006Pop'!$D$22","v":{"v":27000,"d":"27,000"}},{"$f":"(B1465/F1465)*10000","v":{"v":32.59259259259259,"d":"33"}}]
["Break and Enter",78,2012,"Rideau-Goulbourn",21,{"$f":"'2012-2006Pop'!$D$22","v":{"v":27000,"d":"27,000"}},{"v":28.88888888888889,"d":"29"}]
["Fraud",34,2012,"Rideau-Goulbourn",21,{"$f":"'2012-2006Pop'!$D$22","v":{"v":27000,"d":"27,000"}},{"v":12.592592592592592,"d":"13"}]
["Assault (Incl. Sexual Assaults)",28,2012,"Rideau-Goulbourn",21,{"$f":"'2012-2006Pop'!$D$22","v":{"v":27000,"d":"27,000"}},{"v":10.37037037037037,"d":"10"}]
["Theft - Motor Vehicle",28,2012,"Rideau-Goulbourn",21,{"$f":"'2012-2006Pop'!$D$22","v":{"v":27000,"d":"27,000"}},{"v":10.37037037037037,"d":"10"}]
["Failure to Stop or Remain",25,2012,"Rideau-Goulbourn",21,{"$f":"'2012-2006Pop'!$D$22","v":{"v":27000,"d":"27,000"}},{"v":9.25925925925926,"d":"9"}]
["Impaired Operation of Vehicle",19,2012,"Rideau-Goulbourn",21,{"$f":"'2012-2006Pop'!$D$22","v":{"v":27000,"d":"27,000"}},{"v":7.037037037037036,"d":"7"}]
["Cannabis",19,2012,"Rideau-Goulbourn",21,{"$f":"'2012-2006Pop'!$D$22","v":{"v":27000,"d":"27,000"}},{"v":7.037037037037036,"d":"7"}]
["Other Criminal Code Offences",9,2012,"Rideau-Goulbourn",21,{"$f":"'2012-2006Pop'!$D$22","v":{"v":27000,"d":"27,000"}},{"v":3.333333333333333,"d":"3"}]
["Other Offences",7,2012,"Rideau-Goulbourn",21,{"$f":"'2012-2006Pop'!$D$22","v":{"v":27000,"d":"27,000"}},{"v":2.5925925925925926,"d":"3"}]
["Arson",7,2012,"Rideau-Goulbourn",21,{"$f":"'2012-2006Pop'!$D$22","v":{"v":27000,"d":"27,000"}},{"v":2.5925925925925926,"d":"3"}]
["Bail Violations",6,2012,"Rideau-Goulbourn",21,{"$f":"'2012-2006Pop'!$D$22","v":{"v":27000,"d":"27,000"}},{"v":2.2222222222222223,"d":"2"}]
["Uttering Threats or Intimidation",5,2012,"Rideau-Goulbourn",21,{"$f":"'2012-2006Pop'!$D$22","v":{"v":27000,"d":"27,000"}},{"v":1.8518518518518519,"d":"2"}]
["Possession of Stolen Goods",4,2012,"Rideau-Goulbourn",21,{"$f":"'2012-2006Pop'!$D$22","v":{"v":27000,"d":"27,000"}},{"v":1.4814814814814814,"d":"1"}]
["Offensive Weapons",4,2012,"Rideau-Goulbourn",21,{"$f":"'2012-2006Pop'!$D$22","v":{"v":27000,"d":"27,000"}},{"v":1.4814814814814814,"d":"1"}]
["Theft Over $5000",3,2012,"Rideau-Goulbourn",21,{"$f":"'2012-2006Pop'!$D$22","v":{"v":27000,"d":"27,000"}},{"v":1.1111111111111112,"d":"1"}]
["Other Sexual Offences",2,2012,"Rideau-Goulbourn",21,{"$f":"'2012-2006Pop'!$D$22","v":{"v":27000,"d":"27,000"}},{"v":0.7407407407407407,"d":"1"}]
["Dangerous Operation of Motor Vehicle",2,2012,"Rideau-Goulbourn",21,{"$f":"'2012-2006Pop'!$D$22","v":{"v":27000,"d":"27,000"}},{"v":0.7407407407407407,"d":"1"}]
["Driving Motor Vehicle While Prohibited",2,2012,"Rideau-Goulbourn",21,{"$f":"'2012-2006Pop'!$D$22","v":{"v":27000,"d":"27,000"}},{"v":0.7407407407407407,"d":"1"}]
["Robbery",1,2012,"Rideau-Goulbourn",21,{"$f":"'2012-2006Pop'!$D$22","v":{"v":27000,"d":"27,000"}},{"v":0.37037037037037035,"d":"0"}]
["Counterfeiting Currency",1,2012,"Rideau-Goulbourn",21,{"$f":"'2012-2006Pop'!$D$22","v":{"v":27000,"d":"27,000"}},{"v":0.37037037037037035,"d":"0"}]
["Breach Probation",1,2012,"Rideau-Goulbourn",21,{"$f":"'2012-2006Pop'!$D$22","v":{"v":27000,"d":"27,000"}},{"v":0.37037037037037035,"d":"0"}]
["Homicide (Incidents)",0,2012,"Rideau-Goulbourn",21,{"$f":"'2012-2006Pop'!$D$22","v":{"v":27000,"d":"27,000"}},0]
["Attempted Murder",0,2012,"Rideau-Goulbourn",21,{"$f":"'2012-2006Pop'!$D$22","v":{"v":27000,"d":"27,000"}},0]
["Abduction",0,2012,"Rideau-Goulbourn",21,{"$f":"'2012-2006Pop'!$D$22","v":{"v":27000,"d":"27,000"}},0]
["Threats via the Internet",0,2012,"Rideau-Goulbourn",21,{"$f":"'2012-2006Pop'!$D$22","v":{"v":27000,"d":"27,000"}},0]
["Prostitution",0,2012,"Rideau-Goulbourn",21,{"$f":"'2012-2006Pop'!$D$22","v":{"v":27000,"d":"27,000"}},0]
["Other Criminal Code Offences",0,2012,"Rideau-Goulbourn",21,{"$f":"'2012-2006Pop'!$D$22","v":{"v":27000,"d":"27,000"}},0]
["Ecstasy (Methylenedioxyamphetamine )",0,2012,"Rideau-Goulbourn",21,{"$f":"'2012-2006Pop'!$D$22","v":{"v":27000,"d":"27,000"}},0]
["Crystal Meth (Methamphetamine)",0,2012,"Rideau-Goulbourn",21,{"$f":"'2012-2006Pop'!$D$22","v":{"v":27000,"d":"27,000"}},0]
["Heroin",0,2012,"Rideau-Goulbourn",21,{"$f":"'2012-2006Pop'!$D$22","v":{"v":27000,"d":"27,000"}},0]
["Cocaine",0,2012,"Rideau-Goulbourn",21,{"$f":"'2012-2006Pop'!$D$22","v":{"v":27000,"d":"27,000"}},0]
["Other Controlled Drugs and Substances",0,2012,"Rideau-Goulbourn",21,{"$f":"'2012-2006Pop'!$D$22","v":{"v":27000,"d":"27,000"}},0]
["Theft $5000 and Under",253,2012,"Gloucester-South Nepean",22,{"$f":"'2012-2006Pop'!$D$23","v":{"v":43250,"d":"43,250"}},{"$f":"(B1498/F1498)*10000","v":{"v":58.49710982658959,"d":"58"}}]
["Mischief",123,2012,"Gloucester-South Nepean",22,{"$f":"'2012-2006Pop'!$D$23","v":{"v":43250,"d":"43,250"}},{"$f":"(B1499/F1499)*10000","v":{"v":28.4393063583815,"d":"28"}}]
["Break and Enter",78,2012,"Gloucester-South Nepean",22,{"$f":"'2012-2006Pop'!$D$23","v":{"v":43250,"d":"43,250"}},{"v":18.034682080924856,"d":"18"}]
["Fraud",65,2012,"Gloucester-South Nepean",22,{"$f":"'2012-2006Pop'!$D$23","v":{"v":43250,"d":"43,250"}},{"v":15.028901734104045,"d":"15"}]
["Failure to Stop or Remain",49,2012,"Gloucester-South Nepean",22,{"$f":"'2012-2006Pop'!$D$23","v":{"v":43250,"d":"43,250"}},{"v":11.329479768786127,"d":"11"}]
["Assault (Incl. Sexual Assaults)",38,2012,"Gloucester-South Nepean",22,{"$f":"'2012-2006Pop'!$D$23","v":{"v":43250,"d":"43,250"}},{"v":8.786127167630058,"d":"9"}]
["Theft - Motor Vehicle",19,2012,"Gloucester-South Nepean",22,{"$f":"'2012-2006Pop'!$D$23","v":{"v":43250,"d":"43,250"}},{"v":4.393063583815029,"d":"4"}]
["Cannabis",17,2012,"Gloucester-South Nepean",22,{"$f":"'2012-2006Pop'!$D$23","v":{"v":43250,"d":"43,250"}},{"v":3.930635838150289,"d":"4"}]
["Impaired Operation of Vehicle",14,2012,"Gloucester-South Nepean",22,{"$f":"'2012-2006Pop'!$D$23","v":{"v":43250,"d":"43,250"}},{"v":3.2369942196531793,"d":"3"}]
["Other Offences",13,2012,"Gloucester-South Nepean",22,{"$f":"'2012-2006Pop'!$D$23","v":{"v":43250,"d":"43,250"}},{"v":3.005780346820809,"d":"3"}]
["Other Criminal Code Offences",13,2012,"Gloucester-South Nepean",22,{"$f":"'2012-2006Pop'!$D$23","v":{"v":43250,"d":"43,250"}},{"v":3.005780346820809,"d":"3"}]
["Uttering Threats or Intimidation",5,2012,"Gloucester-South Nepean",22,{"$f":"'2012-2006Pop'!$D$23","v":{"v":43250,"d":"43,250"}},{"v":1.1560693641618496,"d":"1"}]
["Theft Over $5000",5,2012,"Gloucester-South Nepean",22,{"$f":"'2012-2006Pop'!$D$23","v":{"v":43250,"d":"43,250"}},{"v":1.1560693641618496,"d":"1"}]
["Bail Violations",5,2012,"Gloucester-South Nepean",22,{"$f":"'2012-2006Pop'!$D$23","v":{"v":43250,"d":"43,250"}},{"v":1.1560693641618496,"d":"1"}]
["Robbery",4,2012,"Gloucester-South Nepean",22,{"$f":"'2012-2006Pop'!$D$23","v":{"v":43250,"d":"43,250"}},{"v":0.9248554913294799,"d":"1"}]
["Arson",4,2012,"Gloucester-South Nepean",22,{"$f":"'2012-2006Pop'!$D$23","v":{"v":43250,"d":"43,250"}},{"v":0.9248554913294799,"d":"1"}]
["Offensive Weapons",4,2012,"Gloucester-South Nepean",22,{"$f":"'2012-2006Pop'!$D$23","v":{"v":43250,"d":"43,250"}},{"v":0.9248554913294799,"d":"1"}]
["Breach Probation",3,2012,"Gloucester-South Nepean",22,{"$f":"'2012-2006Pop'!$D$23","v":{"v":43250,"d":"43,250"}},{"v":0.6936416184971098,"d":"1"}]
["Possession of Stolen Goods",2,2012,"Gloucester-South Nepean",22,{"$f":"'2012-2006Pop'!$D$23","v":{"v":43250,"d":"43,250"}},{"v":0.46242774566473993,"d":"0"}]
["Counterfeiting Currency",2,2012,"Gloucester-South Nepean",22,{"$f":"'2012-2006Pop'!$D$23","v":{"v":43250,"d":"43,250"}},{"v":0.46242774566473993,"d":"0"}]
["Cocaine",2,2012,"Gloucester-South Nepean",22,{"$f":"'2012-2006Pop'!$D$23","v":{"v":43250,"d":"43,250"}},{"v":0.46242774566473993,"d":"0"}]
["Attempted Murder",1,2012,"Gloucester-South Nepean",22,{"$f":"'2012-2006Pop'!$D$23","v":{"v":43250,"d":"43,250"}},{"v":0.23121387283236997,"d":"0"}]
["Other Sexual Offences",1,2012,"Gloucester-South Nepean",22,{"$f":"'2012-2006Pop'!$D$23","v":{"v":43250,"d":"43,250"}},{"v":0.23121387283236997,"d":"0"}]
["Threats via the Internet",1,2012,"Gloucester-South Nepean",22,{"$f":"'2012-2006Pop'!$D$23","v":{"v":43250,"d":"43,250"}},{"v":0.23121387283236997,"d":"0"}]
["Dangerous Operation of Motor Vehicle",1,2012,"Gloucester-South Nepean",22,{"$f":"'2012-2006Pop'!$D$23","v":{"v":43250,"d":"43,250"}},{"v":0.23121387283236997,"d":"0"}]
["Homicide (Incidents)",0,2012,"Gloucester-South Nepean",22,{"$f":"'2012-2006Pop'!$D$23","v":{"v":43250,"d":"43,250"}},0]
["Abduction",0,2012,"Gloucester-South Nepean",22,{"$f":"'2012-2006Pop'!$D$23","v":{"v":43250,"d":"43,250"}},0]
["Prostitution",0,2012,"Gloucester-South Nepean",22,{"$f":"'2012-2006Pop'!$D$23","v":{"v":43250,"d":"43,250"}},0]
["Driving Motor Vehicle While Prohibited",0,2012,"Gloucester-South Nepean",22,{"$f":"'2012-2006Pop'!$D$23","v":{"v":43250,"d":"43,250"}},0]
["Other Criminal Code Offences",0,2012,"Gloucester-South Nepean",22,{"$f":"'2012-2006Pop'!$D$23","v":{"v":43250,"d":"43,250"}},0]
["Ecstasy (Methylenedioxyamphetamine )",0,2012,"Gloucester-South Nepean",22,{"$f":"'2012-2006Pop'!$D$23","v":{"v":43250,"d":"43,250"}},0]
["Crystal Meth (Methamphetamine)",0,2012,"Gloucester-South Nepean",22,{"$f":"'2012-2006Pop'!$D$23","v":{"v":43250,"d":"43,250"}},0]
["Heroin",0,2012,"Gloucester-South Nepean",22,{"$f":"'2012-2006Pop'!$D$23","v":{"v":43250,"d":"43,250"}},0]
["Other Controlled Drugs and Substances",0,2012,"Gloucester-South Nepean",22,{"$f":"'2012-2006Pop'!$D$23","v":{"v":43250,"d":"43,250"}},0]
["Theft $5000 and Under",431,2012,"Kanata South",23,{"$f":"'2012-2006Pop'!$D$24","v":{"v":45550,"d":"45,550"}},{"$f":"(B1532/F1532)*10000","v":{"v":94.62129527991218,"d":"95"}}]
["Mischief",238,2012,"Kanata South",23,{"$f":"'2012-2006Pop'!$D$24","v":{"v":45550,"d":"45,550"}},{"$f":"(B1533/F1533)*10000","v":{"v":52.25027442371021,"d":"52"}}]
["Fraud",117,2012,"Kanata South",23,{"$f":"'2012-2006Pop'!$D$24","v":{"v":45550,"d":"45,550"}},{"v":25.686059275521405,"d":"26"}]
["Break and Enter",69,2012,"Kanata South",23,{"$f":"'2012-2006Pop'!$D$24","v":{"v":45550,"d":"45,550"}},{"v":15.148188803512625,"d":"15"}]
["Assault (Incl. Sexual Assaults)",64,2012,"Kanata South",23,{"$f":"'2012-2006Pop'!$D$24","v":{"v":45550,"d":"45,550"}},{"v":14.050493962678376,"d":"14"}]
["Failure to Stop or Remain",50,2012,"Kanata South",23,{"$f":"'2012-2006Pop'!$D$24","v":{"v":45550,"d":"45,550"}},{"v":10.976948408342482,"d":"11"}]
["Cannabis",40,2012,"Kanata South",23,{"$f":"'2012-2006Pop'!$D$24","v":{"v":45550,"d":"45,550"}},{"v":8.781558726673984,"d":"9"}]
["Theft - Motor Vehicle",39,2012,"Kanata South",23,{"$f":"'2012-2006Pop'!$D$24","v":{"v":45550,"d":"45,550"}},{"v":8.562019758507136,"d":"9"}]
["Impaired Operation of Vehicle",30,2012,"Kanata South",23,{"$f":"'2012-2006Pop'!$D$24","v":{"v":45550,"d":"45,550"}},{"v":6.586169045005489,"d":"7"}]
["Uttering Threats or Intimidation",25,2012,"Kanata South",23,{"$f":"'2012-2006Pop'!$D$24","v":{"v":45550,"d":"45,550"}},{"v":5.488474204171241,"d":"5"}]
["Other Offences",21,2012,"Kanata South",23,{"$f":"'2012-2006Pop'!$D$24","v":{"v":45550,"d":"45,550"}},{"v":4.610318331503842,"d":"5"}]
["Bail Violations",18,2012,"Kanata South",23,{"$f":"'2012-2006Pop'!$D$24","v":{"v":45550,"d":"45,550"}},{"v":3.9517014270032926,"d":"4"}]
["Robbery",16,2012,"Kanata South",23,{"$f":"'2012-2006Pop'!$D$24","v":{"v":45550,"d":"45,550"}},{"v":3.512623490669594,"d":"4"}]
["Other Criminal Code Offences",12,2012,"Kanata South",23,{"$f":"'2012-2006Pop'!$D$24","v":{"v":45550,"d":"45,550"}},{"v":2.6344676180021955,"d":"3"}]
["Arson",9,2012,"Kanata South",23,{"$f":"'2012-2006Pop'!$D$24","v":{"v":45550,"d":"45,550"}},{"v":1.9758507135016463,"d":"2"}]
["Possession of Stolen Goods",8,2012,"Kanata South",23,{"$f":"'2012-2006Pop'!$D$24","v":{"v":45550,"d":"45,550"}},{"v":1.756311745334797,"d":"2"}]
["Threats via the Internet",5,2012,"Kanata South",23,{"$f":"'2012-2006Pop'!$D$24","v":{"v":45550,"d":"45,550"}},{"v":1.097694840834248,"d":"1"}]
["Offensive Weapons",4,2012,"Kanata South",23,{"$f":"'2012-2006Pop'!$D$24","v":{"v":45550,"d":"45,550"}},{"v":0.8781558726673985,"d":"1"}]
["Other Sexual Offences",2,2012,"Kanata South",23,{"$f":"'2012-2006Pop'!$D$24","v":{"v":45550,"d":"45,550"}},{"v":0.43907793633369924,"d":"0"}]
["Abduction",2,2012,"Kanata South",23,{"$f":"'2012-2006Pop'!$D$24","v":{"v":45550,"d":"45,550"}},{"v":0.43907793633369924,"d":"0"}]
["Theft Over $5000",2,2012,"Kanata South",23,{"$f":"'2012-2006Pop'!$D$24","v":{"v":45550,"d":"45,550"}},{"v":0.43907793633369924,"d":"0"}]
["Driving Motor Vehicle While Prohibited",2,2012,"Kanata South",23,{"$f":"'2012-2006Pop'!$D$24","v":{"v":45550,"d":"45,550"}},{"v":0.43907793633369924,"d":"0"}]
["Counterfeiting Currency",1,2012,"Kanata South",23,{"$f":"'2012-2006Pop'!$D$24","v":{"v":45550,"d":"45,550"}},{"v":0.21953896816684962,"d":"0"}]
["Breach Probation",1,2012,"Kanata South",23,{"$f":"'2012-2006Pop'!$D$24","v":{"v":45550,"d":"45,550"}},{"v":0.21953896816684962,"d":"0"}]
["Dangerous Operation of Motor Vehicle",1,2012,"Kanata South",23,{"$f":"'2012-2006Pop'!$D$24","v":{"v":45550,"d":"45,550"}},{"v":0.21953896816684962,"d":"0"}]
["Cocaine",1,2012,"Kanata South",23,{"$f":"'2012-2006Pop'!$D$24","v":{"v":45550,"d":"45,550"}},{"v":0.21953896816684962,"d":"0"}]
["Homicide (Incidents)",0,2012,"Kanata South",23,{"$f":"'2012-2006Pop'!$D$24","v":{"v":45550,"d":"45,550"}},0]
["Attempted Murder",0,2012,"Kanata South",23,{"$f":"'2012-2006Pop'!$D$24","v":{"v":45550,"d":"45,550"}},0]
["Prostitution",0,2012,"Kanata South",23,{"$f":"'2012-2006Pop'!$D$24","v":{"v":45550,"d":"45,550"}},0]
["Other Criminal Code Offences",0,2012,"Kanata South",23,{"$f":"'2012-2006Pop'!$D$24","v":{"v":45550,"d":"45,550"}},0]
["Ecstasy (Methylenedioxyamphetamine )",0,2012,"Kanata South",23,{"$f":"'2012-2006Pop'!$D$24","v":{"v":45550,"d":"45,550"}},0]
["Crystal Meth (Methamphetamine)",0,2012,"Kanata South",23,{"$f":"'2012-2006Pop'!$D$24","v":{"v":45550,"d":"45,550"}},0]
["Heroin",0,2012,"Kanata South",23,{"$f":"'2012-2006Pop'!$D$24","v":{"v":45550,"d":"45,550"}},0]
["Other Controlled Drugs and Substances",0,2012,"Kanata South",23,{"$f":"'2012-2006Pop'!$D$24","v":{"v":45550,"d":"45,550"}},0]