Workbook
Name grandTotal: PortalData!$G$19
Name year0: PortalData!$B$5:$N$5
Name year1: PortalData!$B$6:$N$6

Sheet PortalData
B2: Arrivals by Month
B4: Year | C4: Jan | D4: Feb | E4: Mar | F4: Apr | G4: May | H4: Jun | I4: Jul | J4: Aug | K4: Sep | L4: Oct | M4: Nov | N4: Dec
B5: 2014 | C5: 3270 | D5: 4360 | E5: 7280 | F5: 17090 | G5: 16630 | H5: 26220 | I5: 11
B6: 2015 | C6: 5580 | D6: 7370 | E6: 10280 | F6: 29810 | G6: 40340 | H6: 43460
B8: Instructions | C8: This chart only shows two years.
B11: Total Arrivals by Country
B13: Country | C13: ISO3 | D13: Latitude | E13: Longitude | F13: Date | G13: Arrivals
B14: Greece | C14: GRC | F14: 41710 | G14: 120000
B15: Italy | C15: ITA | F15: 41711 | G15: 50000
B16: Malta | C16: MLT | F16: 41712 | G16: 12000
B17: Spain | C17: ESP | F17: 41713 | G17: 40000
F19: Grand total | G19: =SUM(G14:G17) -> 222000

Sheet MonthlyArrivalsByCountry
A1: Arrivals by Country
A2: Country totals are generated by summing up the arriavls by month, since January 2014. Some countries opt to enter figures by country and figures by locaiton independently - and totals are entered manually. Other countries opt to enter figures at the locaiton level and calculate country totals automatically.
F3: 2016
A4: Country | B4: Data Entry | C4: Lat | D4: Lon | E4: Last Updated | F4: Total | G4: Jan-14 | H4: Feb-14 | I4: Mar-14 | J4: Apr-14 | K4: May-14 | L4: Jun-14 | M4: Jul-14 | N4: Aug-14 | O4: Sep-14 | P4: Oct-14 | Q4: Nov-14 | R4: Dec-14 | S4: Jan-15 | T4: Feb-15 | U4: Mar-15 | V4: Apr-15 | W4: May-15 | X4: Jun-15 | Y4: Jul-15 | Z4: Aug-15 | AA4: Sep-15 | AB4: Oct-15 | AC4: Nov-15 | AD4: Dec-15 | AE4: Jan-16 | AF4: Feb-16 | AG4: Mar-16 | AH4: Apr-16 | AI4: May-16 | AJ4: Jun-16 | AK4: Jul-16 | AL4: Aug-16 | AM4: Sep-16 | AN4: Oct-16 | AO4: Nov-16 | AP4: Dec-16 | AQ4: Jan-17 | AR4: Feb-17 | AS4: Mar-17 | AT4: Apr-17 | AU4: May-17 | AV4: Jun-17 | AW4: Jul-17 | AX4: Aug-17 | AY4: Sep-17 | AZ4: Oct-17 | BA4: Nov-17 | BB4: Dec-17 | BC4: Jan-18 | BD4: Feb-18 | BE4: Mar-18 | BF4: Apr-18 | BG4: May-18 | BH4: Jun-18 | BI4: Jul-18 | BJ4: Aug-18 | BK4: Sep-18 | BL4: Oct-18 | BM4: Nov-18 | BN4: Dec-18 | BO4: Jan-19 | BP4: Feb-19 | BQ4: Mar-19 | BR4: Apr-19 | BS4: May-19 | BT4: Jun-19 | BU4: Jul-19 | BV4: Aug-19 | BW4: Sep-19 | BX4: Oct-19 | BY4: Nov-19 | BZ4: Dec-19
A5: Cyprus | B5: manual | C5: 35.0445 | D5: 33.2193 | E5: 42370 | F5: =SUM(MonthlyArrivalsByCountry!$AE5:$AP5) -> 0 | G5: 0 | H5: 0 | I5: 0 | J5: 0 | K5: 0 | L5: 0 | M5: 0 | N5: 0 | O5: 0 | P5: 0 | Q5: 0 | R5: 0 | S5: 0 | T5: 0 | U5: 0 | V5: 0 | W5: 0 | X5: 0 | Y5: 0 | Z5: 0 | AA5: 0 | AB5: 0 | AC5: 0 | AD5: 0 | AE5: 0 | AF5: 0 | AG5: 0 | AH5: 0 | AI5: 0 | AJ5: 0
A6: Greece | B6: calculated | C6: 38.81 | D6: 23.21 | E6: 42634 | F6: =SUM(MonthlyArrivalsByCountry!$AE6:$AP6) -> 166070 | G6: =SUMIF(#REF!, $A6,#REF!) -> #REF! | H6: =SUMIF(#REF!, $A6,#REF!) -> #REF! | I6: =SUMIF(#REF!, $A6,#REF!) -> #REF! | J6: =SUMIF(#REF!, $A6,#REF!) -> #REF! | K6: =SUMIF(#REF!, $A6,#REF!) -> #REF! | L6: =SUMIF(#REF!, $A6,#REF!) -> #REF! | M6: =SUMIF(#REF!, $A6,#REF!) -> #REF! | N6: =SUMIF(#REF!, $A6,#REF!) -> #REF! | ... Y6: =SUMIF(#REF!, $A6,#REF!) -> #REF! | Z6: 107843 | AA6: 147123 | AB6: 211663 | AC6: 151249 | AD6: 108742 | AE6: 67415 | AF6: 57066 | AG6: 26971 | AH6: 3650 | AI6: 1721 | AJ6: 1554 | AK6: 1920 | AL6: 3447 | AM6: 2326 | AQ6: =SUMIF(#REF!, $A6,#REF!) -> #REF! | AR6: =SUMIF(#REF!, $A6,#REF!) -> #REF! | AS6: =SUMIF(#REF!, $A6,#REF!) -> #REF! | AT6: =SUMIF(#REF!, $A6,#REF!) -> #REF! | AU6: =SUMIF(#REF!, $A6,#REF!) -> #REF! | AV6: =SUMIF(#REF!, $A6,#REF!) -> #REF! | AW6: =SUMIF(#REF!, $A6,#REF!) -> #REF! | AX6: =SUMIF(#REF!, $A6,#REF!) -> #REF! | ... BZ6: =SUMIF(#REF!, $A6,#REF!) -> #REF!
A7: Italy | B7: manual | C7: 41.57 | D7: 14.6 | E7: 42634 | F7: =SUM(MonthlyArrivalsByCountry!$AE7:$AP7) -> 130458 | G7: 2171 | H7: 3335 | I7: 5459 | J7: 15679 | K7: 14599 | L7: 22641 | M7: 24031 | N7: 24774 | O7: 26107 | P7: 15277 | Q7: 9295 | R7: 6732 | S7: 3528 | T7: 4354 | U7: 2283 | V7: 16063 | W7: 21235 | X7: 22891 | Y7: 23186 | Z7: 22609 | AA7: 15922 | AB7: 8916 | AC7: 3218 | AD7: 9637 | AE7: 5273 | AF7: 3828 | AG7: 9676 | AH7: 9149 | AI7: 19925 | AJ7: 22371 | AK7: 23552 | AL7: 21294 | AM7: 15390
A8: Malta | B8: manual | C8: 35.8833 | D8: 14.5 | E8: 42551 | F8: =SUM(MonthlyArrivalsByCountry!$AE8:$AP8) -> 0 | G8: 0 | H8: 0 | I8: 91 | J8: 0 | K8: 0 | L8: 136 | M8: 81 | N8: 257 | O8: 3 | P8: 0 | Q8: 0 | R8: 0 | S8: 87 | T8: 0 | U8: 0 | V8: 5 | W8: 0 | X8: 2 | Y8: 2 | Z8: 2 | AA8: 7 | AB8: 0 | AC8: 0 | AD8: 0 | AE8: 0 | AF8: 0 | AG8: 0 | AH8: 0 | AI8: 0 | AJ8: 0
A9: Spain | B9: calculated | C9: 40.4169 | D9: -3.7036 | E9: 42551 | F9: =SUM(MonthlyArrivalsByCountry!$AE9:$AP9) -> #REF! | G9: =SUMIF(#REF!, $A9,#REF!) -> #REF! | H9: =SUMIF(#REF!, $A9,#REF!) -> #REF! | I9: =SUMIF(#REF!, $A9,#REF!) -> #REF! | J9: =SUMIF(#REF!, $A9,#REF!) -> #REF! | K9: =SUMIF(#REF!, $A9,#REF!) -> #REF! | L9: =SUMIF(#REF!, $A9,#REF!) -> #REF! | M9: =SUMIF(#REF!, $A9,#REF!) -> #REF! | N9: =SUMIF(#REF!, $A9,#REF!) -> #REF! | ... AE9: =SUMIF(#REF!, $A9,#REF!) -> #REF! | AF9: 180 | AG9: =SUMIF(#REF!, $A9,#REF!) -> #REF! | AH9: =SUMIF(#REF!, $A9,#REF!) -> #REF! | AI9: =SUMIF(#REF!, $A9,#REF!) -> #REF! | AJ9: =SUMIF(#REF!, $A9,#REF!) -> #REF! | AK9: =SUMIF(#REF!, $A9,#REF!) -> #REF! | AL9: =SUMIF(#REF!, $A9,#REF!) -> #REF! | AM9: =SUMIF(#REF!, $A9,#REF!) -> #REF! | AN9: =SUMIF(#REF!, $A9,#REF!) -> #REF! | ... BZ9: =SUMIF(#REF!, $A9,#REF!) -> #REF!
A10: Total | F10: =SUM(F5:F9) -> #REF! | G10: =SUM(G5:G9) -> #REF! | H10: =SUM(H5:H9) -> #REF! | I10: =SUM(I5:I9) -> #REF! | J10: =SUM(J5:J9) -> #REF! | K10: =SUM(K5:K9) -> #REF! | L10: =SUM(L5:L9) -> #REF! | M10: =SUM(M5:M9) -> #REF! | ... BZ10: =SUM(BZ5:BZ9) -> #REF!
D96: 272016

Sheet ARRIVALS - 2015-16
A1: Data obtained through UNHCR's data portal: http://data.unhcr.org/mediterranean/regional.php
A2: Arrivals by Country | F2: 2016 total
A3: Country | B3: Location | C3: Lat | D3: Lon | E3: Last Updated | F3: Total | G3: Jan-14 | H3: Feb-14 | I3: Mar-14 | J3: Apr-14 | K3: May-14 | L3: Jun-14 | M3: Jul-14 | N3: Aug-14 | O3: Sep-14 | P3: Oct-14 | Q3: Nov-14 | R3: Dec-14 | S3: Jan-15 | T3: Feb-15 | U3: Mar-15 | V3: Apr-15 | W3: May-15 | X3: Jun-15 | Y3: Jul-15 | Z3: Aug-15 | AA3: Sep-15 | AB3: Oct-15 | AC3: Nov-15 | AD3: Dec-15 | AE3: Jan-16 | AF3: Feb-16 | AG3: Mar-16 | AH3: Apr-16 | AI3: May-16 | AJ3: Jun-16 | AK3: Jul-16 | AL3: Aug-16 | AM3: Sep-16 | AN3: Oct-16 | AO3: Nov-16 | AP3: Dec-16 | AQ3: Jan-17 | AR3: Feb-17 | AS3: Mar-17 | AT3: Apr-17 | AU3: May-17 | AV3: Jun-17 | AW3: Jul-17 | AX3: Aug-17 | AY3: Sep-17 | AZ3: Oct-17 | BA3: Nov-17 | BB3: Dec-17 | BC3: Jan-18 | BD3: Feb-18 | BE3: Mar-18 | BF3: Apr-18 | BG3: May-18 | BH3: Jun-18 | BI3: Jul-18 | BJ3: Aug-18 | BK3: Sep-18 | BL3: Oct-18 | BM3: Nov-18 | BN3: Dec-18 | BO3: Jan-19 | BP3: Feb-19 | BQ3: Mar-19 | BR3: Apr-19 | BS3: May-19 | BT3: Jun-19 | BU3: Jul-19 | BV3: Aug-19 | BW3: Sep-19 | BX3: Oct-19 | BY3: Nov-19 | BZ3: Dec-19
A4: Italy | B4: Calabria | C4: 39 | D4: 16.5 | E4: 42634 | F4: =SUM(AE4:AP4) -> 21657 | G4: 24 | H4: 0 | I4: 146 | J4: 380 | K4: 193 | L4: 1022 | M4: 3081 | N4: 6408 | O4: 6320 | P4: 4160 | Q4: 388 | R4: 551 | S4: 1425 | T4: 0 | U4: 20 | V4: 1810 | W4: 2819 | X4: 5473 | Y4: 4951 | Z4: 4875 | AA4: 4210 | AB4: 2362 | AC4: 0 | AD4: 1492 | AE4: 0 | AF4: 0 | AG4: 1688 | AH4: 1181 | AI4: 3179 | AJ4: 5346 | AK4: 5452 | AL4: 1866 | AM4: 2945
A5: Italy | B5: Apulia | C5: 41.00164 | D5: 16.73378 | E5: =E4 -> 42634 | F5: =SUM(AE5:AP5) -> 10137 | G5: 12 | H5: 68 | I5: 0 | J5: 27 | K5: 431 | L5: 5446 | M5: 3030 | N5: 3620 | O5: 2684 | P5: 241 | Q5: 1103 | R5: 903 | S5: 43 | T5: 56 | U5: 37 | V5: 1028 | W5: 1590 | X5: 1412 | Y5: 2719 | Z5: 1878 | AA5: 727 | AB5: 1092 | AC5: 5 | AD5: 603 | AE5: 452 | AF5: 0 | AG5: 23 | AH5: 604 | AI5: 2404 | AJ5: 2987 | AK5: 46 | AL5: 2077 | AM5: 1544
A6: Italy | B6: Sicily | C6: 37.75 | D6: 14.25 | E6: =E5 -> 42634 | F6: =SUM(AE6:AP6) -> 89182 | G6: 2135 | H6: 3267 | I6: 5309 | J6: 15272 | K6: 13975 | L6: 16154 | M6: 14646 | N6: 11215 | O6: 14350 | P6: 10839 | Q6: 7799 | R6: 5278 | S6: 2060 | T6: 3973 | U6: 2226 | V6: 12602 | W6: 13992 | X6: 15110 | Y6: 15102 | Z6: 14440 | AA6: 10184 | AB6: 4735 | AC6: 3160 | AD6: 7125 | AE6: 4707 | AF6: 3828 | AG6: 7272 | AH6: 6565 | AI6: 12917 | AJ6: 12543 | AK6: 16661 | AL6: 15768 | AM6: 8921
A7: Italy | B7: Sardinia | C7: 40 | D7: 9 | E7: =E6 -> 42634 | F7: =SUM(AE7:AP7) -> 5816 | G7: 0 | H7: 0 | I7: 4 | J7: 0 | K7: 0 | L7: 19 | M7: 0 | N7: 88 | O7: 11 | P7: 37 | Q7: 5 | R7: 0 | S7: 0 | T7: 0 | U7: 0 | V7: 82 | W7: 1120 | X7: 421 | Y7: 414 | Z7: 1416 | AA7: 801 | AB7: 727 | AC7: 53 | AD7: 417 | AE7: 114 | AF7: 0 | AG7: 693 | AH7: 256 | AI7: 409 | AJ7: 1370 | AK7: 1264 | AL7: 778 | AM7: 932
A8: Italy | B8: Campania | C8: 40.9106 | D8: 14.9205 | E8: =E7 -> 42634 | F8: =SUM(AE8:AP8) -> 3417 | G8: 0 | H8: 0 | I8: 0 | J8: 0 | K8: 0 | L8: 0 | M8: 3168 | N8: 3441 | O8: 2742 | P8: 0 | Q8: 0 | R8: 0 | S8: 0 | T8: 325 | U8: 0 | V8: 541 | W8: 1215 | X8: 475 | Y8: 0 | Z8: 0 | AA8: 0 | AB8: 0 | AC8: 0 | AD8: 0 | AE8: 0 | AF8: 0 | AG8: 0 | AH8: 543 | AI8: 1016 | AJ8: 0 | AK8: 0 | AL8: 810 | AM8: 1048
A9: Italy | B9: Liguria | C9: 44.5 | D9: 8.83333 | E9: =E8 -> 42634 | F9: =SUM(AE9:AP9) -> 0 | G9: 0 | H9: 0 | I9: 0 | J9: 0 | K9: 0 | L9: 0 | M9: 106 | N9: 2 | O9: 0 | P9: 0 | Q9: 0 | R9: 0 | S9: 0 | T9: 0 | U9: 0 | V9: 0 | W9: 499 | X9: 0 | Y9: 0 | Z9: 0 | AA9: 0 | AB9: 0 | AC9: 0 | AD9: 0 | AE9: 0 | AF9: 0 | AG9: 0 | AH9: 0 | AI9: 0 | AJ9: 0 | AK9: 0 | AL9: 0 | AM9: 0
A10: Spain | B10: Mainland Andalucia | C10: 40.4169 | D10: -3.7036 | E10: 42582 | F10: =SUM(AE10:AP10) -> 3169 | G10: 80 | H10: 8 | I10: 158 | J10: 108 | K10: 236 | L10: 222 | M10: 222 | N10: 1698 | O10: 380 | P10: 334 | Q10: 203 | R10: 283 | S10: 222 | T10: 44 | U10: 254 | V10: 219 | W10: 352 | X10: 291 | Y10: 241 | Z10: 342 | AA10: 374 | AB10: 535 | AC10: 364 | AD10: 226 | AE10: 378 | AF10: 145 | AG10: 156 | AH10: 423 | AI10: 454 | AJ10: 553 | AK10: 355 | AL10: 705
A11: Spain | B11: Ceuta | C11: 35.8903 | D11: -5.3075 | E11: =E10 -> 42582 | F11: =SUM(AE11:AP11) -> 362 | G11: 4 | H11: 10 | I11: 0 | J11: 26 | K11: 89 | L11: 0 | M11: 42 | N11: 7 | O11: 0 | P11: 7 | Q11: 8 | R11: 0 | S11: 0 | T11: 0 | U11: 0 | V11: 17 | W11: 74 | X11: 77 | Y11: 3 | Z11: 22 | AA11: 70 | AB11: 184 | AC11: 109 | AD11: 75 | AE11: 69 | AF11: 35 | AG11: 120 | AH11: 26 | AI11: 12 | AJ11: 55 | AK11: 45 | AL11: 0
A12: Spain | B12: Melilla | C12: 35.29369 | D12: -2.93833 | E12: =E11 -> 42582 | F12: =SUM(AE12:AP12) -> 35 | G12: 60 | H12: 15 | I12: 74 | J12: 14 | K12: 0 | L12: 24 | M12: 0 | N12: 0 | O12: 0 | P12: 0 | Q12: 0 | R12: 36 | S12: 0 | T12: 0 | U12: 0 | V12: 0 | W12: 0 | X12: 0 | Y12: 0 | Z12: 0 | AA12: 6 | AB12: 0 | AC12: 0 | AD12: 7 | AE12: 0 | AF12: 0 | AG12: 0 | AH12: 0 | AI12: 0 | AJ12: 34 | AK12: 1 | AL12: 0
A13: Spain | B13: Mainland Eastern Mediterranean | C13: 38.345278 | D13: -0.483056 | E13: =E12 -> 42582 | F13: =SUM(AE13:AP13) -> 239 | G13: 0 | H13: 0 | I13: 0 | J13: 0 | K13: 0 | L13: 0 | M13: 0 | N13: 0 | O13: 0 | P13: 0 | Q13: 0 | R13: 0 | S13: 19 | T13: 0 | U13: 13 | V13: 4 | W13: 12 | X13: 9 | Y13: 102 | Z13: 21 | AA13: 9 | AB13: 76 | AC13: 35 | AD13: 0 | AE13: 0 | AF13: 0 | AG13: 0 | AH13: 0 | AI13: 0 | AJ13: 16 | AK13: 57 | AL13: 166
A14: Greece | B14: Lesvos | C14: 39.20353 | D14: 26.27655 | E14: 42634 | F14: =SUM(AE14:AP14) -> 94271 | G14: 290 | H14: 413 | I14: 555 | J14: 620 | K14: 461 | L14: 824 | M14: 873 | N14: 1064 | O14: 1778 | P14: 2072 | Q14: 959 | R14: 802 | S14: 742 | T14: 1039 | U14: 3403 | V14: 5440 | W14: 8025 | X14: 16624 | Y14: 26054 | Z14: 51592 | AA14: 89690 | AB14: 135063 | AC14: 103409 | AD14: 65838 | AE14: 42601 | AF14: 31416 | AG14: 14155 | AH14: 1643 | AI14: 525 | AJ14: 490 | AK14: 1115 | AL14: 1501 | AM14: 825
A15: Greece | B15: Kos | C15: 36.83333 | D15: 27.16667 | E15: 42634 | F15: =SUM(AE15:AP15) -> 5015 | G15: 154 | H15: 53 | I15: 49 | J15: 90 | K15: 29 | L15: 45 | M15: 128 | N15: 260 | O15: 807 | P15: 666 | Q15: 624 | R15: 341 | S15: 325 | T15: 502 | U15: 885 | V15: 2278 | W15: 3072 | X15: 3362 | Y15: 7187 | Z15: 16535 | AA15: 6603 | AB15: 8045 | AC15: 6025 | AD15: 3684 | AE15: 2165 | AF15: 1152 | AG15: 424 | AH15: 151 | AI15: 53 | AJ15: 119 | AK15: 245 | AL15: 346 | AM15: 360
A16: Greece | B16: Chios | C16: 38.40583 | D16: 26.02444 | E16: 42634 | F16: =SUM(AE16:AP16) -> 38740 | G16: 91 | H16: 98 | I16: 189 | J16: 153 | K16: 0 | L16: 458 | M16: 739 | N16: 1332 | O16: 1352 | P16: 1360 | Q16: 356 | R16: 259 | S16: 226 | T16: 477 | U16: 851 | V16: 2383 | W16: 3477 | X16: 5419 | Y16: 9066 | Z16: 10774 | AA16: 14745 | AB16: 28104 | AC16: 23416 | AD16: 21618 | AE16: 12807 | AF16: 13931 | AG16: 8330 | AH16: 1145 | AI16: 420 | AJ16: 353 | AK16: 255 | AL16: 896 | AM16: 603
A17: Greece | B17: Samos | C17: 37.75 | D17: 26.8 | E17: 42634 | F17: =SUM(AE17:AP17) -> 12251 | G17: 286 | H17: 287 | I17: 220 | J17: 193 | K17: 25 | L17: 534 | M17: 976 | N17: 1110 | O17: 1125 | P17: 885 | Q17: 303 | R17: 242 | S17: 166 | T17: 301 | U17: 891 | V17: 859 | W17: 1063 | X17: 1706 | Y17: 6033 | Z17: 14006 | AA17: 17999 | AB17: 16456 | AC17: 6926 | AD17: 6728 | AE17: 4087 | AF17: 4230 | AG17: 2331 | AH17: 484 | AI17: 248 | AJ17: 384 | AK17: 62 | AL17: 127 | AM17: 298
A18: Greece | B18: Leros | C18: 37.14667 | D18: 26.8425 | E18: 42634 | F18: =SUM(AE18:AP18) -> 8678 | G18: 0 | H18: 0 | I18: 0 | J18: 0 | K18: 56 | L18: 126 | M18: 172 | N18: 586 | O18: 433 | P18: 576 | Q18: 454 | R18: 74 | S18: 0 | T18: 62 | U18: 32 | V18: 99 | W18: 692 | X18: 1459 | Y18: 1776 | Z18: 5116 | AA18: 1036 | AB18: 10932 | AC18: 4406 | AD18: 6008 | AE18: 3729 | AF18: 3777 | AG18: 732 | AH18: 44 | AI18: 43 | AJ18: 93 | AK18: 102 | AL18: 114 | AM18: 44
A19: Greece | B19: Symi | C19: 36.61246 | D19: 27.8378 | E19: 42634 | F19: =SUM(AE19:AP19) -> 43 | G19: 63 | H19: 18 | I19: 38 | J19: 80 | K19: 0 | L19: 255 | M19: 201 | N19: 544 | O19: 326 | P19: 636 | Q19: 164 | R19: 65 | S19: 25 | T19: 12 | U19: 483 | V19: 618 | W19: 151 | X19: 246 | Y19: 337 | Z19: 1342 | AA19: 472 | AB19: 176 | AC19: 103 | AD19: 19 | AE19: 28 | AF19: 7 | AG19: 8 | AH19: 0 | AI19: 0 | AJ19: 0 | AL19: 0 | AM19: 0
A20: Greece | B20: Agathonisi | C20: 37.46231 | D20: 26.96804 | E20: 42634 | F20: =SUM(AE20:AP20) -> 1243 | G20: 0 | H20: 0 | I20: 0 | J20: 0 | K20: 0 | L20: 36 | M20: 0 | N20: 488 | O20: 390 | P20: 288 | Q20: 146 | R20: 0 | S20: 0 | T20: 76 | U20: 202 | V20: 459 | W20: 671 | X20: 1093 | Y20: 1075 | Z20: 4270 | AA20: 7442 | AB20: 9711 | AC20: 3831 | AD20: 2396 | AE20: 632 | AF20: 326 | AG20: 285 | AH20: 0 | AI20: 0 | AJ20: 0 | AL20: 0 | AM20: 0
A21: Greece | B21: Kalymnos | C21: 36.97582 | D21: 26.98105 | E21: 42634 | F21: =SUM(AE21:AP21) -> 690 | G21: 0 | H21: 75 | I21: 12 | J21: 29 | K21: 4 | L21: 108 | M21: 258 | N21: 349 | O21: 230 | P21: 157 | Q21: 138 | R21: 94 | S21: 52 | T21: 28 | U21: 181 | V21: 131 | W21: 157 | X21: 265 | Y21: 1436 | Z21: 2493 | AA21: 1745 | AB21: 1343 | AC21: 1096 | AD21: 999 | AE21: 280 | AF21: 67 | AG21: 29 | AH21: 15 | AI21: 0 | AJ21: 0 | AK21: 14 | AL21: 232 | AM21: 53
A22: Greece | B22: Tilos | C22: 36.42444 | D22: 27.37417 | E22: 42634 | F22: =SUM(AE22:AP22) -> 0 | G22: 0 | H22: 0 | I22: 0 | J22: 0 | K22: 0 | L22: 43 | M22: 260 | N22: 428 | O22: 415 | P22: 338 | Q22: 22 | R22: 80 | S22: 55 | T22: 0 | U22: 0 | V22: 77 | W22: 0 | X22: 47 | Y22: 280 | Z22: 246 | AA22: 0 | AB22: 66 | AC22: 105 | AH22: 0 | AI22: 0 | AJ22: 0 | AL22: 0 | AM22: 0
A23: Greece | B23: Crete | C23: 35.15585 | D23: 24.89502 | E23: 42634 | F23: =SUM(AE23:AP23) -> 176 | G23: 0 | H23: 0 | I23: 345 | J23: 0 | K23: 147 | L23: 0 | M23: 0 | N23: 0 | O23: 28 | P23: 0 | Q23: 51 | R23: 0 | S23: 0 | T23: 0 | U23: 0 | V23: 0 | W23: 186 | X23: 261 | Y23: 212 | Z23: 235 | AA23: 0 | AB23: 2 | AC23: 0 | AH23: 0 | AI23: 176 | AJ23: 0 | AL23: 0 | AM23: 0
A24: Greece | B24: Others | E24: 42634 | F24: =SUM(AE24:AP24) -> 1333 | G24: 71 | H24: 57 | I24: 93 | J24: 92 | K24: 981 | L24: 769 | M24: 320 | N24: 581 | O24: 570 | P24: 454 | Q24: 595 | R24: 99 | S24: 88 | T24: 362 | U24: 883 | V24: 1193 | W24: 368 | X24: 770 | Y24: 1271 | Z24: 821 | AA24: 6806 | AB24: 439 | AC24: 278 | AD24: 98 | AE24: 150 | AF24: 179 | AG24: 68 | AH24: 121 | AI24: 256 | AJ24: 115 | AK24: 110 | AL24: 205 | AM24: 129
A25: Greece | B25: Evros | E25: 42634 | F25: =SUM(AE25:AP25) -> 0 | G25: 0 | H25: 0 | I25: 0 | J25: 0 | K25: 0 | L25: 0 | M25: 0 | N25: 0 | O25: 0 | P25: 0 | Q25: 0 | R25: 0 | S25: 0 | T25: 0 | U25: 0 | V25: 0 | W25: 0 | X25: 0 | Y25: 0 | Z25: 0 | AA25: 0 | AB25: 0 | AC25: 0 | AD25: 0 | AH25: 0 | AI25: 0 | AJ25: 0 | AL25: 0 | AM25: 0
A26: Greece | B26: Kastellorizo | C26: 36.1435 | D26: 29.5829 | E26: 42634 | F26: =SUM(AE26:AP26) -> 3630 | S26: 15 | T26: 14 | U26: 63 | V26: 19 | W26: 27 | X26: 66 | Y26: 172 | Z26: 413 | AA26: 585 | AB26: 1326 | AC26: 1654 | AD26: 1354 | AE26: 936 | AF26: 1981 | AG26: 609 | AH26: 47 | AI26: 0 | AJ26: 0 | AK26: 17 | AL26: 26 | AM26: 14
F30: Total Sea Arrivals (Jan-15 to Aug-15): | S30: =SUM(S4:Z26) -> 356433
F31: Total Sea Arrivals (Jan-16 to Aug-16): | S31: =SUM(AE4:AL26) -> 282368
F32: % Diff. (Jan-Aug 2016 compared to Jan-Aug 2015) | S32: =(S31-S30)/S30 -> -0.20779501

Sheet ESRI_MAPINFO_SHEET
